BEGIN:VCALENDAR
VERSION:2.0
PRODID:-//Pickaway County Visitors Bureau - ECPv6.15.20//NONSGML v1.0//EN
CALSCALE:GREGORIAN
METHOD:PUBLISH
X-WR-CALNAME:Pickaway County Visitors Bureau
X-ORIGINAL-URL:https://pickaway.com
X-WR-CALDESC:Events for Pickaway County Visitors Bureau
REFRESH-INTERVAL;VALUE=DURATION:PT1H
X-Robots-Tag:noindex
X-PUBLISHED-TTL:PT1H
BEGIN:VTIMEZONE
TZID:America/New_York
BEGIN:DAYLIGHT
TZOFFSETFROM:-0500
TZOFFSETTO:-0400
TZNAME:EDT
DTSTART:20250309T070000
END:DAYLIGHT
BEGIN:STANDARD
TZOFFSETFROM:-0400
TZOFFSETTO:-0500
TZNAME:EST
DTSTART:20251102T060000
END:STANDARD
BEGIN:DAYLIGHT
TZOFFSETFROM:-0500
TZOFFSETTO:-0400
TZNAME:EDT
DTSTART:20260308T070000
END:DAYLIGHT
BEGIN:STANDARD
TZOFFSETFROM:-0400
TZOFFSETTO:-0500
TZNAME:EST
DTSTART:20261101T060000
END:STANDARD
BEGIN:DAYLIGHT
TZOFFSETFROM:-0500
TZOFFSETTO:-0400
TZNAME:EDT
DTSTART:20270314T070000
END:DAYLIGHT
BEGIN:STANDARD
TZOFFSETFROM:-0400
TZOFFSETTO:-0500
TZNAME:EST
DTSTART:20271107T060000
END:STANDARD
END:VTIMEZONE
BEGIN:VEVENT
DTSTART;TZID=America/New_York:20260930T170000
DTEND;TZID=America/New_York:20260930T213000
DTSTAMP:20260422T055329
CREATED:20240307T145234Z
LAST-MODIFIED:20240307T145234Z
UID:10001183-1790787600-1790803800@pickaway.com
SUMMARY:Bingo: Logan Elm Athletics Boosters
DESCRIPTION:Bingo on Wednesday Nights at Circleville AMVETS doors open at 5:00pm.\nBingo starts at 7:00pm.\n818 Tarlton Road\nCircleville\, Ohio 43113\nAll proceeds support funding for Athletic Uniforms\, safety & training Equipment\, and facilities within the Logan Elm School District.
URL:https://pickaway.com/event/bingo-logan-elm-athletics-boosters/2026-09-30/
LOCATION:AMVETS Post 2256\, 818 Tarlton Rd\, Circleville\, OH\, 43113
CATEGORIES:Community,Hobbies,Miscellaneous
ATTACH;FMTTYPE=image/png:https://pickaway.com/wp-content/uploads/2024/03/Untitled-design-2024-03-07T095159.688.png
END:VEVENT
BEGIN:VEVENT
DTSTART;TZID=America/New_York:20261001T130000
DTEND;TZID=America/New_York:20261001T140000
DTSTAMP:20260422T055329
CREATED:20260302T192928Z
LAST-MODIFIED:20260302T192928Z
UID:10003479-1790859600-1790863200@pickaway.com
SUMMARY:Tai Chi at the Senior Center
DESCRIPTION:This program uses Sun Style Tai Chi forms to: improve physical and mental balance\, increase flexibility\, decrease arthritis pain\, and help prevent falls. Tai Chi for Beginners can be done seated or standing and we will practice both during class.
URL:https://pickaway.com/event/tai-chi-at-the-senior-center/2026-10-01/
LOCATION:Pickaway Senior Center\, 2105 Chickasaw Dr\, Circleville\, OH\, 43113\, United States
CATEGORIES:Community,Miscellaneous
ATTACH;FMTTYPE=image/png:https://pickaway.com/wp-content/uploads/2026/03/Senior-Center-Tai-Chi.png
ORGANIZER;CN="Pickaway Senior Center":MAILTO:noreply@facebookmail.com
END:VEVENT
BEGIN:VEVENT
DTSTART;VALUE=DATE:20261003
DTEND;VALUE=DATE:20261004
DTSTAMP:20260422T055329
CREATED:20260121T172254Z
LAST-MODIFIED:20260121T172254Z
UID:10003207-1790985600-1791071999@pickaway.com
SUMMARY:Kidspalooza
DESCRIPTION:Save the date for Kidspalooza\, a family-friendly community event featuring a car show\, live music\, a big wheel race\, and plenty of fun for all ages. This event supports our community and brings families together for a day of activities and entertainment. More details coming soon.
URL:https://pickaway.com/event/kidspalooza-2/
LOCATION:103 West Main Street Circleville\, 103 West Main Street\, Circleville\, OH\, 43113\, United States
CATEGORIES:Community,Children and Family Fun
ATTACH;FMTTYPE=image/jpeg:https://pickaway.com/wp-content/uploads/2023/04/Car-Show.jpg
END:VEVENT
BEGIN:VEVENT
DTSTART;TZID=America/New_York:20261003T120000
DTEND;TZID=America/New_York:20261003T140000
DTSTAMP:20260422T055329
CREATED:20260319T150632Z
LAST-MODIFIED:20260319T150632Z
UID:10003622-1791028800-1791036000@pickaway.com
SUMMARY:Commercial Point Halloween Fest
DESCRIPTION:Get into the Halloween spirit at Commercial Point’s Halloween Fest with family-friendly activities and seasonal fun in Pickaway County.
URL:https://pickaway.com/event/commercial-point-halloween-fest/
LOCATION:10 West Scioto St. Commercial Point\, 10 West Scioto Street\, Commercial Point\, 43116\, United States
CATEGORIES:Community,Hobbies,Children and Family Fun
ATTACH;FMTTYPE=image/jpeg:https://pickaway.com/wp-content/uploads/2022/09/istockphoto-1039329616-612x612-1.jpg
END:VEVENT
BEGIN:VEVENT
DTSTART;TZID=America/New_York:20261003T190000
DTEND;TZID=America/New_York:20261003T233000
DTSTAMP:20260422T055329
CREATED:20251222T143207Z
LAST-MODIFIED:20251222T145226Z
UID:10003113-1791054000-1791070200@pickaway.com
SUMMARY:Self-Guided Flashlight Tours at the Gregg-Crites Octagon House
DESCRIPTION:Experience the Gregg-Crites Octagon House after dark during self-guided flashlight tours. \nGuests are invited to bring their own flashlights and explore the historic home at their own pace. Meet members of the Roundtown Conservancy and FYNDING Paranormal\, ask questions\, and learn more about the history and mysteries surrounding Circleville’s second-oldest historic landmark. \nPricing:$10 per person at the doorChildren 12 and under are free \nNotes:This is a self-guided experience. Flashlights are required.
URL:https://pickaway.com/event/self-guided-flashlight-tours-at-the-gregg-crites-octagon-house/2026-10-03/
LOCATION:Octagon House\, 440 Crites Road\, Circleville\, 43113\, United States
CATEGORIES:Tours & Experiences,Community
ATTACH;FMTTYPE=image/jpeg:https://pickaway.com/wp-content/uploads/2023/09/Front-of-Octagon-Fall-2016-1024x576-1.jpg
END:VEVENT
END:VCALENDAR