BEGIN:VCALENDAR
VERSION:2.0
PRODID:-//Pickaway County Visitors Bureau - ECPv6.15.20//NONSGML v1.0//EN
CALSCALE:GREGORIAN
METHOD:PUBLISH
X-WR-CALNAME:Pickaway County Visitors Bureau
X-ORIGINAL-URL:https://pickaway.com
X-WR-CALDESC:Events for Pickaway County Visitors Bureau
REFRESH-INTERVAL;VALUE=DURATION:PT1H
X-Robots-Tag:noindex
X-PUBLISHED-TTL:PT1H
BEGIN:VTIMEZONE
TZID:America/New_York
BEGIN:DAYLIGHT
TZOFFSETFROM:-0500
TZOFFSETTO:-0400
TZNAME:EDT
DTSTART:20250309T070000
END:DAYLIGHT
BEGIN:STANDARD
TZOFFSETFROM:-0400
TZOFFSETTO:-0500
TZNAME:EST
DTSTART:20251102T060000
END:STANDARD
BEGIN:DAYLIGHT
TZOFFSETFROM:-0500
TZOFFSETTO:-0400
TZNAME:EDT
DTSTART:20260308T070000
END:DAYLIGHT
BEGIN:STANDARD
TZOFFSETFROM:-0400
TZOFFSETTO:-0500
TZNAME:EST
DTSTART:20261101T060000
END:STANDARD
BEGIN:DAYLIGHT
TZOFFSETFROM:-0500
TZOFFSETTO:-0400
TZNAME:EDT
DTSTART:20270314T070000
END:DAYLIGHT
BEGIN:STANDARD
TZOFFSETFROM:-0400
TZOFFSETTO:-0500
TZNAME:EST
DTSTART:20271107T060000
END:STANDARD
END:VTIMEZONE
BEGIN:VEVENT
DTSTART;TZID=America/New_York:20260826T170000
DTEND;TZID=America/New_York:20260826T213000
DTSTAMP:20260422T032531
CREATED:20240307T145234Z
LAST-MODIFIED:20240307T145234Z
UID:10001178-1787763600-1787779800@pickaway.com
SUMMARY:Bingo: Logan Elm Athletics Boosters
DESCRIPTION:Bingo on Wednesday Nights at Circleville AMVETS doors open at 5:00pm.\nBingo starts at 7:00pm.\n818 Tarlton Road\nCircleville\, Ohio 43113\nAll proceeds support funding for Athletic Uniforms\, safety & training Equipment\, and facilities within the Logan Elm School District.
URL:https://pickaway.com/event/bingo-logan-elm-athletics-boosters/2026-08-26/
LOCATION:AMVETS Post 2256\, 818 Tarlton Rd\, Circleville\, OH\, 43113
CATEGORIES:Community,Hobbies,Miscellaneous
ATTACH;FMTTYPE=image/png:https://pickaway.com/wp-content/uploads/2024/03/Untitled-design-2024-03-07T095159.688.png
END:VEVENT
BEGIN:VEVENT
DTSTART;TZID=America/New_York:20260827T130000
DTEND;TZID=America/New_York:20260827T140000
DTSTAMP:20260422T032531
CREATED:20260302T192928Z
LAST-MODIFIED:20260302T192928Z
UID:10003474-1787835600-1787839200@pickaway.com
SUMMARY:Tai Chi at the Senior Center
DESCRIPTION:This program uses Sun Style Tai Chi forms to: improve physical and mental balance\, increase flexibility\, decrease arthritis pain\, and help prevent falls. Tai Chi for Beginners can be done seated or standing and we will practice both during class.
URL:https://pickaway.com/event/tai-chi-at-the-senior-center/2026-08-27/
LOCATION:Pickaway Senior Center\, 2105 Chickasaw Dr\, Circleville\, OH\, 43113\, United States
CATEGORIES:Community,Miscellaneous
ATTACH;FMTTYPE=image/png:https://pickaway.com/wp-content/uploads/2026/03/Senior-Center-Tai-Chi.png
ORGANIZER;CN="Pickaway Senior Center":MAILTO:noreply@facebookmail.com
END:VEVENT
BEGIN:VEVENT
DTSTART;TZID=America/New_York:20260827T170000
DTEND;TZID=America/New_York:20260827T200000
DTSTAMP:20260422T032531
CREATED:20260218T204219Z
LAST-MODIFIED:20260218T204219Z
UID:10003301-1787850000-1787860800@pickaway.com
SUMMARY:2026 Uptown Circleville Farmers Market
DESCRIPTION:Experience the Uptown Circleville Farmers Market\, held the 4th Thursday of each month from April through September\, 5–8 PM. Featuring local vendors\, food trucks\, and live entertainment\, it’s the perfect way to explore Uptown and support local businesses.
URL:https://pickaway.com/event/2026-uptown-circleville-farmers-market/2026-08-27/
LOCATION:JoyHouse Coffee\, 202 North Pickaway Street\, Circleville\, OH\, 43113\, United States
CATEGORIES:Downtown Circleville,Community
ATTACH;FMTTYPE=image/png:https://pickaway.com/wp-content/uploads/2024/04/Untitled-design-88.png
END:VEVENT
BEGIN:VEVENT
DTSTART;TZID=America/New_York:20260829T190000
DTEND;TZID=America/New_York:20260829T230000
DTSTAMP:20260422T032531
CREATED:20251230T160806Z
LAST-MODIFIED:20251230T160806Z
UID:10003155-1788030000-1788044400@pickaway.com
SUMMARY:Boogie on the Blacktop
DESCRIPTION:Boogie on the Blacktop is a seasonal outdoor concert series in downtown Circleville\, Ohio\, bringing live music\, community\, and summer nights together. Presented by the Circleville Eagles #685\, the series features a rotating lineup of bands and a relaxed\, welcoming atmosphere for all ages. \nConcerts take place on select Fridays from May through September. Gates open at 6:00 PM\, with live music from 7:00 PM to 11:00 PM. Guests are encouraged to bring a lawn chair and enjoy an evening of live entertainment in the heart of Pickaway County. \n2026 Boogie on the Blacktop Lineup\n\n\nMay 30\, 2026 – Rockhouse \n\n\nJune 27\, 2026 – Trailer Park Boys \n\n\nJuly 18\, 2026 – Dan Orr Project \n\n\nAugust 29\, 2026 – Radio City \n\n\nSeptember 26\, 2026 – Gypsy Kyngs \n\n\nAdmission is $5 per person\, children under 11 are free\, and all events are open to the public. Guests 17 and under must be accompanied by an adult. No outside food or drink is permitted.
URL:https://pickaway.com/event/boogie-on-the-blacktop/2026-08-29/
LOCATION:Circleville Eagles\, 135 E Main Street\, Circleville\, OH\, 43113\, United States
CATEGORIES:Entertainment and Arts,Community
ATTACH;FMTTYPE=image/png:https://pickaway.com/wp-content/uploads/2025/03/Rock-Music.png
END:VEVENT
END:VCALENDAR