BEGIN:VCALENDAR
VERSION:2.0
PRODID:-//Pickaway County Visitors Bureau - ECPv6.15.20//NONSGML v1.0//EN
CALSCALE:GREGORIAN
METHOD:PUBLISH
X-WR-CALNAME:Pickaway County Visitors Bureau
X-ORIGINAL-URL:https://pickaway.com
X-WR-CALDESC:Events for Pickaway County Visitors Bureau
REFRESH-INTERVAL;VALUE=DURATION:PT1H
X-Robots-Tag:noindex
X-PUBLISHED-TTL:PT1H
BEGIN:VTIMEZONE
TZID:America/New_York
BEGIN:DAYLIGHT
TZOFFSETFROM:-0500
TZOFFSETTO:-0400
TZNAME:EDT
DTSTART:20250309T070000
END:DAYLIGHT
BEGIN:STANDARD
TZOFFSETFROM:-0400
TZOFFSETTO:-0500
TZNAME:EST
DTSTART:20251102T060000
END:STANDARD
BEGIN:DAYLIGHT
TZOFFSETFROM:-0500
TZOFFSETTO:-0400
TZNAME:EDT
DTSTART:20260308T070000
END:DAYLIGHT
BEGIN:STANDARD
TZOFFSETFROM:-0400
TZOFFSETTO:-0500
TZNAME:EST
DTSTART:20261101T060000
END:STANDARD
BEGIN:DAYLIGHT
TZOFFSETFROM:-0500
TZOFFSETTO:-0400
TZNAME:EDT
DTSTART:20270314T070000
END:DAYLIGHT
BEGIN:STANDARD
TZOFFSETFROM:-0400
TZOFFSETTO:-0500
TZNAME:EST
DTSTART:20271107T060000
END:STANDARD
END:VTIMEZONE
BEGIN:VEVENT
DTSTART;TZID=America/New_York:20260819T170000
DTEND;TZID=America/New_York:20260819T213000
DTSTAMP:20260422T022245
CREATED:20240307T145234Z
LAST-MODIFIED:20240307T145234Z
UID:10001177-1787158800-1787175000@pickaway.com
SUMMARY:Bingo: Logan Elm Athletics Boosters
DESCRIPTION:Bingo on Wednesday Nights at Circleville AMVETS doors open at 5:00pm.\nBingo starts at 7:00pm.\n818 Tarlton Road\nCircleville\, Ohio 43113\nAll proceeds support funding for Athletic Uniforms\, safety & training Equipment\, and facilities within the Logan Elm School District.
URL:https://pickaway.com/event/bingo-logan-elm-athletics-boosters/2026-08-19/
LOCATION:AMVETS Post 2256\, 818 Tarlton Rd\, Circleville\, OH\, 43113
CATEGORIES:Community,Hobbies,Miscellaneous
ATTACH;FMTTYPE=image/png:https://pickaway.com/wp-content/uploads/2024/03/Untitled-design-2024-03-07T095159.688.png
END:VEVENT
BEGIN:VEVENT
DTSTART;TZID=America/New_York:20260820T130000
DTEND;TZID=America/New_York:20260820T140000
DTSTAMP:20260422T022245
CREATED:20260302T192928Z
LAST-MODIFIED:20260302T192928Z
UID:10003473-1787230800-1787234400@pickaway.com
SUMMARY:Tai Chi at the Senior Center
DESCRIPTION:This program uses Sun Style Tai Chi forms to: improve physical and mental balance\, increase flexibility\, decrease arthritis pain\, and help prevent falls. Tai Chi for Beginners can be done seated or standing and we will practice both during class.
URL:https://pickaway.com/event/tai-chi-at-the-senior-center/2026-08-20/
LOCATION:Pickaway Senior Center\, 2105 Chickasaw Dr\, Circleville\, OH\, 43113\, United States
CATEGORIES:Community,Miscellaneous
ATTACH;FMTTYPE=image/png:https://pickaway.com/wp-content/uploads/2026/03/Senior-Center-Tai-Chi.png
ORGANIZER;CN="Pickaway Senior Center":MAILTO:noreply@facebookmail.com
END:VEVENT
BEGIN:VEVENT
DTSTART;TZID=America/New_York:20260822T090000
DTEND;TZID=America/New_York:20260822T120000
DTSTAMP:20260422T022245
CREATED:20260107T151949Z
LAST-MODIFIED:20260107T151949Z
UID:10003190-1787389200-1787400000@pickaway.com
SUMMARY:Ashville Community Market 2026
DESCRIPTION:The Ashville Community Market returns for the 2026 season\, bringing together local vendors\, fresh produce\, handmade goods\, live music\, and family-friendly fun in the heart of Ashville\, Ohio. \nHeld one Friday each month from April through September\, the Ashville Community Market is a welcoming outdoor market where visitors can shop local\, support small businesses\, and enjoy a relaxed community atmosphere. Each market features a rotating lineup of local musicians\, along with vendors offering produce\, arts and crafts\, baked goods\, specialty items\, and more. \nFamilies are encouraged to attend\, with activities designed to keep all ages engaged. Food trucks and special attractions add to the experience\, making each market date a little different while keeping the same small-town charm Ashville is known for. \n2026 Market Dates & Live Music Lineup\n\n\nApril 18 – Jeff Weaver \n\n\nMay 23 – Kyan Conn \n\n\nJune 20 – Jacob Brown \n\n\nJuly 18 – Campfire & Whiskey \n\n\nAugust 22 – Open / To Be Announced \n\n\nSeptember 19 – Roundtown Radio \n\n\nTime: 9:00 a.m. – NoonLocation: Ashville Park\, Ashville\, Ohio \nWhether you’re a local or visiting Pickaway County\, the Ashville Community Market is a great way to experience local flavor\, live music\, and community connection all in one place. \nVendor applications are open for the 2026 season. For details\, updates\, and vendor information\, visit ashvillecommunitymarket.org.
URL:https://pickaway.com/event/ashville-community-market-2026/2026-08-22/
LOCATION:Ashville Community Park\, 165 Walnut St\, Ashville\, OH\, 43103\, United States
CATEGORIES:Community,Hobbies
ATTACH;FMTTYPE=image/png:https://pickaway.com/wp-content/uploads/2023/04/My-project-1-82.png
END:VEVENT
BEGIN:VEVENT
DTSTART;TZID=America/New_York:20260822T170000
DTEND;TZID=America/New_York:20260822T200000
DTSTAMP:20260422T022245
CREATED:20260311T145253Z
LAST-MODIFIED:20260311T145253Z
UID:10003580-1787418000-1787428800@pickaway.com
SUMMARY:Summer Coffee Flights
DESCRIPTION: JoyHouse Summer Coffee Flights! \nJoin us this summer at JoyHouse Coffee for a relaxed evening of great coffee\, community\, and connection. Our Summer Coffee Flights are the perfect way to slow down\, enjoy the season\, and try something new. \n\nJune 13\, July 25\, August 22\, September 19. 5pm-8pm\n\nEach event will feature themed iced coffee flight drinks crafted just for the night—fun seasonal flavors served in a tasting flight so you can experience a variety of unique creations. \nBring your friends\, bring your family\, and come enjoy: \n\nLive music from local artists\nFood truck with great eats\nSpecialty themed coffee flights\nOutdoor seating to enjoy the summer evening\nFamily-friendly atmosphere\n\nWhether you’re a coffee enthusiast or just looking for a great place to gather\, this is a great chance to enjoy the JoyHouse community.
URL:https://pickaway.com/event/summer-coffee-flights/2026-08-22/
LOCATION:JoyHouse Coffee\, 202 North Pickaway Street\, Circleville\, OH\, 43113\, United States
CATEGORIES:Family Friendly,Outdoor,Entertainment and Arts,Community,Miscellaneous
ATTACH;FMTTYPE=image/jpeg:https://pickaway.com/wp-content/uploads/2026/03/Summer.jpg
END:VEVENT
BEGIN:VEVENT
DTSTART;TZID=America/New_York:20260822T190000
DTEND;TZID=America/New_York:20260822T233000
DTSTAMP:20260422T022245
CREATED:20251222T143207Z
LAST-MODIFIED:20251222T145226Z
UID:10003133-1787425200-1787441400@pickaway.com
SUMMARY:Self-Guided Flashlight Tours at the Gregg-Crites Octagon House
DESCRIPTION:Experience the Gregg-Crites Octagon House after dark during self-guided flashlight tours. \nGuests are invited to bring their own flashlights and explore the historic home at their own pace. Meet members of the Roundtown Conservancy and FYNDING Paranormal\, ask questions\, and learn more about the history and mysteries surrounding Circleville’s second-oldest historic landmark. \nPricing:$10 per person at the doorChildren 12 and under are free \nNotes:This is a self-guided experience. Flashlights are required.
URL:https://pickaway.com/event/self-guided-flashlight-tours-at-the-gregg-crites-octagon-house/2026-08-22/
LOCATION:Octagon House\, 440 Crites Road\, Circleville\, 43113\, United States
CATEGORIES:Tours & Experiences,Community
ATTACH;FMTTYPE=image/jpeg:https://pickaway.com/wp-content/uploads/2023/09/Front-of-Octagon-Fall-2016-1024x576-1.jpg
END:VEVENT
END:VCALENDAR