BEGIN:VCALENDAR
VERSION:2.0
PRODID:-//Pickaway County Visitors Bureau - ECPv6.15.20//NONSGML v1.0//EN
CALSCALE:GREGORIAN
METHOD:PUBLISH
X-ORIGINAL-URL:https://pickaway.com
X-WR-CALDESC:Events for Pickaway County Visitors Bureau
REFRESH-INTERVAL;VALUE=DURATION:PT1H
X-Robots-Tag:noindex
X-PUBLISHED-TTL:PT1H
BEGIN:VTIMEZONE
TZID:America/New_York
BEGIN:DAYLIGHT
TZOFFSETFROM:-0500
TZOFFSETTO:-0400
TZNAME:EDT
DTSTART:20250309T070000
END:DAYLIGHT
BEGIN:STANDARD
TZOFFSETFROM:-0400
TZOFFSETTO:-0500
TZNAME:EST
DTSTART:20251102T060000
END:STANDARD
BEGIN:DAYLIGHT
TZOFFSETFROM:-0500
TZOFFSETTO:-0400
TZNAME:EDT
DTSTART:20260308T070000
END:DAYLIGHT
BEGIN:STANDARD
TZOFFSETFROM:-0400
TZOFFSETTO:-0500
TZNAME:EST
DTSTART:20261101T060000
END:STANDARD
BEGIN:DAYLIGHT
TZOFFSETFROM:-0500
TZOFFSETTO:-0400
TZNAME:EDT
DTSTART:20270314T070000
END:DAYLIGHT
BEGIN:STANDARD
TZOFFSETFROM:-0400
TZOFFSETTO:-0500
TZNAME:EST
DTSTART:20271107T060000
END:STANDARD
END:VTIMEZONE
BEGIN:VEVENT
DTSTART;TZID=America/New_York:20260708T170000
DTEND;TZID=America/New_York:20260708T213000
DTSTAMP:20260422T003101
CREATED:20240307T145234Z
LAST-MODIFIED:20240307T145234Z
UID:10001171-1783530000-1783546200@pickaway.com
SUMMARY:Bingo: Logan Elm Athletics Boosters
DESCRIPTION:Bingo on Wednesday Nights at Circleville AMVETS doors open at 5:00pm.\nBingo starts at 7:00pm.\n818 Tarlton Road\nCircleville\, Ohio 43113\nAll proceeds support funding for Athletic Uniforms\, safety & training Equipment\, and facilities within the Logan Elm School District.
URL:https://pickaway.com/event/bingo-logan-elm-athletics-boosters/2026-07-08/
LOCATION:AMVETS Post 2256\, 818 Tarlton Rd\, Circleville\, OH\, 43113
CATEGORIES:Community,Hobbies,Miscellaneous
ATTACH;FMTTYPE=image/png:https://pickaway.com/wp-content/uploads/2024/03/Untitled-design-2024-03-07T095159.688.png
END:VEVENT
BEGIN:VEVENT
DTSTART;TZID=America/New_York:20260709T130000
DTEND;TZID=America/New_York:20260709T140000
DTSTAMP:20260422T003101
CREATED:20260302T192928Z
LAST-MODIFIED:20260302T192928Z
UID:10003467-1783602000-1783605600@pickaway.com
SUMMARY:Tai Chi at the Senior Center
DESCRIPTION:This program uses Sun Style Tai Chi forms to: improve physical and mental balance\, increase flexibility\, decrease arthritis pain\, and help prevent falls. Tai Chi for Beginners can be done seated or standing and we will practice both during class.
URL:https://pickaway.com/event/tai-chi-at-the-senior-center/2026-07-09/
LOCATION:Pickaway Senior Center\, 2105 Chickasaw Dr\, Circleville\, OH\, 43113\, United States
CATEGORIES:Community,Miscellaneous
ATTACH;FMTTYPE=image/png:https://pickaway.com/wp-content/uploads/2026/03/Senior-Center-Tai-Chi.png
ORGANIZER;CN="Pickaway Senior Center":MAILTO:noreply@facebookmail.com
END:VEVENT
BEGIN:VEVENT
DTSTART;TZID=America/New_York:20260709T190000
DTEND;TZID=America/New_York:20260709T200000
DTSTAMP:20260422T003101
CREATED:20260205T194258Z
LAST-MODIFIED:20260205T194348Z
UID:10003257-1783623600-1783627200@pickaway.com
SUMMARY:Sunset Walks at Darby Creek; A learn and walk
DESCRIPTION:Step out into rural Ohio Farm Country.  Enjoy a relaxed 2-mile evening walk through paths around the fields as the sun sets over Darby Creek Fields and Flowers.  Along the way\, we’ll pause to talk about the flowers\, trees\, shrubs\, and even the weeds growing throughout the landscape. This walk is part learning\, part movement\, and part time to simply enjoy the beauty of the farm at sunset. Event Cost Free! \nThis is an outdoor event\, check our social media for weather updates!
URL:https://pickaway.com/event/sunset-walks-at-darby-creek-a-learn-and-walk/2026-07-09/
LOCATION:Darby Creek Fields and Flowers\, 11500 Darby Creek Rd.\, Orient\, OH\, 43146\, United States
CATEGORIES:Nature,Family,Outdoor,Education,Community,Miscellaneous
ATTACH;FMTTYPE=image/png:https://pickaway.com/wp-content/uploads/2026/02/Sunset-walks-at-Darby-Creek-walk-and-learn-3.png
ORGANIZER;CN="Darby Creek Fields and Flowers":MAILTO:owner@darbyflowerfields.com
END:VEVENT
BEGIN:VEVENT
DTSTART;VALUE=DATE:20260710
DTEND;VALUE=DATE:20260711
DTSTAMP:20260422T003101
CREATED:20260417T161621Z
LAST-MODIFIED:20260417T161621Z
UID:10003722-1783641600-1783727999@pickaway.com
SUMMARY:Pickaway County Farm Bureau Inaugural Golf Outing
DESCRIPTION:The Pickaway County Farm Bureau is hosting its inaugural golf outing at Pickaway Golf Club in Circleville\, Ohio on July 10\, 2026. This 4-Person Best Ball Scramble is open to teams and individual golfers alike\, making it a great day out whether you’re coming with a crew or flying solo. \nTeam registration is $400. Individual golfers can register for $100. Prizes will be awarded for closest to the pin\, longest drive\, and longest putt\, with door prizes and mulligans available on the day. Lunch is included for all participants. \nRegister by credit card by calling the Pickaway County Farm Bureau at 740-474-6284\, or send a check payable to Pickaway County Farm Bureau\, 24633 U.S. Hwy 23 S\, Circleville\, Ohio 43113. \nRegistration Deadline: June 19\, 2026
URL:https://pickaway.com/event/pickaway-county-farm-bureau-inaugural-golf-outing/
LOCATION:Pickaway Golf Club\, 1399 Stoutsville Pike\, Circleville\, 43113\, United States
CATEGORIES:Community,Hobbies,Sporting Events
ATTACH;FMTTYPE=image/jpeg:https://pickaway.com/wp-content/uploads/2023/01/378718947_794585222669548_3540765727130255114_n-e1702915672422.jpg
END:VEVENT
BEGIN:VEVENT
DTSTART;TZID=America/New_York:20260710T110000
DTEND;TZID=America/New_York:20260710T123000
DTSTAMP:20260422T003101
CREATED:20260417T162303Z
LAST-MODIFIED:20260417T162303Z
UID:10003728-1783681200-1783686600@pickaway.com
SUMMARY:Friday in the Park
DESCRIPTION:Every Friday this summer\, Ted Lewis Park in Circleville\, Ohio comes alive with Friday in the Park — a free weekly community event running June 12 through July 31\, 2026\, from 11:00 AM to 12:30 PM. Each week features a different local organization or county department\, connecting residents and visitors with the resources and people that make Pickaway County a great place to live and explore. \nThis summer’s lineup includes Circleville Fire & Police Departments and PAAC\, PICCA/Head Start and Early Head Start\, Pickaway County Board of Developmental Disabilities\, Pickaway County Health Department\, YMCA/OSU Extension/Solid Waste/Soil & Water/Pickaway County Parks\, Pickaway County Library/Youth Services\, City of Circleville Utilities & Service Departments\, and Pickaway County Sheriff/Foundations 4 Youth. \nA free\, family-friendly way to spend a Friday morning and discover what Pickaway County has to offer. Ted Lewis Park is located at 443 N Court St\, Circleville\, Ohio. \nFor more information\, contact Suzanne Channell at schannell@circlevilleoh.gov or 740-477-8224.
URL:https://pickaway.com/event/friday-in-the-park-2/2026-07-10/
LOCATION:Ted Lewis Park\, 443 N Court St\, Circleville\, OH 43113\, USA
CATEGORIES:America 250,Community,Children and Family Fun
ATTACH;FMTTYPE=image/png:https://pickaway.com/wp-content/uploads/2025/05/Untitled-design-15-1.png
END:VEVENT
BEGIN:VEVENT
DTSTART;TZID=America/New_York:20260710T183000
DTEND;TZID=America/New_York:20260710T210000
DTSTAMP:20260422T003101
CREATED:20251222T150937Z
LAST-MODIFIED:20251222T150937Z
UID:10003139-1783708200-1783717200@pickaway.com
SUMMARY:South Bloomfield Summer Market
DESCRIPTION:The South Bloomfield Summer Market returns in 2026 with a series of outdoor community market nights featuring local vendors\, makers\, and family-friendly activities. \nHeld on select dates throughout the summer and early fall\, the market offers an opportunity to shop local\, support small businesses\, and enjoy a relaxed evening in the South Bloomfield community. Dates and times vary throughout the season\, including evening markets and a morning fall market. \nA special Kids Vendor Market will take place on July 24th\, highlighting youth entrepreneurs and young makers.
URL:https://pickaway.com/event/south-bloomfield-summer-market-2/2026-07-10/
LOCATION:Village of South Bloomfield\, 5000 Park Pl.\, South Bloomfield\, 43103\, United States
CATEGORIES:Community,Miscellaneous
ATTACH;FMTTYPE=image/png:https://pickaway.com/wp-content/uploads/2025/03/Untitled-design-10.png
END:VEVENT
BEGIN:VEVENT
DTSTART;TZID=America/New_York:20260710T190000
DTEND;TZID=America/New_York:20260710T200000
DTSTAMP:20260422T003101
CREATED:20260205T194258Z
LAST-MODIFIED:20260205T194348Z
UID:10003258-1783710000-1783713600@pickaway.com
SUMMARY:Sunset Walks at Darby Creek; A learn and walk
DESCRIPTION:Step out into rural Ohio Farm Country.  Enjoy a relaxed 2-mile evening walk through paths around the fields as the sun sets over Darby Creek Fields and Flowers.  Along the way\, we’ll pause to talk about the flowers\, trees\, shrubs\, and even the weeds growing throughout the landscape. This walk is part learning\, part movement\, and part time to simply enjoy the beauty of the farm at sunset. Event Cost Free! \nThis is an outdoor event\, check our social media for weather updates!
URL:https://pickaway.com/event/sunset-walks-at-darby-creek-a-learn-and-walk/2026-07-10/
LOCATION:Darby Creek Fields and Flowers\, 11500 Darby Creek Rd.\, Orient\, OH\, 43146\, United States
CATEGORIES:Nature,Family,Outdoor,Education,Community,Miscellaneous
ATTACH;FMTTYPE=image/png:https://pickaway.com/wp-content/uploads/2026/02/Sunset-walks-at-Darby-Creek-walk-and-learn-3.png
ORGANIZER;CN="Darby Creek Fields and Flowers":MAILTO:owner@darbyflowerfields.com
END:VEVENT
BEGIN:VEVENT
DTSTART;TZID=America/New_York:20260710T193000
DTEND;TZID=America/New_York:20260710T220000
DTSTAMP:20260422T003101
CREATED:20260417T162721Z
LAST-MODIFIED:20260417T162721Z
UID:10003733-1783711800-1783720800@pickaway.com
SUMMARY:2026 Summer Movie Series at Ted Lewis Park
DESCRIPTION:Looking for free things to do in Circleville\, Ohio this summer? The 2026 Summer Movie Series at Ted Lewis Park is back and better than ever! Grab a blanket\, pull up a lawn chair\, and settle in for a free outdoor movie under the stars in the heart of Pickaway County. Movies begin at dark — just show up and enjoy. \n\n\n\n\nThis summer’s lineup has something for everyone: \n\nJune 12 — Zootopia 2 | Sponsored by Bojangles\nJuly 10 — Out of My Mind | Sponsored by Pickaway County Board of Developmental Disabilities\nAugust 14 — Jumanji | Sponsored by Foundations 4 Youth\nSeptember 11 — The Sandlot | Sponsored by Circleville Noon Rotary\n\n\n\n\n\nTed Lewis Park is one of Circleville’s favorite outdoor gathering spots\, and summer evenings there are hard to beat. Free admission\, family friendly\, and open to everyone — this is Pickaway County summer fun at its best. Bring the kids\, bring the neighbors\, and make a night of it. \n\n\n\n\nTed Lewis Park is located in Circleville\, Ohio. Movies begin at dark. No tickets required.
URL:https://pickaway.com/event/2026-summer-movie-series-at-ted-lewis-park/2026-07-10/
LOCATION:Ted Lewis Park\, 443 N Court St\, Circleville\, OH 43113\, USA
CATEGORIES:Family,America 250,Ted Lewis Park,Community,Children and Family Fun
ATTACH;FMTTYPE=image/png:https://pickaway.com/wp-content/uploads/2024/05/Untitled-design-2024-05-14T141109.955.png
ORGANIZER;CN="City of Circleville":MAILTO:hwynne@circlevilleoh.gov
END:VEVENT
BEGIN:VEVENT
DTSTART;VALUE=DATE:20260711
DTEND;VALUE=DATE:20260712
DTSTAMP:20260422T003101
CREATED:20260311T165217Z
LAST-MODIFIED:20260311T165217Z
UID:10003582-1783728000-1783814399@pickaway.com
SUMMARY:Village of Tarlton America 250 Celebration
DESCRIPTION:Save the date!  Details coming soon.
URL:https://pickaway.com/event/village-of-tarlton-america-250-celebration/
LOCATION:Tarlton\, 30 Harrison St\, Tarl\, 43113\, United States
CATEGORIES:America 250,Festivals and Special Events,Children and Family Fun
ATTACH;FMTTYPE=image/jpeg:https://pickaway.com/wp-content/uploads/2022/04/american-flag-etiquette-1558469527.jpg
END:VEVENT
BEGIN:VEVENT
DTSTART;TZID=America/New_York:20260711T090000
DTEND;TZID=America/New_York:20260711T100000
DTSTAMP:20260422T003101
CREATED:20260202T200233Z
LAST-MODIFIED:20260205T185322Z
UID:10003222-1783760400-1783764000@pickaway.com
SUMMARY:Backyard Wildflowers;  A How to Workshop
DESCRIPTION:This hands-on workshop is designed for homeowners to learn how to convert acres or areas into vibrant wildflower fields. Learn step-by-step on how to prepare your land\, select the best flowers for your area\, and manage your new meadow for lasting success. We will guide you through planting techniques\, seasonal care\, and strategies for encouraging pollinators’ wildlife and healthy soil. Event is Free! \nThis event is perfect for anyone tired of MOWING! \nThis is an outdoor event\, check our social media for weather updates! \nTo register txt “Wildflower” to 614-809-8538
URL:https://pickaway.com/event/backyard-wildflowers-a-how-to-workshop/2026-07-11/
LOCATION:Darby Creek Fields and Flowers\, 11500 Darby Creek Rd.\, Orient\, OH\, 43146\, United States
CATEGORIES:Community,Miscellaneous
ATTACH;FMTTYPE=image/png:https://pickaway.com/wp-content/uploads/2026/02/Backyard-Wildflowers_-A-How-to-Workshop-.png
ORGANIZER;CN="Darby Creek Fields and Flowers":MAILTO:owner@darbyflowerfields.com
END:VEVENT
BEGIN:VEVENT
DTSTART;TZID=America/New_York:20260711T100000
DTEND;TZID=America/New_York:20260711T130000
DTSTAMP:20260422T003101
CREATED:20260319T151259Z
LAST-MODIFIED:20260319T151259Z
UID:10003626-1783764000-1783774800@pickaway.com
SUMMARY:Commercial Point Farmers Market
DESCRIPTION:Shop local at the Commercial Point Farmers Market featuring fresh produce\, handmade goods\, and a variety of local vendors. This seasonal market is a great way to support small businesses while exploring things to do in Pickaway County\, Ohio.
URL:https://pickaway.com/event/commercial-point-farmers-market-2/2026-07-11/
LOCATION:10 West Scioto St. Commercial Point\, 10 West Scioto Street\, Commercial Point\, 43116\, United States
CATEGORIES:Community,Hobbies,Miscellaneous
ATTACH;FMTTYPE=image/jpeg:https://pickaway.com/wp-content/uploads/2023/04/Produce.jpg
END:VEVENT
BEGIN:VEVENT
DTSTART;TZID=America/New_York:20260711T100000
DTEND;TZID=America/New_York:20260711T140000
DTSTAMP:20260422T003101
CREATED:20260102T195055Z
LAST-MODIFIED:20260102T200254Z
UID:10003176-1783764000-1783778400@pickaway.com
SUMMARY:Commercial Point Vendor/Farmers Market
DESCRIPTION:Organized by the Village of Commercial Point\, this farmers and vendor market highlights local vendors\, makers\, and small businesses from across Pickaway County. \nVisitors can browse handmade goods\, local products\, and seasonal finds while enjoying a friendly\, small-town atmosphere in Commercial Point\, Ohio. \nEvent details\, schedules\, and registration information are provided by the event organizer. Learn more at https://nunbetterevents.com/index.php. \nThis event is promoted by the Pickaway County Visitors Bureau as part of our mission to showcase events\, experiences\, and communities throughout Pickaway County.
URL:https://pickaway.com/event/commercial-point-vendor-farmers-market-september/2026-07-11/
LOCATION:Commercial Point\, 10 W. Scioto St.\, Commercial Point\, OH\, 43116\, United States
CATEGORIES:Community
ATTACH;FMTTYPE=image/png:https://pickaway.com/wp-content/uploads/2023/04/My-project-1-83.png
END:VEVENT
BEGIN:VEVENT
DTSTART;TZID=America/New_York:20260711T190000
DTEND;TZID=America/New_York:20260711T233000
DTSTAMP:20260422T003101
CREATED:20251222T143207Z
LAST-MODIFIED:20251222T145226Z
UID:10003130-1783796400-1783812600@pickaway.com
SUMMARY:Self-Guided Flashlight Tours at the Gregg-Crites Octagon House
DESCRIPTION:Experience the Gregg-Crites Octagon House after dark during self-guided flashlight tours. \nGuests are invited to bring their own flashlights and explore the historic home at their own pace. Meet members of the Roundtown Conservancy and FYNDING Paranormal\, ask questions\, and learn more about the history and mysteries surrounding Circleville’s second-oldest historic landmark. \nPricing:$10 per person at the doorChildren 12 and under are free \nNotes:This is a self-guided experience. Flashlights are required.
URL:https://pickaway.com/event/self-guided-flashlight-tours-at-the-gregg-crites-octagon-house/2026-07-11/
LOCATION:Octagon House\, 440 Crites Road\, Circleville\, 43113\, United States
CATEGORIES:Tours & Experiences,Community
ATTACH;FMTTYPE=image/jpeg:https://pickaway.com/wp-content/uploads/2023/09/Front-of-Octagon-Fall-2016-1024x576-1.jpg
END:VEVENT
END:VCALENDAR