BEGIN:VCALENDAR
VERSION:2.0
PRODID:-//Pickaway County Visitors Bureau - ECPv6.15.20//NONSGML v1.0//EN
CALSCALE:GREGORIAN
METHOD:PUBLISH
X-WR-CALNAME:Pickaway County Visitors Bureau
X-ORIGINAL-URL:https://pickaway.com
X-WR-CALDESC:Events for Pickaway County Visitors Bureau
REFRESH-INTERVAL;VALUE=DURATION:PT1H
X-Robots-Tag:noindex
X-PUBLISHED-TTL:PT1H
BEGIN:VTIMEZONE
TZID:America/New_York
BEGIN:DAYLIGHT
TZOFFSETFROM:-0500
TZOFFSETTO:-0400
TZNAME:EDT
DTSTART:20250309T070000
END:DAYLIGHT
BEGIN:STANDARD
TZOFFSETFROM:-0400
TZOFFSETTO:-0500
TZNAME:EST
DTSTART:20251102T060000
END:STANDARD
BEGIN:DAYLIGHT
TZOFFSETFROM:-0500
TZOFFSETTO:-0400
TZNAME:EDT
DTSTART:20260308T070000
END:DAYLIGHT
BEGIN:STANDARD
TZOFFSETFROM:-0400
TZOFFSETTO:-0500
TZNAME:EST
DTSTART:20261101T060000
END:STANDARD
BEGIN:DAYLIGHT
TZOFFSETFROM:-0500
TZOFFSETTO:-0400
TZNAME:EDT
DTSTART:20270314T070000
END:DAYLIGHT
BEGIN:STANDARD
TZOFFSETFROM:-0400
TZOFFSETTO:-0500
TZNAME:EST
DTSTART:20271107T060000
END:STANDARD
END:VTIMEZONE
BEGIN:VEVENT
DTSTART;TZID=America/New_York:20260511T110000
DTEND;TZID=America/New_York:20260511T120000
DTSTAMP:20260422T024737
CREATED:20260302T192148Z
LAST-MODIFIED:20260304T192211Z
UID:10003541-1778497200-1778500800@pickaway.com
SUMMARY:Next Step in Tai Chi
DESCRIPTION:Boost energy & balance!  Join our 8-week Tai Chi for Energy: Chen & Sun styles\, gentle\, seated or standing\, all levels welcome!
URL:https://pickaway.com/event/next-step-in-tai-chi-14/
LOCATION:16405 US-23\, 16405 U.S. 23\, South Bloomfield\, OH\, 43103\, United States
CATEGORIES:Community
ATTACH;FMTTYPE=image/jpeg:https://pickaway.com/wp-content/uploads/2026/03/6076f60d6e30f2652523d591ca482592.jpg
END:VEVENT
BEGIN:VEVENT
DTSTART;TZID=America/New_York:20260512T140000
DTEND;TZID=America/New_York:20260512T140000
DTSTAMP:20260422T024737
CREATED:20260408T141402Z
LAST-MODIFIED:20260408T141402Z
UID:10003690-1778594400-1778594400@pickaway.com
SUMMARY:Artificial Intelligence for Everyone
DESCRIPTION:Curious about artificial intelligence and how it’s being used in everyday life? This beginner-friendly session will introduce the basics of AI and explore how it shows up in tools\, apps\, and technology you may already be using. \nLearn what AI is\, how it works\, and how it can be helpful in daily tasks\, along with tips for using it safely and effectively. This program is designed for all experience levels. \nRegistration is required.
URL:https://pickaway.com/event/artificial-intelligence-for-everyone/
LOCATION:Floyd E. Younkin Branch\, Pickaway County Library\, 51 Long St.\, Ashville\, 43103
CATEGORIES:Community,Miscellaneous
ATTACH;FMTTYPE=image/png:https://pickaway.com/wp-content/uploads/2026/04/5-12-AI-for-Everyone.png
END:VEVENT
BEGIN:VEVENT
DTSTART;TZID=America/New_York:20260512T180000
DTEND;TZID=America/New_York:20260512T180000
DTSTAMP:20260422T024737
CREATED:20260408T141623Z
LAST-MODIFIED:20260408T141623Z
UID:10003691-1778608800-1778608800@pickaway.com
SUMMARY:Armchair Traveling to Antarctica
DESCRIPTION:Take a journey to one of the most extreme places on Earth without leaving your seat. Join Kirk Edgington for an engaging presentation on life in Antarctica\, exploring what it’s like to live and work on the driest\, coldest\, and harshest continent. \nKirk will share insights on Antarctica’s geography\, governance\, environmental protection efforts\, wildlife including seals and penguins\, ecosystems\, weather\, and the United States’ role in research. \nA retired firefighter with 34 years of combined service in the military and with the City of Circleville\, Kirk spent six months stationed at McMurdo Station in Antarctica as a contracted firefighter. He now serves as Facilities Manager at Pickaway County Library.
URL:https://pickaway.com/event/armchair-traveling-to-antarctica/
LOCATION:Pickaway County Library\, 1160 North Court Street\, Circleville\, OH\, 43113\, United States
CATEGORIES:Community,Hobbies,Miscellaneous
ATTACH;FMTTYPE=image/png:https://pickaway.com/wp-content/uploads/2026/04/5-12-Armchair-travel-1.png
END:VEVENT
BEGIN:VEVENT
DTSTART;TZID=America/New_York:20260512T183000
DTEND;TZID=America/New_York:20260512T183000
DTSTAMP:20260422T024737
CREATED:20260408T142308Z
LAST-MODIFIED:20260408T142308Z
UID:10003692-1778610600-1778610600@pickaway.com
SUMMARY:Book Club at Younkin Branch Library
DESCRIPTION:Join fellow readers for a monthly book discussion at the Younkin Branch Library in Ashville. This welcoming group meets on the second Tuesday of each month to explore a selected title and share thoughts in a relaxed\, friendly setting. \nWhether you’re a regular reader or just looking to connect with others\, all are welcome to participate.
URL:https://pickaway.com/event/book-club-at-younkin-branch-library-2/
LOCATION:Floyd E. Younkin Branch\, Pickaway County Library\, 51 Long St.\, Ashville\, 43103
CATEGORIES:Community,Hobbies
ATTACH;FMTTYPE=image/png:https://pickaway.com/wp-content/uploads/2026/04/5-12-Book-Group-YB.png
END:VEVENT
BEGIN:VEVENT
DTSTART;TZID=America/New_York:20260513T110000
DTEND;TZID=America/New_York:20260513T120000
DTSTAMP:20260422T024737
CREATED:20260302T192148Z
LAST-MODIFIED:20260304T192211Z
UID:10003542-1778670000-1778673600@pickaway.com
SUMMARY:Next Step in Tai Chi
DESCRIPTION:Boost energy & balance!  Join our 8-week Tai Chi for Energy: Chen & Sun styles\, gentle\, seated or standing\, all levels welcome!
URL:https://pickaway.com/event/next-step-in-tai-chi-15/
LOCATION:16405 US-23\, 16405 U.S. 23\, South Bloomfield\, OH\, 43103\, United States
CATEGORIES:Community
ATTACH;FMTTYPE=image/jpeg:https://pickaway.com/wp-content/uploads/2026/03/6076f60d6e30f2652523d591ca482592.jpg
END:VEVENT
BEGIN:VEVENT
DTSTART;TZID=America/New_York:20260513T170000
DTEND;TZID=America/New_York:20260513T213000
DTSTAMP:20260422T024737
CREATED:20240307T145234Z
LAST-MODIFIED:20240307T145234Z
UID:10001163-1778691600-1778707800@pickaway.com
SUMMARY:Bingo: Logan Elm Athletics Boosters
DESCRIPTION:Bingo on Wednesday Nights at Circleville AMVETS doors open at 5:00pm.\nBingo starts at 7:00pm.\n818 Tarlton Road\nCircleville\, Ohio 43113\nAll proceeds support funding for Athletic Uniforms\, safety & training Equipment\, and facilities within the Logan Elm School District.
URL:https://pickaway.com/event/bingo-logan-elm-athletics-boosters/2026-05-13/
LOCATION:AMVETS Post 2256\, 818 Tarlton Rd\, Circleville\, OH\, 43113
CATEGORIES:Community,Hobbies,Miscellaneous
ATTACH;FMTTYPE=image/png:https://pickaway.com/wp-content/uploads/2024/03/Untitled-design-2024-03-07T095159.688.png
END:VEVENT
BEGIN:VEVENT
DTSTART;TZID=America/New_York:20260514T130000
DTEND;TZID=America/New_York:20260514T140000
DTSTAMP:20260422T024737
CREATED:20260302T192928Z
LAST-MODIFIED:20260302T192928Z
UID:10003459-1778763600-1778767200@pickaway.com
SUMMARY:Tai Chi at the Senior Center
DESCRIPTION:This program uses Sun Style Tai Chi forms to: improve physical and mental balance\, increase flexibility\, decrease arthritis pain\, and help prevent falls. Tai Chi for Beginners can be done seated or standing and we will practice both during class.
URL:https://pickaway.com/event/tai-chi-at-the-senior-center/2026-05-14/
LOCATION:Pickaway Senior Center\, 2105 Chickasaw Dr\, Circleville\, OH\, 43113\, United States
CATEGORIES:Community,Miscellaneous
ATTACH;FMTTYPE=image/png:https://pickaway.com/wp-content/uploads/2026/03/Senior-Center-Tai-Chi.png
ORGANIZER;CN="Pickaway Senior Center":MAILTO:noreply@facebookmail.com
END:VEVENT
BEGIN:VEVENT
DTSTART;TZID=America/New_York:20260516T090000
DTEND;TZID=America/New_York:20260516T090000
DTSTAMP:20260422T024737
CREATED:20260417T161810Z
LAST-MODIFIED:20260417T161810Z
UID:10003723-1778922000-1778922000@pickaway.com
SUMMARY:Veterans Breakfast
DESCRIPTION:The Pickaway County Women’s Republican Club invites you to a Veterans Appreciation Breakfast at the VFW in South Bloomfield. The meal is complimentary for veterans. Family and friends are welcome at $12 per plate. \nRSVP by May 4 by calling 740-207-3638.
URL:https://pickaway.com/event/veterans-breakfast/
LOCATION:VFW Rick Brown Memorial\, 3301 Northup Ave\, South Bloomfield\, 43103\, United States
CATEGORIES:Community,Hobbies,Miscellaneous
ATTACH;FMTTYPE=image/jpeg:https://pickaway.com/wp-content/uploads/2022/04/american-flag-etiquette-1558469527.jpg
END:VEVENT
BEGIN:VEVENT
DTSTART;TZID=America/New_York:20260516T090000
DTEND;TZID=America/New_York:20260516T140000
DTSTAMP:20260422T024737
CREATED:20260310T165202Z
LAST-MODIFIED:20260401T155204Z
UID:10003574-1778922000-1778940000@pickaway.com
SUMMARY:Colors of Hope Color Walk
DESCRIPTION:Join Pickaway Health Network for the 3rd Annual Colors of Hope\, a free community color walk and celebration focused on raising awareness and support for mental health in Pickaway County. \nThe event takes place at Mary Virginia Crites Hannan Park in Circleville and invites community members of all ages to walk together in a colorful show of support and hope. Following the walk\, guests are encouraged to stay for an after-party featuring music\, activities\, demonstrations\, and food. \nWhile participation in the event is free\, additional items will be available for purchase\, with proceeds benefiting NAMI of Southern Ohio to help expand free mental health programs and support services available to the local community. \nParticipants are encouraged to bring a towel or change of clothing\, as color powder will be used during the walk. Cleanup stations will be available on site\, and sunglasses or hats are recommended. \nThis event is designed to bring the community together in a positive and supportive environment while highlighting the importance of mental health awarenes
URL:https://pickaway.com/event/colors-of-hope-color-walk/
LOCATION:Mary Virginia Crites Hannan Park\, 1230 Pontius Rd\, Circleville\, OH 43113\, USA
CATEGORIES:Community,Children and Family Fun
ATTACH;FMTTYPE=image/jpeg:https://pickaway.com/wp-content/uploads/2024/03/Colros-of-Hope-Logo.jpeg
END:VEVENT
BEGIN:VEVENT
DTSTART;TZID=America/New_York:20260516T100000
DTEND;TZID=America/New_York:20260516T110000
DTSTAMP:20260422T024737
CREATED:20260202T205126Z
LAST-MODIFIED:20260202T205149Z
UID:10003231-1778925600-1778929200@pickaway.com
SUMMARY:Get to Know Your Weeds : A How to Workshop
DESCRIPTION:Thistles\, crabgrass\, ground ivy Ugh!  Learn how to identify common “weeds” and discover which ones may actually be helping your garden. Learn to identify and name 10 weeds you have in your garden\, how they root\, grow and reproduce!  Also walk away with techniques to manage the not so good weeds in your garden. We will also cover apps\, compost\, mulch\, herbicides and natural deterrents to weeds. \nPerfect for gardeners and homeowners\, wanting to manage your landscape\n🌼 Includes a free weed guide to take home and id your weeds & $20 gift certificate  \nTO register txt “Weeds” to 614-809-8538
URL:https://pickaway.com/event/get-to-know-your-weeds-a-how-to-workshop/2026-05-16/
LOCATION:Darby Landscape Supply\, 8075 Harrisburg Pike\, Orient\, 43146
CATEGORIES:Education,Community,Miscellaneous
ATTACH;FMTTYPE=image/png:https://pickaway.com/wp-content/uploads/2026/02/Copy-of-Pickaway-Coffee-Crawl-1.png
ORGANIZER;CN="Darby Landscape Supply":MAILTO:cmoehl10@gmail.com
END:VEVENT
BEGIN:VEVENT
DTSTART;TZID=America/New_York:20260516T190000
DTEND;TZID=America/New_York:20260516T233000
DTSTAMP:20260422T024737
CREATED:20251222T143207Z
LAST-MODIFIED:20251222T145226Z
UID:10003126-1778958000-1778974200@pickaway.com
SUMMARY:Self-Guided Flashlight Tours at the Gregg-Crites Octagon House
DESCRIPTION:Experience the Gregg-Crites Octagon House after dark during self-guided flashlight tours. \nGuests are invited to bring their own flashlights and explore the historic home at their own pace. Meet members of the Roundtown Conservancy and FYNDING Paranormal\, ask questions\, and learn more about the history and mysteries surrounding Circleville’s second-oldest historic landmark. \nPricing:$10 per person at the doorChildren 12 and under are free \nNotes:This is a self-guided experience. Flashlights are required.
URL:https://pickaway.com/event/self-guided-flashlight-tours-at-the-gregg-crites-octagon-house/2026-05-16/
LOCATION:Octagon House\, 440 Crites Road\, Circleville\, 43113\, United States
CATEGORIES:Tours & Experiences,Community
ATTACH;FMTTYPE=image/jpeg:https://pickaway.com/wp-content/uploads/2023/09/Front-of-Octagon-Fall-2016-1024x576-1.jpg
END:VEVENT
END:VCALENDAR