BEGIN:VCALENDAR
VERSION:2.0
PRODID:-//Pickaway County Visitors Bureau - ECPv6.15.20//NONSGML v1.0//EN
CALSCALE:GREGORIAN
METHOD:PUBLISH
X-ORIGINAL-URL:https://pickaway.com
X-WR-CALDESC:Events for Pickaway County Visitors Bureau
REFRESH-INTERVAL;VALUE=DURATION:PT1H
X-Robots-Tag:noindex
X-PUBLISHED-TTL:PT1H
BEGIN:VTIMEZONE
TZID:America/New_York
BEGIN:DAYLIGHT
TZOFFSETFROM:-0500
TZOFFSETTO:-0400
TZNAME:EDT
DTSTART:20220313T070000
END:DAYLIGHT
BEGIN:STANDARD
TZOFFSETFROM:-0400
TZOFFSETTO:-0500
TZNAME:EST
DTSTART:20221106T060000
END:STANDARD
BEGIN:DAYLIGHT
TZOFFSETFROM:-0500
TZOFFSETTO:-0400
TZNAME:EDT
DTSTART:20230312T070000
END:DAYLIGHT
BEGIN:STANDARD
TZOFFSETFROM:-0400
TZOFFSETTO:-0500
TZNAME:EST
DTSTART:20231105T060000
END:STANDARD
BEGIN:DAYLIGHT
TZOFFSETFROM:-0500
TZOFFSETTO:-0400
TZNAME:EDT
DTSTART:20240310T070000
END:DAYLIGHT
BEGIN:STANDARD
TZOFFSETFROM:-0400
TZOFFSETTO:-0500
TZNAME:EST
DTSTART:20241103T060000
END:STANDARD
END:VTIMEZONE
BEGIN:VEVENT
DTSTART;VALUE=DATE:20230630
DTEND;VALUE=DATE:20230705
DTSTAMP:20260419T144829
CREATED:20230524T000851Z
LAST-MODIFIED:20230524T000851Z
UID:10000242-1688083200-1688515199@pickaway.com
SUMMARY:Ashville 4th of July Celebration
DESCRIPTION:Come celebrate our nation’s independence in Ashville\, Ohio. Our five-day celebration features our famous fish fry where we’ll be frying over 2\,500 lbs of perch. Free entertainment\, daily ride specials and lots of great midway food\, our Grand Parade and of course Fireworks makes Ashville the place to be.
URL:https://pickaway.com/event/ashville-4th-of-july-celebration/
LOCATION:Ashville Community Park\, 165 Walnut St\, Ashville\, OH\, 43103\, United States
CATEGORIES:Festivals and Special Events,Community,Children and Family Fun
ATTACH;FMTTYPE=image/png:https://pickaway.com/wp-content/uploads/2023/05/Untitled-960-×-600-px-1.png
END:VEVENT
BEGIN:VEVENT
DTSTART;TZID=America/New_York:20230703T160000
DTEND;TZID=America/New_York:20230703T200000
DTSTAMP:20260419T144829
CREATED:20230613T152232Z
LAST-MODIFIED:20230613T152259Z
UID:10000266-1688400000-1688414400@pickaway.com
SUMMARY:Dungeons & Dragons Play
DESCRIPTION:Get started with basic Dungeons & Dragons play at the library on the first Monday of the month! Play will be in the style of a Westmarch campaign\, a form of D&D that allows a player to miss multiple sessions and still be able to return and continue play with no disruption. Library staff will be on-hand for guidance.
URL:https://pickaway.com/event/dungeons-dragons-play/
LOCATION:Floyd E. Younkin Branch\, Pickaway County Library\, 51 Long St.\, Ashville\, 43103
CATEGORIES:Hobbies
ATTACH;FMTTYPE=image/png:https://pickaway.com/wp-content/uploads/2023/05/Untitled-960-×-600-px-2.png
END:VEVENT
BEGIN:VEVENT
DTSTART;TZID=America/New_York:20230706T140000
DTEND;TZID=America/New_York:20230706T150000
DTSTAMP:20260419T144829
CREATED:20230613T152727Z
LAST-MODIFIED:20230613T152727Z
UID:10000267-1688652000-1688655600@pickaway.com
SUMMARY:DASH - Danielle's Animal Safe Haven
DESCRIPTION:Danielle’s Animal Safe Haven is a volunteer nonprofit animal rescue. Please join us for a hands-on program that will feature the importance of animal nutrition\, veterinary care\, adoption procedure\, and necessary supplies to keep your pet safe and healthy. There will be a craft\, fun activities\, and adoptable pets for you to see.
URL:https://pickaway.com/event/dash-danielles-animal-safe-haven/
LOCATION:Marvin Webster Memorial Park\, 5010 North St W\, South Bloomfield\, OH 43103\, USA
CATEGORIES:Community,Children and Family Fun
ATTACH;FMTTYPE=image/jpeg:https://pickaway.com/wp-content/uploads/2023/06/s8741nh5lyvgl5qe.jpg
ORGANIZER;CN="Pickaway County Library":MAILTO:info@pickawaylib.org
END:VEVENT
BEGIN:VEVENT
DTSTART;VALUE=DATE:20230707
DTEND;VALUE=DATE:20230708
DTSTAMP:20260419T144829
CREATED:20230426T181922Z
LAST-MODIFIED:20230626T183727Z
UID:10000207-1688688000-1688774399@pickaway.com
SUMMARY:Uptown Circleville First Fridays
DESCRIPTION:
URL:https://pickaway.com/event/uptown-circleville-first-fridays-3/
LOCATION:Pumpkin Show Park\, 121 North Court Street\, Circleville\, OH\, 43113\, United States
CATEGORIES:Festivals and Special Events,Community,Children and Family Fun
ATTACH;FMTTYPE=image/png:https://pickaway.com/wp-content/uploads/2023/04/Freedom-Friday-FB-Cover.png
END:VEVENT
BEGIN:VEVENT
DTSTART;TZID=America/New_York:20230707T103000
DTEND;TZID=America/New_York:20230707T113000
DTSTAMP:20260419T144829
CREATED:20230613T154304Z
LAST-MODIFIED:20230613T154304Z
UID:10000268-1688725800-1688729400@pickaway.com
SUMMARY:Reading with Pickles the Guinea Pig
DESCRIPTION:Pickles will be promoting his love for reading by hosting his own “Read to Me” sessions. He will be in the storytime room from 10:30 AM to 11:30 AM and 3:00PM to 4:00PM waiting for you. You can pick a book from the youth collection or you can bring your favorite book.
URL:https://pickaway.com/event/reading-with-pickles-the-guinea-pig/
LOCATION:Pickaway County Library\, 1160 North Court Street\, Circleville\, OH\, 43113\, United States
CATEGORIES:Children and Family Fun
ATTACH;FMTTYPE=image/jpeg:https://pickaway.com/wp-content/uploads/2023/06/Reading-with-Pickles.jpg
END:VEVENT
BEGIN:VEVENT
DTSTART;TZID=America/New_York:20230707T163000
DTEND;TZID=America/New_York:20230707T190000
DTSTAMP:20260419T144829
CREATED:20230615T190320Z
LAST-MODIFIED:20230615T190320Z
UID:10000281-1688747400-1688756400@pickaway.com
SUMMARY:Independence Day Celebration at Wyngate
DESCRIPTION:Meal featuring smoked pulled pork and a patriotic-themed cocktail. Take a ride on a golf cart  around the property where and enjoy their patriotic decor.
URL:https://pickaway.com/event/independence-day-celebration-at-wyngate/
LOCATION:Wyngate Senior Living Community\, 745 Northridge Road\, Circleville\, OH\, United States
CATEGORIES:Community,Hobbies
ATTACH;FMTTYPE=image/jpeg:https://pickaway.com/wp-content/uploads/2023/06/800px-US_Flag_Backlit.jpg
END:VEVENT
BEGIN:VEVENT
DTSTART;TZID=America/New_York:20230708T090000
DTEND;TZID=America/New_York:20230708T120000
DTSTAMP:20260419T144829
CREATED:20230407T175713Z
LAST-MODIFIED:20230407T175713Z
UID:10000174-1688806800-1688817600@pickaway.com
SUMMARY:Commercial Point Farmers Market
DESCRIPTION:Home grown produce\, vendors and more!
URL:https://pickaway.com/event/commercial-point-farmers-market/2023-07-08/
LOCATION:Commercial Point\, 10 W. Scioto St.\, Commercial Point\, OH\, 43116\, United States
CATEGORIES:Community,Miscellaneous
ATTACH;FMTTYPE=image/png:https://pickaway.com/wp-content/uploads/2023/04/My-project-1-83.png
END:VEVENT
BEGIN:VEVENT
DTSTART;TZID=America/New_York:20230708T190000
DTEND;TZID=America/New_York:20230708T210000
DTSTAMP:20260419T144829
CREATED:20230628T173056Z
LAST-MODIFIED:20230628T174224Z
UID:10000304-1688842800-1688850000@pickaway.com
SUMMARY:Lisa Gain and the Rusty Silos
DESCRIPTION:Lisa Gain and the Rusty Silos are a folk rock trio from Columbus\, Ohio featuring Lisa Gain on vocals and guitar\, Bryan Rupejko on drums\, and Ashville local Megan Rainey on keyboard. The band plays a mix of popular covers and Lisa’s original tunes\, and their sound blends classic Americana with a smoky alt-rock twist that will leave you nostalgic for the 90s! \nEnjoy great music along with award winning wines and hard cider at Manchester Hill Winery!
URL:https://pickaway.com/event/lisa-gain-and-the-rusty-silos/
LOCATION:Manchester Hill Winery and Vineyard\, 13160 Tarlton Road\, Circleville\, OH\, 43113\, United States
CATEGORIES:Entertainment and Arts,Community
ATTACH;FMTTYPE=image/jpeg:https://pickaway.com/wp-content/uploads/2023/06/356642120_733506178776406_488305700853474164_n-e1687973411455.jpg
END:VEVENT
END:VCALENDAR