BEGIN:VCALENDAR
VERSION:2.0
PRODID:-//Pickaway County Visitors Bureau - ECPv6.15.20//NONSGML v1.0//EN
CALSCALE:GREGORIAN
METHOD:PUBLISH
X-WR-CALNAME:Pickaway County Visitors Bureau
X-ORIGINAL-URL:https://pickaway.com
X-WR-CALDESC:Events for Pickaway County Visitors Bureau
REFRESH-INTERVAL;VALUE=DURATION:PT1H
X-Robots-Tag:noindex
X-PUBLISHED-TTL:PT1H
BEGIN:VTIMEZONE
TZID:America/New_York
BEGIN:DAYLIGHT
TZOFFSETFROM:-0500
TZOFFSETTO:-0400
TZNAME:EDT
DTSTART:20220313T070000
END:DAYLIGHT
BEGIN:STANDARD
TZOFFSETFROM:-0400
TZOFFSETTO:-0500
TZNAME:EST
DTSTART:20221106T060000
END:STANDARD
BEGIN:DAYLIGHT
TZOFFSETFROM:-0500
TZOFFSETTO:-0400
TZNAME:EDT
DTSTART:20230312T070000
END:DAYLIGHT
BEGIN:STANDARD
TZOFFSETFROM:-0400
TZOFFSETTO:-0500
TZNAME:EST
DTSTART:20231105T060000
END:STANDARD
BEGIN:DAYLIGHT
TZOFFSETFROM:-0500
TZOFFSETTO:-0400
TZNAME:EDT
DTSTART:20240310T070000
END:DAYLIGHT
BEGIN:STANDARD
TZOFFSETFROM:-0400
TZOFFSETTO:-0500
TZNAME:EST
DTSTART:20241103T060000
END:STANDARD
END:VTIMEZONE
BEGIN:VTIMEZONE
TZID:UTC
BEGIN:STANDARD
TZOFFSETFROM:+0000
TZOFFSETTO:+0000
TZNAME:UTC
DTSTART:20220101T000000
END:STANDARD
END:VTIMEZONE
BEGIN:VEVENT
DTSTART;TZID=America/New_York:20230611T113000
DTEND;TZID=America/New_York:20230611T143000
DTSTAMP:20260419T190324
CREATED:20230403T211708Z
LAST-MODIFIED:20230607T152158Z
UID:10000019-1686483000-1686493800@pickaway.com
SUMMARY:Dog Days at Rhoadhouse 56 w/Dirty Franks Food Truck
DESCRIPTION:Rhoads Garden Center is hosting a dog friendly event to spend some quality time with your pup\n\n\nRhoads Garden Center is hosting a dog friendly event to spend some quality time with your pup\, complementary pup cups\, and a few pet friendly vendors! Don’t forget to bring your furry friend along\, on a leash please! Don’t have a pup? Visit with Ohio Fuzzy Paw pups that will be present.\n \n**Dirty Franks Food Truck 11:30-1:30pm**\n \nTake FREE pictures with your pup in in our photo op area:) We’ll be serving up some Thirsty dog beer\, gourmet hot dogs by Dirty Franks Food truck\, healthy “Pup Cups” for the pups. Check out our Pet Friendly plant display that day as well!\n \nVendors: Hey Pal Dog Bandanas and Ohio Fuzzy Paws
URL:https://pickaway.com/event/dog-days-at-rhoadhouse-56/
LOCATION:Rhoads Garden Center\, 1051 St. Rt. 56 East\, Circleville\, OH\, 43113\, United States
CATEGORIES:Community,Miscellaneous
ATTACH;FMTTYPE=image/jpeg:https://pickaway.com/wp-content/uploads/2023/04/b4b3628fa617ea321398556f31ad5e38.jpg
END:VEVENT
BEGIN:VEVENT
DTSTART;TZID=America/New_York:20230611T170000
DTEND;TZID=America/New_York:20230611T200000
DTSTAMP:20260419T190324
CREATED:20230515T161936Z
LAST-MODIFIED:20230611T182320Z
UID:10000227-1686502800-1686513600@pickaway.com
SUMMARY:Second Sunday Music Series: Acoustic Horizon
DESCRIPTION:EVENT POSTPONED TO JULY DUE TO WEATHER \nJoin Pickaway County Visitors Bureau for the return of the Second Sunday Music Series! \nExplore the Parks of Pickaway this summer and enjoy great music and food! \nOur first event of the summer showcases the recent developments at Deer Creek State Park!  The beach at Deer Creek features brand-new restroom facilities\, a new playground\, and more amenities to make your visit to Deer Creek State Park a wonderful one. \nA naturalist from ODNR will be on site with a live animal demonstration from 5-6 pm. \nOur beach party will feature music by Acoustic Horizon (beginning at 6 pm) along with food trucks. \nOur event has free admission\, so bring a lawn chair or a blanket and enjoy a beautiful day at the park! \n  \nFor your GPS: Event location is 22300 State Park Road No. 3\, Mt. Sterling\, OH 43143 \n 
URL:https://pickaway.com/event/second-sunday-music-series-acoustic-horizon/
LOCATION:Deer Creek State Park\, 20635 State Park Road 20\, Mount Sterling\, OH\, 43143\, United States
CATEGORIES:Entertainment and Arts,Hobbies,Children and Family Fun
ATTACH;FMTTYPE=image/png:https://pickaway.com/wp-content/uploads/2023/05/Second-Sunday-Cover-June-11-960-×-600-px.png
END:VEVENT
BEGIN:VEVENT
DTSTART;TZID=America/New_York:20230612T180000
DTEND;TZID=America/New_York:20230612T200000
DTSTAMP:20260419T190324
CREATED:20230524T165330Z
LAST-MODIFIED:20230524T182623Z
UID:10000247-1686592800-1686600000@pickaway.com
SUMMARY:Beatles Singo-Bingo
DESCRIPTION:Do you love Beatles music? Do you think you KNOW Beatles music? Let’s get ALL TOGETHER NOW and play Beatles SINGO-BINGO!\nEach player will receive a Bingo card filled with Beatles song titles instead of numbers. We’ll listen to clips of Beatles songs\, and players will mark them off if they’re listed on their card…until we have a winner!
URL:https://pickaway.com/event/beatles-singo-bingo/
LOCATION:Pickaway County Library\, 1160 North Court Street\, Circleville\, OH\, 43113\, United States
CATEGORIES:Entertainment and Arts,Community
ATTACH;FMTTYPE=image/jpeg:https://pickaway.com/wp-content/uploads/2023/05/June-12-Beatles-SINGO-Main-scaled.jpg
END:VEVENT
BEGIN:VEVENT
DTSTART;TZID=America/New_York:20230613T130000
DTEND;TZID=America/New_York:20230613T140000
DTSTAMP:20260419T190324
CREATED:20230524T165716Z
LAST-MODIFIED:20230524T182637Z
UID:10000248-1686661200-1686664800@pickaway.com
SUMMARY:Bee Kind to Pollinators
DESCRIPTION:Part of the Pickaway County Library’s summer program series\, Bee Kind To Pollinators will bee a buzzing good time to learn about the importance of pollinators\, enjoy fun crafts\, and experience hands on interaction with beekeeping and honey collection.
URL:https://pickaway.com/event/bee-kind-to-pollinators/
LOCATION:Slate Run Metro Park and Living Historical Farm
CATEGORIES:Hobbies,Children and Family Fun
ATTACH;FMTTYPE=image/jpeg:https://pickaway.com/wp-content/uploads/2023/05/June-13-Bee-at-Slate-Run-pexels-small.jpg
ORGANIZER;CN="Pickaway County Library":MAILTO:info@pickawaylib.org
END:VEVENT
BEGIN:VEVENT
DTSTART;VALUE=DATE:20230614
DTEND;VALUE=DATE:20230618
DTSTAMP:20260419T190324
CREATED:20230523T232236Z
LAST-MODIFIED:20230612T134410Z
UID:10000240-1686700800-1687046399@pickaway.com
SUMMARY:94th Commercial Point Homecoming Festival
DESCRIPTION:A 4-day event that features a midway packed with rides\, games\, great food\, a beer garden\, and free entertainment. \n  \nView the schedule
URL:https://pickaway.com/event/94th-commercial-point-homecoming-festival/
LOCATION:Commercial Point\, 10 W. Scioto St.\, Commercial Point\, OH\, 43116\, United States
CATEGORIES:Entertainment and Arts,Festivals and Special Events,Community,Children and Family Fun
ATTACH;FMTTYPE=image/jpeg:https://pickaway.com/wp-content/uploads/2023/05/345866416_257504643478563_1298865663867664648_n-e1684884148635.jpg
END:VEVENT
BEGIN:VEVENT
DTSTART;TZID=America/New_York:20230614T173000
DTEND;TZID=America/New_York:20230614T190000
DTSTAMP:20260419T190324
CREATED:20230612T123519Z
LAST-MODIFIED:20230612T123519Z
UID:10000257-1686763800-1686769200@pickaway.com
SUMMARY:Flag Day Celebration
DESCRIPTION:A celebration of the American flag will take place Wednesday when the Circleville Elks host a Flag Day celebration at Pumpkin Show Park. \nThe evening’s activities will begin at 5:30 p.m. with musical selections from the Circleville Pumpkin Show Band and continue with the Flag Day program and guest speaker beginning at 6. \nGuests are encouraged to bring a lawn chair as there is limited seating at the park.
URL:https://pickaway.com/event/flag-day-celebration/
LOCATION:Pumpkin Show Park\, 121 North Court Street\, Circleville\, OH\, 43113\, United States
CATEGORIES:Community,Children and Family Fun
ATTACH;FMTTYPE=image/jpeg:https://pickaway.com/wp-content/uploads/2023/06/353045185_591231923133845_1125048810462497773_n.jpg
END:VEVENT
BEGIN:VEVENT
DTSTART;VALUE=DATE:20230615
DTEND;VALUE=DATE:20230618
DTSTAMP:20260419T190324
CREATED:20230510T145333Z
LAST-MODIFIED:20230510T145333Z
UID:10000224-1686787200-1687046399@pickaway.com
SUMMARY:Mt Sterling Summer Jam Festival
DESCRIPTION:Rides\, games\, contests\, food\, vendor market\, live music nightly and so much more!! \nAll the action will take place on London Street between Church and Columbus Streets and on Main Street one block to the east and one block to the west of London Street.
URL:https://pickaway.com/event/mt-sterling-summer-jam-festival/
CATEGORIES:Festivals and Special Events,Community,Children and Family Fun
ATTACH;FMTTYPE=image/jpeg:https://pickaway.com/wp-content/uploads/2023/05/Mt-Sterling-Festival.jpg
END:VEVENT
BEGIN:VEVENT
DTSTART;TZID=America/New_York:20230615T120000
DTEND;TZID=America/New_York:20230615T133000
DTSTAMP:20260419T190324
CREATED:20230524T171133Z
LAST-MODIFIED:20230612T133429Z
UID:10000249-1686830400-1686835800@pickaway.com
SUMMARY:Community Story Time
DESCRIPTION:Join the Pickaway County Library’s Youth Services for a special community storytime at the Shawnee Grove Apartments\, then visit the bookmobile!
URL:https://pickaway.com/event/community-story-time/
CATEGORIES:Community,Children and Family Fun
ATTACH;FMTTYPE=image/png:https://pickaway.com/wp-content/uploads/2023/05/My-project-1-96.png
ORGANIZER;CN="Pickaway County Library":MAILTO:info@pickawaylib.org
END:VEVENT
BEGIN:VEVENT
DTSTART;TZID=America/New_York:20230616T130000
DTEND;TZID=America/New_York:20230616T160000
DTSTAMP:20260419T190324
CREATED:20230612T124532Z
LAST-MODIFIED:20230612T124532Z
UID:10000259-1686920400-1686931200@pickaway.com
SUMMARY:Wedding Gowns Thru the Ages
DESCRIPTION:Step back in time to see over 30 wedding gowns that were worn by brides with Pickaway County connections. The gowns will range in date from the 1800s through the 2000s backdropped by one of the most historic homes in the area\, Mount Oval. \nIn the grand rooms of the home\, the dresses will be displayed for two weeks only\, Friday\, June 16th-1-4 pm Saturday\, June 17th-10-4 pm Friday\, June 23rd\, 1-4 pm Saturday\, June 24th\, 10-4 pm Sunday\, June 25th\, 1-4 pm Admission is $5.00 and payable at the door. No reservations are required.
URL:https://pickaway.com/event/wedding-gowns-thru-the-ages/
LOCATION:Mount Oval Historic House & Farm\, 3601 Emerson Rd\, Circleville\, OH\, 43113
CATEGORIES:Community,Miscellaneous
ATTACH;FMTTYPE=image/jpeg:https://pickaway.com/wp-content/uploads/2023/06/2-37.jpg
END:VEVENT
BEGIN:VEVENT
DTSTART;VALUE=DATE:20230617
DTEND;VALUE=DATE:20230625
DTSTAMP:20260419T190325
CREATED:20230518T153240Z
LAST-MODIFIED:20230518T153240Z
UID:10000198-1686960000-1687651199@pickaway.com
SUMMARY:Pickaway County Fair
DESCRIPTION:Eight wonderful fun-filled days and evenings\, food\, rides\, music\, and much more activities for all ages.
URL:https://pickaway.com/event/pickaway-county-fair/
LOCATION:Pickaway County Agriculture & Event Center\, 415 Lancaster Pike\, Circleville\, OH\, 43113
CATEGORIES:Entertainment and Arts,Festivals and Special Events,Community,Children and Family Fun
ATTACH;FMTTYPE=image/jpeg:https://pickaway.com/wp-content/uploads/2023/04/Fair-scaled-e1682092336847.jpg
END:VEVENT
BEGIN:VEVENT
DTSTART;TZID=UTC:20230617T090000
DTEND;TZID=UTC:20230617T120000
DTSTAMP:20260419T190325
CREATED:20230404T154055Z
LAST-MODIFIED:20230919T183343Z
UID:10000167-1686992400-1687003200@pickaway.com
SUMMARY:Ashville’s Community Market
DESCRIPTION:ASHVILLE’S COMMUNITY MARKET \nCome meet all of our LOCAL businesses\, creatives\, and farmers/homesteaders right here in Pickaway Co.! \nEnjoy over 40 vendors with crafts\, baked & canned goods\, fresh produce\, +live music & food trucks !\nShop Local\, Buy Local\, Support Local!\nThe Ashville Community Market will be open one Saturday per month from 9am-12pm.\nThis is an independently ran event by local volunteers. And is not officially associated with the Village of Ashville – though we appreciate their support!
URL:https://pickaway.com/event/ashvilles-community-market/2023-06-17/
LOCATION:Ashville Community Park\, 165 Walnut St\, Ashville\, OH\, 43103\, United States
CATEGORIES:Community
ATTACH;FMTTYPE=image/png:https://pickaway.com/wp-content/uploads/2023/04/My-project-1-82.png
END:VEVENT
BEGIN:VEVENT
DTSTART;TZID=America/New_York:20230617T100000
DTEND;TZID=America/New_York:20230617T160000
DTSTAMP:20260419T190325
CREATED:20230612T124735Z
LAST-MODIFIED:20230612T124735Z
UID:10000260-1686996000-1687017600@pickaway.com
SUMMARY:Wedding Gowns Thru the Ages
DESCRIPTION:Step back in time to see over 30 wedding gowns that were worn by brides with Pickaway County connections. The gowns will range in date from the 1800s through the 2000s backdropped by one of the most historic homes in the area\, Mount Oval. \nIn the grand rooms of the home\, the dresses will be displayed for two weeks only\, Friday\, June 16th-1-4 pm Saturday\, June 17th-10-4 pm Friday\, June 23rd\, 1-4 pm Saturday\, June 24th\, 10-4 pm Sunday\, June 25th\, 1-4 pm Admission is $5.00 and payable at the door. No reservations are required.
URL:https://pickaway.com/event/wedding-gowns-thru-the-ages-2/
LOCATION:Mount Oval Historic House & Farm\, 3601 Emerson Rd\, Circleville\, OH\, 43113
CATEGORIES:Community,Miscellaneous
ATTACH;FMTTYPE=image/jpeg:https://pickaway.com/wp-content/uploads/2023/06/2-37.jpg
END:VEVENT
BEGIN:VEVENT
DTSTART;TZID=America/New_York:20230617T140000
DTEND;TZID=America/New_York:20230617T160000
DTSTAMP:20260419T190325
CREATED:20230615T185741Z
LAST-MODIFIED:20230615T185932Z
UID:10000280-1687010400-1687017600@pickaway.com
SUMMARY:Ice Cream Social
DESCRIPTION:Join the Wyngate Senior Living Community for free ice cream sundaes and live music by Paul Blankenship. \nHe plays folk country and classic rock from the 50s-80s. \nBrows items created by Wyngate’s independent living residents for sale in effort to raise money for their “Walk to End Alzheimer’s” team. \nFor more info\, contact 740-474-1411
URL:https://pickaway.com/event/ice-cream-social/
LOCATION:Wyngate Senior Living Community\, 745 Northridge Road\, Circleville\, OH\, United States
CATEGORIES:Community,Hobbies,Children and Family Fun
ATTACH;FMTTYPE=image/jpeg:https://pickaway.com/wp-content/uploads/2023/06/453291-five-ingredient-ice-cream-Alberta-Rose-4x3-1-4c9ec10ac4ab4e828615e81aa608dd6b.jpg
END:VEVENT
BEGIN:VEVENT
DTSTART;TZID=America/New_York:20230617T180000
DTEND;TZID=America/New_York:20230617T210000
DTSTAMP:20260419T190325
CREATED:20230412T185748Z
LAST-MODIFIED:20230412T185902Z
UID:10000182-1687024800-1687035600@pickaway.com
SUMMARY:Boogie on the Blacktop: Cowtown Inc.
DESCRIPTION:Circleville Eagles F.O.E 685 Proudly Presents Boogie on the Blacktop!\n\nWe are excited to welcome CowTown Inc. to our event!! Enjoy live music\, food and drinks\, and community fun!\nADMISSION: $5 at the gate\n\nAbout the Band:\nCowTown Inc is a Central Ohio based high energy Country-Rock Cover band with a few originals thrown in for good measure. CowTown Inc was formed for one reason….Create a fun\, high energy atmosphere for everyone coming to the show and playing in the band.\nCowTown Inc plays music from the 70’s up to today. Ya never know what you may hear when you come to a CowTown Inc show. But it will always be something to can tap your shoes or stomp your boots to.\nCowTown Inc consists of four musicians from various backgrounds and musical experience. Country-Rock Party Music… a little bit of everything!\n\nWant to learn more about Circleville Eagles or how to have your business featured at this event? Email shawnahartsaugh@yahoo.com.\nThis event is sponsored and organized by Circleville Eagles\, with promotional support from Pickaway County Visitors Bureau.\nProceeds from this event go back to community organizations and causes!\nCircleville Eagles F.O.E. 685 is a 501c3 nonprofit organization EIN 31-4183950.
URL:https://pickaway.com/event/boogie-on-the-blacktop-cowtown-inc/
LOCATION:Circleville Eagles\, 135 E Main Street\, Circleville\, OH\, 43113\, United States
CATEGORIES:Entertainment and Arts,Community,Children and Family Fun
ATTACH;FMTTYPE=image/png:https://pickaway.com/wp-content/uploads/2023/04/BTOB-June23-FB-1.png
END:VEVENT
END:VCALENDAR