BEGIN:VCALENDAR
VERSION:2.0
PRODID:-//Pickaway County Visitors Bureau - ECPv6.15.20//NONSGML v1.0//EN
CALSCALE:GREGORIAN
METHOD:PUBLISH
X-WR-CALNAME:Pickaway County Visitors Bureau
X-ORIGINAL-URL:https://pickaway.com
X-WR-CALDESC:Events for Pickaway County Visitors Bureau
REFRESH-INTERVAL;VALUE=DURATION:PT1H
X-Robots-Tag:noindex
X-PUBLISHED-TTL:PT1H
BEGIN:VTIMEZONE
TZID:America/New_York
BEGIN:DAYLIGHT
TZOFFSETFROM:-0500
TZOFFSETTO:-0400
TZNAME:EDT
DTSTART:20250309T070000
END:DAYLIGHT
BEGIN:STANDARD
TZOFFSETFROM:-0400
TZOFFSETTO:-0500
TZNAME:EST
DTSTART:20251102T060000
END:STANDARD
BEGIN:DAYLIGHT
TZOFFSETFROM:-0500
TZOFFSETTO:-0400
TZNAME:EDT
DTSTART:20260308T070000
END:DAYLIGHT
BEGIN:STANDARD
TZOFFSETFROM:-0400
TZOFFSETTO:-0500
TZNAME:EST
DTSTART:20261101T060000
END:STANDARD
BEGIN:DAYLIGHT
TZOFFSETFROM:-0500
TZOFFSETTO:-0400
TZNAME:EDT
DTSTART:20270314T070000
END:DAYLIGHT
BEGIN:STANDARD
TZOFFSETFROM:-0400
TZOFFSETTO:-0500
TZNAME:EST
DTSTART:20271107T060000
END:STANDARD
END:VTIMEZONE
BEGIN:VEVENT
DTSTART;TZID=America/New_York:20260426T130000
DTEND;TZID=America/New_York:20260426T150000
DTSTAMP:20260422T184204
CREATED:20260401T155812Z
LAST-MODIFIED:20260401T155812Z
UID:10003681-1777208400-1777215600@pickaway.com
SUMMARY:Plant Bingo
DESCRIPTION:Looking for fun things to do in Circleville\, Ohio this spring? Join Rhoads Garden Center for an afternoon of Plant Bingo\, featuring prizes\, refreshments\, and a greenhouse setting. \nYour $25 ticket includes 10 rounds of bingo with opportunities to win plant and garden-themed prizes\, plus door prizes\, a complimentary snack\, and one free raffle entry for a gift card giveaway. Enjoy plant fun facts and interactive contests throughout the event. \nThe Rhoadhouse 56 cash bar will be open with wine\, beer\, cocktails\, and non-alcoholic beverages available for purchase. \nSpace is limited to 50 participants. Advance registration is recommended.
URL:https://pickaway.com/event/plant-bingo/
LOCATION:Rhoads Garden Center Inc\, 1051 St. Rt. 56 East\, Circleville\, OH\, 43113\, United States
CATEGORIES:Tours & Experiences,Community,Hobbies
ATTACH;FMTTYPE=image/jpeg:https://pickaway.com/wp-content/uploads/2022/05/Plants.jpg
END:VEVENT
END:VCALENDAR