BEGIN:VCALENDAR
VERSION:2.0
PRODID:-//Pickaway County Visitors Bureau - ECPv6.15.20//NONSGML v1.0//EN
CALSCALE:GREGORIAN
METHOD:PUBLISH
X-WR-CALNAME:Pickaway County Visitors Bureau
X-ORIGINAL-URL:https://pickaway.com
X-WR-CALDESC:Events for Pickaway County Visitors Bureau
REFRESH-INTERVAL;VALUE=DURATION:PT1H
X-Robots-Tag:noindex
X-PUBLISHED-TTL:PT1H
BEGIN:VTIMEZONE
TZID:America/New_York
BEGIN:DAYLIGHT
TZOFFSETFROM:-0500
TZOFFSETTO:-0400
TZNAME:EDT
DTSTART:20250309T070000
END:DAYLIGHT
BEGIN:STANDARD
TZOFFSETFROM:-0400
TZOFFSETTO:-0500
TZNAME:EST
DTSTART:20251102T060000
END:STANDARD
BEGIN:DAYLIGHT
TZOFFSETFROM:-0500
TZOFFSETTO:-0400
TZNAME:EDT
DTSTART:20260308T070000
END:DAYLIGHT
BEGIN:STANDARD
TZOFFSETFROM:-0400
TZOFFSETTO:-0500
TZNAME:EST
DTSTART:20261101T060000
END:STANDARD
BEGIN:DAYLIGHT
TZOFFSETFROM:-0500
TZOFFSETTO:-0400
TZNAME:EDT
DTSTART:20270314T070000
END:DAYLIGHT
BEGIN:STANDARD
TZOFFSETFROM:-0400
TZOFFSETTO:-0500
TZNAME:EST
DTSTART:20271107T060000
END:STANDARD
END:VTIMEZONE
BEGIN:VEVENT
DTSTART;TZID=America/New_York:20260718T090000
DTEND;TZID=America/New_York:20260718T120000
DTSTAMP:20260420T112212
CREATED:20260107T151949Z
LAST-MODIFIED:20260107T151949Z
UID:10003189-1784365200-1784376000@pickaway.com
SUMMARY:Ashville Community Market 2026
DESCRIPTION:The Ashville Community Market returns for the 2026 season\, bringing together local vendors\, fresh produce\, handmade goods\, live music\, and family-friendly fun in the heart of Ashville\, Ohio. \nHeld one Friday each month from April through September\, the Ashville Community Market is a welcoming outdoor market where visitors can shop local\, support small businesses\, and enjoy a relaxed community atmosphere. Each market features a rotating lineup of local musicians\, along with vendors offering produce\, arts and crafts\, baked goods\, specialty items\, and more. \nFamilies are encouraged to attend\, with activities designed to keep all ages engaged. Food trucks and special attractions add to the experience\, making each market date a little different while keeping the same small-town charm Ashville is known for. \n2026 Market Dates & Live Music Lineup\n\n\nApril 18 – Jeff Weaver \n\n\nMay 23 – Kyan Conn \n\n\nJune 20 – Jacob Brown \n\n\nJuly 18 – Campfire & Whiskey \n\n\nAugust 22 – Open / To Be Announced \n\n\nSeptember 19 – Roundtown Radio \n\n\nTime: 9:00 a.m. – NoonLocation: Ashville Park\, Ashville\, Ohio \nWhether you’re a local or visiting Pickaway County\, the Ashville Community Market is a great way to experience local flavor\, live music\, and community connection all in one place. \nVendor applications are open for the 2026 season. For details\, updates\, and vendor information\, visit ashvillecommunitymarket.org.
URL:https://pickaway.com/event/ashville-community-market-2026/2026-07-18/
LOCATION:Ashville Community Park\, 165 Walnut St\, Ashville\, OH\, 43103\, United States
CATEGORIES:Community,Hobbies
ATTACH;FMTTYPE=image/png:https://pickaway.com/wp-content/uploads/2023/04/My-project-1-82.png
END:VEVENT
BEGIN:VEVENT
DTSTART;TZID=America/New_York:20260718T190000
DTEND;TZID=America/New_York:20260718T230000
DTSTAMP:20260420T112213
CREATED:20251230T160806Z
LAST-MODIFIED:20251230T160806Z
UID:10003154-1784401200-1784415600@pickaway.com
SUMMARY:Boogie on the Blacktop
DESCRIPTION:Boogie on the Blacktop is a seasonal outdoor concert series in downtown Circleville\, Ohio\, bringing live music\, community\, and summer nights together. Presented by the Circleville Eagles #685\, the series features a rotating lineup of bands and a relaxed\, welcoming atmosphere for all ages. \nConcerts take place on select Fridays from May through September. Gates open at 6:00 PM\, with live music from 7:00 PM to 11:00 PM. Guests are encouraged to bring a lawn chair and enjoy an evening of live entertainment in the heart of Pickaway County. \n2026 Boogie on the Blacktop Lineup\n\n\nMay 30\, 2026 – Rockhouse \n\n\nJune 27\, 2026 – Trailer Park Boys \n\n\nJuly 18\, 2026 – Dan Orr Project \n\n\nAugust 29\, 2026 – Radio City \n\n\nSeptember 26\, 2026 – Gypsy Kyngs \n\n\nAdmission is $5 per person\, children under 11 are free\, and all events are open to the public. Guests 17 and under must be accompanied by an adult. No outside food or drink is permitted.
URL:https://pickaway.com/event/boogie-on-the-blacktop/2026-07-18/
LOCATION:Circleville Eagles\, 135 E Main Street\, Circleville\, OH\, 43113\, United States
CATEGORIES:Entertainment and Arts,Community
ATTACH;FMTTYPE=image/png:https://pickaway.com/wp-content/uploads/2025/03/Rock-Music.png
END:VEVENT
BEGIN:VEVENT
DTSTART;TZID=America/New_York:20260724T180000
DTEND;TZID=America/New_York:20260724T210000
DTSTAMP:20260420T112213
CREATED:20251222T150937Z
LAST-MODIFIED:20251222T150937Z
UID:10003140-1784916000-1784926800@pickaway.com
SUMMARY:South Bloomfield Summer Market
DESCRIPTION:The South Bloomfield Summer Market returns in 2026 with a series of outdoor community market nights featuring local vendors\, makers\, and family-friendly activities. \nHeld on select dates throughout the summer and early fall\, the market offers an opportunity to shop local\, support small businesses\, and enjoy a relaxed evening in the South Bloomfield community. Dates and times vary throughout the season\, including evening markets and a morning fall market. \nA special Kids Vendor Market will take place on July 24th\, highlighting youth entrepreneurs and young makers.
URL:https://pickaway.com/event/south-bloomfield-summer-market-2/2026-07-24/
LOCATION:Village of South Bloomfield\, 5000 Park Pl.\, South Bloomfield\, 43103\, United States
CATEGORIES:Community,Miscellaneous
ATTACH;FMTTYPE=image/png:https://pickaway.com/wp-content/uploads/2025/03/Untitled-design-10.png
END:VEVENT
BEGIN:VEVENT
DTSTART;VALUE=DATE:20260731
DTEND;VALUE=DATE:20260802
DTSTAMP:20260420T112213
CREATED:20251203T182155Z
LAST-MODIFIED:20251203T182431Z
UID:10003041-1785456000-1785628799@pickaway.com
SUMMARY:Ashville Community Festival
DESCRIPTION:Celebrate community\, flavor\, and fun in the heart of Ashville! Enjoy two days of live entertainment\, a variety of delicious food trucks\, unique vendors\, and local spirit—all in support of Ohio’s Small Town Museum and the Ashville community. It’s the perfect summer stop for food lovers and festival fans alike! \nFriday\, July 31 | 5–10 PMSaturday\, August 1 | 1 PM–10 PM \n 
URL:https://pickaway.com/event/ashville-food-truck-community-festival-2/
LOCATION:Ashville Community Park\, 165 Walnut St\, Ashville\, OH\, 43103\, United States
CATEGORIES:Festivals and Special Events,Community
ATTACH;FMTTYPE=image/png:https://pickaway.com/wp-content/uploads/2024/01/Untitled-design-2024-01-19T100253.862.png
END:VEVENT
BEGIN:VEVENT
DTSTART;VALUE=DATE:20260731
DTEND;VALUE=DATE:20260802
DTSTAMP:20260420T112213
CREATED:20260213T143202Z
LAST-MODIFIED:20260213T143202Z
UID:10003287-1785456000-1785628799@pickaway.com
SUMMARY:Stained Pumpkin Tattoo Convention and Market
DESCRIPTION:Circleville is making history with its first-ever tattoo convention\, hosted by Oblivion Ink and artist Ahneka Campbell. This exciting new event celebrates the talented tattoo artists of Circleville while welcoming visiting artists and creatives to share their craft with the community. \nGuests can experience live tattooing\, connect with artists\, explore a wide range of artistic styles\, and witness the creativity that continues to shape Circleville’s growing arts scene. Whether you’re a tattoo enthusiast\, an art supporter\, or simply curious\, this event offers an opportunity to experience a vibrant form of artistic expression up close. \nIn addition to tattoo artists\, the convention will feature shopping vendors and food trucks\, making it a full-day experience. Come hungry\, browse unique merchandise\, and support small businesses while celebrating the art and culture happening right here in Pickaway County.
URL:https://pickaway.com/event/stained-pumpkin-tattoo-convention-and-market/
LOCATION:Pickaway Agriculture and Event Center\, 415 Lancaster Pike\, Circleville\, OH\, 43113\, United States
CATEGORIES:Entertainment and Arts,Hobbies
ATTACH;FMTTYPE=image/jpeg:https://pickaway.com/wp-content/uploads/2026/02/633478213_122094353103272733_9086465805048519257_n-1-e1770993037617.jpg
END:VEVENT
BEGIN:VEVENT
DTSTART;VALUE=DATE:20260731
DTEND;VALUE=DATE:20260802
DTSTAMP:20260420T112213
CREATED:20260318T163257Z
LAST-MODIFIED:20260318T163257Z
UID:10003615-1785456000-1785628799@pickaway.com
SUMMARY:Village of South Bloomfield Community Yard Sale
DESCRIPTION:Treasure hunters\, this one’s for you! The Village of South Bloomfield Community Yard Sale returns June 5–6\, 2026. \nSpend the day exploring yard sales throughout the village as residents clean out closets\, garages\, and storage spaces. You’ll find everything from household goods and clothing to toys\, collectibles\, and hidden gems. \nSales take place throughout South Bloomfield\, so be sure to drive or walk around town to see what you can find. Times may vary by location.
URL:https://pickaway.com/event/village-of-south-bloomfield-community-yard-sale-2/
LOCATION:Village of South Bloomfield\, 5000 Park Pl.\, South Bloomfield\, 43103\, United States
CATEGORIES:Community,Hobbies
ATTACH;FMTTYPE=image/jpeg:https://pickaway.com/wp-content/uploads/2022/07/ashville-yard-sale.jpg
END:VEVENT
BEGIN:VEVENT
DTSTART;TZID=America/New_York:20260801T160000
DTEND;TZID=America/New_York:20260801T200000
DTSTAMP:20260420T112213
CREATED:20260102T195055Z
LAST-MODIFIED:20260102T201057Z
UID:10003173-1785600000-1785614400@pickaway.com
SUMMARY:Commercial Point Food Truck Festival
DESCRIPTION:Organized by the Village of Commercial Point\, this food truck festival brings a variety of food vendors together for an evening of great eats and community fun in Pickaway County. \nAttendees can enjoy a wide selection of food trucks in a relaxed\, family-friendly setting in Commercial Point\, Ohio. \nEvent details\, schedules\, and registration information are provided by the event organizer. Learn more at https://nunbetterevents.com/index.php. \nThis event is promoted by the Pickaway County Visitors Bureau as part of our mission to highlight dining experiences and community events across Pickaway County.
URL:https://pickaway.com/event/commercial-point-food-truck-festival-august/2026-08-01/
LOCATION:Commercial Point\, 10 W. Scioto St.\, Commercial Point\, OH\, 43116\, United States
CATEGORIES:Community,Children and Family Fun
ATTACH;FMTTYPE=image/png:https://pickaway.com/wp-content/uploads/2024/01/Untitled-design-2024-01-19T100253.862.png
END:VEVENT
BEGIN:VEVENT
DTSTART;TZID=America/New_York:20260801T160000
DTEND;TZID=America/New_York:20260801T200000
DTSTAMP:20260420T112213
CREATED:20260319T152013Z
LAST-MODIFIED:20260319T152013Z
UID:10003630-1785600000-1785614400@pickaway.com
SUMMARY:Commercial Point Food Truck Event
DESCRIPTION:Enjoy a variety of food trucks in Commercial Point\, Ohio offering options for the whole family. This community event is a great way to experience local flavors and enjoy a casual evening in Pickaway County.
URL:https://pickaway.com/event/commercial-point-food-truck-event/2026-08-01/
LOCATION:Commercial Point Men’s Club\, 26 West Scioto St.\, Commercial Point\, 43116\, United States
CATEGORIES:Community,Miscellaneous
ATTACH;FMTTYPE=image/png:https://pickaway.com/wp-content/uploads/2023/06/My-project-1-2023-06-28T094754.374.png
END:VEVENT
BEGIN:VEVENT
DTSTART;TZID=America/New_York:20260807T180000
DTEND;TZID=America/New_York:20260807T210000
DTSTAMP:20260420T112213
CREATED:20251222T150937Z
LAST-MODIFIED:20251222T150937Z
UID:10003141-1786125600-1786136400@pickaway.com
SUMMARY:South Bloomfield Summer Market
DESCRIPTION:The South Bloomfield Summer Market returns in 2026 with a series of outdoor community market nights featuring local vendors\, makers\, and family-friendly activities. \nHeld on select dates throughout the summer and early fall\, the market offers an opportunity to shop local\, support small businesses\, and enjoy a relaxed evening in the South Bloomfield community. Dates and times vary throughout the season\, including evening markets and a morning fall market. \nA special Kids Vendor Market will take place on July 24th\, highlighting youth entrepreneurs and young makers.
URL:https://pickaway.com/event/south-bloomfield-summer-market-2/2026-08-07/
LOCATION:Village of South Bloomfield\, 5000 Park Pl.\, South Bloomfield\, 43103\, United States
CATEGORIES:Community,Miscellaneous
ATTACH;FMTTYPE=image/png:https://pickaway.com/wp-content/uploads/2025/03/Untitled-design-10.png
END:VEVENT
BEGIN:VEVENT
DTSTART;TZID=America/New_York:20260808T100000
DTEND;TZID=America/New_York:20260808T130000
DTSTAMP:20260420T112213
CREATED:20260319T151259Z
LAST-MODIFIED:20260319T151259Z
UID:10003627-1786183200-1786194000@pickaway.com
SUMMARY:Commercial Point Farmers Market
DESCRIPTION:Shop local at the Commercial Point Farmers Market featuring fresh produce\, handmade goods\, and a variety of local vendors. This seasonal market is a great way to support small businesses while exploring things to do in Pickaway County\, Ohio.
URL:https://pickaway.com/event/commercial-point-farmers-market-2/2026-08-08/
LOCATION:10 West Scioto St. Commercial Point\, 10 West Scioto Street\, Commercial Point\, 43116\, United States
CATEGORIES:Community,Hobbies,Miscellaneous
ATTACH;FMTTYPE=image/jpeg:https://pickaway.com/wp-content/uploads/2023/04/Produce.jpg
END:VEVENT
BEGIN:VEVENT
DTSTART;TZID=America/New_York:20260808T130000
DTEND;TZID=America/New_York:20260808T230000
DTSTAMP:20260420T112213
CREATED:20260319T142835Z
LAST-MODIFIED:20260319T142835Z
UID:10003621-1786194000-1786230000@pickaway.com
SUMMARY:Commercial Point Car Show & Concert
DESCRIPTION:Enjoy a full day of classic cars and live music at the Commercial Point Car Show and Concert. A must-visit summer event in Pickaway County.
URL:https://pickaway.com/event/commercial-point-car-show-concert/
LOCATION:10 West Scioto St. Commercial Point\, 10 West Scioto Street\, Commercial Point\, 43116\, United States
CATEGORIES:Entertainment and Arts,Hobbies,Children and Family Fun
ATTACH;FMTTYPE=image/jpeg:https://pickaway.com/wp-content/uploads/2022/07/Car-Show.jpg
END:VEVENT
BEGIN:VEVENT
DTSTART;TZID=America/New_York:20260822T090000
DTEND;TZID=America/New_York:20260822T120000
DTSTAMP:20260420T112213
CREATED:20260107T151949Z
LAST-MODIFIED:20260107T151949Z
UID:10003190-1787389200-1787400000@pickaway.com
SUMMARY:Ashville Community Market 2026
DESCRIPTION:The Ashville Community Market returns for the 2026 season\, bringing together local vendors\, fresh produce\, handmade goods\, live music\, and family-friendly fun in the heart of Ashville\, Ohio. \nHeld one Friday each month from April through September\, the Ashville Community Market is a welcoming outdoor market where visitors can shop local\, support small businesses\, and enjoy a relaxed community atmosphere. Each market features a rotating lineup of local musicians\, along with vendors offering produce\, arts and crafts\, baked goods\, specialty items\, and more. \nFamilies are encouraged to attend\, with activities designed to keep all ages engaged. Food trucks and special attractions add to the experience\, making each market date a little different while keeping the same small-town charm Ashville is known for. \n2026 Market Dates & Live Music Lineup\n\n\nApril 18 – Jeff Weaver \n\n\nMay 23 – Kyan Conn \n\n\nJune 20 – Jacob Brown \n\n\nJuly 18 – Campfire & Whiskey \n\n\nAugust 22 – Open / To Be Announced \n\n\nSeptember 19 – Roundtown Radio \n\n\nTime: 9:00 a.m. – NoonLocation: Ashville Park\, Ashville\, Ohio \nWhether you’re a local or visiting Pickaway County\, the Ashville Community Market is a great way to experience local flavor\, live music\, and community connection all in one place. \nVendor applications are open for the 2026 season. For details\, updates\, and vendor information\, visit ashvillecommunitymarket.org.
URL:https://pickaway.com/event/ashville-community-market-2026/2026-08-22/
LOCATION:Ashville Community Park\, 165 Walnut St\, Ashville\, OH\, 43103\, United States
CATEGORIES:Community,Hobbies
ATTACH;FMTTYPE=image/png:https://pickaway.com/wp-content/uploads/2023/04/My-project-1-82.png
END:VEVENT
BEGIN:VEVENT
DTSTART;TZID=America/New_York:20260829T190000
DTEND;TZID=America/New_York:20260829T230000
DTSTAMP:20260420T112213
CREATED:20251230T160806Z
LAST-MODIFIED:20251230T160806Z
UID:10003155-1788030000-1788044400@pickaway.com
SUMMARY:Boogie on the Blacktop
DESCRIPTION:Boogie on the Blacktop is a seasonal outdoor concert series in downtown Circleville\, Ohio\, bringing live music\, community\, and summer nights together. Presented by the Circleville Eagles #685\, the series features a rotating lineup of bands and a relaxed\, welcoming atmosphere for all ages. \nConcerts take place on select Fridays from May through September. Gates open at 6:00 PM\, with live music from 7:00 PM to 11:00 PM. Guests are encouraged to bring a lawn chair and enjoy an evening of live entertainment in the heart of Pickaway County. \n2026 Boogie on the Blacktop Lineup\n\n\nMay 30\, 2026 – Rockhouse \n\n\nJune 27\, 2026 – Trailer Park Boys \n\n\nJuly 18\, 2026 – Dan Orr Project \n\n\nAugust 29\, 2026 – Radio City \n\n\nSeptember 26\, 2026 – Gypsy Kyngs \n\n\nAdmission is $5 per person\, children under 11 are free\, and all events are open to the public. Guests 17 and under must be accompanied by an adult. No outside food or drink is permitted.
URL:https://pickaway.com/event/boogie-on-the-blacktop/2026-08-29/
LOCATION:Circleville Eagles\, 135 E Main Street\, Circleville\, OH\, 43113\, United States
CATEGORIES:Entertainment and Arts,Community
ATTACH;FMTTYPE=image/png:https://pickaway.com/wp-content/uploads/2025/03/Rock-Music.png
END:VEVENT
BEGIN:VEVENT
DTSTART;TZID=America/New_York:20260912T090000
DTEND;TZID=America/New_York:20260912T120000
DTSTAMP:20260420T112213
CREATED:20251222T150937Z
LAST-MODIFIED:20251222T150937Z
UID:10003142-1789203600-1789214400@pickaway.com
SUMMARY:South Bloomfield Summer Market
DESCRIPTION:The South Bloomfield Summer Market returns in 2026 with a series of outdoor community market nights featuring local vendors\, makers\, and family-friendly activities. \nHeld on select dates throughout the summer and early fall\, the market offers an opportunity to shop local\, support small businesses\, and enjoy a relaxed evening in the South Bloomfield community. Dates and times vary throughout the season\, including evening markets and a morning fall market. \nA special Kids Vendor Market will take place on July 24th\, highlighting youth entrepreneurs and young makers.
URL:https://pickaway.com/event/south-bloomfield-summer-market-2/2026-09-12/
LOCATION:Village of South Bloomfield\, 5000 Park Pl.\, South Bloomfield\, 43103\, United States
CATEGORIES:Community,Miscellaneous
ATTACH;FMTTYPE=image/png:https://pickaway.com/wp-content/uploads/2025/03/Untitled-design-10.png
END:VEVENT
BEGIN:VEVENT
DTSTART;TZID=America/New_York:20260912T090000
DTEND;TZID=America/New_York:20260912T170000
DTSTAMP:20260420T112213
CREATED:20260116T181751Z
LAST-MODIFIED:20260116T181751Z
UID:10003196-1789203600-1789232400@pickaway.com
SUMMARY:Kingston Community Tractor Show
DESCRIPTION:Celebrate small-town tradition at the Third Annual Kingston Community Tractor Show\, presented by Minshall Farms Partnership. This family-friendly event features a variety of vintage tractors (all makes and models up to 1980)\, food trucks\, a scenic tractor drive\, and an evening meal followed by live local entertainment. \nFood vendors\, ice cream\, fun activities for kids\, a tractor drive\, and evening meal and entertainment. A true community event that we are honored to host again this year. Save the date!\n\nContact Bob 740-497-2531\, Will 740-412-4018\, or Catherine 740-207-6403 for more information.
URL:https://pickaway.com/event/kingston-community-tractor-show-2/
LOCATION:30183 Pickaway-Saltcreek Rd\, Kingston\, OH\, 30183 Pickaway-Saltcreek Rd.\, Kingston\, 45644\, United States
CATEGORIES:Community,Hobbies,Children and Family Fun,Miscellaneous
ATTACH;FMTTYPE=image/png:https://pickaway.com/wp-content/uploads/2025/06/Untitled-design-25.png
END:VEVENT
BEGIN:VEVENT
DTSTART;TZID=America/New_York:20260912T100000
DTEND;TZID=America/New_York:20260912T130000
DTSTAMP:20260420T112213
CREATED:20260319T151259Z
LAST-MODIFIED:20260319T151259Z
UID:10003628-1789207200-1789218000@pickaway.com
SUMMARY:Commercial Point Farmers Market
DESCRIPTION:Shop local at the Commercial Point Farmers Market featuring fresh produce\, handmade goods\, and a variety of local vendors. This seasonal market is a great way to support small businesses while exploring things to do in Pickaway County\, Ohio.
URL:https://pickaway.com/event/commercial-point-farmers-market-2/2026-09-12/
LOCATION:10 West Scioto St. Commercial Point\, 10 West Scioto Street\, Commercial Point\, 43116\, United States
CATEGORIES:Community,Hobbies,Miscellaneous
ATTACH;FMTTYPE=image/jpeg:https://pickaway.com/wp-content/uploads/2023/04/Produce.jpg
END:VEVENT
BEGIN:VEVENT
DTSTART;TZID=America/New_York:20260919T090000
DTEND;TZID=America/New_York:20260919T120000
DTSTAMP:20260420T112213
CREATED:20260107T151949Z
LAST-MODIFIED:20260107T151949Z
UID:10003191-1789808400-1789819200@pickaway.com
SUMMARY:Ashville Community Market 2026
DESCRIPTION:The Ashville Community Market returns for the 2026 season\, bringing together local vendors\, fresh produce\, handmade goods\, live music\, and family-friendly fun in the heart of Ashville\, Ohio. \nHeld one Friday each month from April through September\, the Ashville Community Market is a welcoming outdoor market where visitors can shop local\, support small businesses\, and enjoy a relaxed community atmosphere. Each market features a rotating lineup of local musicians\, along with vendors offering produce\, arts and crafts\, baked goods\, specialty items\, and more. \nFamilies are encouraged to attend\, with activities designed to keep all ages engaged. Food trucks and special attractions add to the experience\, making each market date a little different while keeping the same small-town charm Ashville is known for. \n2026 Market Dates & Live Music Lineup\n\n\nApril 18 – Jeff Weaver \n\n\nMay 23 – Kyan Conn \n\n\nJune 20 – Jacob Brown \n\n\nJuly 18 – Campfire & Whiskey \n\n\nAugust 22 – Open / To Be Announced \n\n\nSeptember 19 – Roundtown Radio \n\n\nTime: 9:00 a.m. – NoonLocation: Ashville Park\, Ashville\, Ohio \nWhether you’re a local or visiting Pickaway County\, the Ashville Community Market is a great way to experience local flavor\, live music\, and community connection all in one place. \nVendor applications are open for the 2026 season. For details\, updates\, and vendor information\, visit ashvillecommunitymarket.org.
URL:https://pickaway.com/event/ashville-community-market-2026/2026-09-19/
LOCATION:Ashville Community Park\, 165 Walnut St\, Ashville\, OH\, 43103\, United States
CATEGORIES:Community,Hobbies
ATTACH;FMTTYPE=image/png:https://pickaway.com/wp-content/uploads/2023/04/My-project-1-82.png
END:VEVENT
BEGIN:VEVENT
DTSTART;TZID=America/New_York:20261003T120000
DTEND;TZID=America/New_York:20261003T140000
DTSTAMP:20260420T112213
CREATED:20260319T150632Z
LAST-MODIFIED:20260319T150632Z
UID:10003622-1791028800-1791036000@pickaway.com
SUMMARY:Commercial Point Halloween Fest
DESCRIPTION:Get into the Halloween spirit at Commercial Point’s Halloween Fest with family-friendly activities and seasonal fun in Pickaway County.
URL:https://pickaway.com/event/commercial-point-halloween-fest/
LOCATION:10 West Scioto St. Commercial Point\, 10 West Scioto Street\, Commercial Point\, 43116\, United States
CATEGORIES:Community,Hobbies,Children and Family Fun
ATTACH;FMTTYPE=image/jpeg:https://pickaway.com/wp-content/uploads/2022/09/istockphoto-1039329616-612x612-1.jpg
END:VEVENT
BEGIN:VEVENT
DTSTART;TZID=America/New_York:20261031T150000
DTEND;TZID=America/New_York:20261031T190000
DTSTAMP:20260420T112213
CREATED:20251222T143207Z
LAST-MODIFIED:20251222T144226Z
UID:10003104-1793458800-1793473200@pickaway.com
SUMMARY:Trunk-N-Treat at the Gregg-Crites Octagon House
DESCRIPTION:3:00 PM – 7:00 PM (Trunk-N-Treat)Flashlight Tours: 7:00 PM – Midnight \nEvent Description:Bring the family to the Gregg-Crites Octagon House for a free Trunk-N-Treat event on Halloween. \nTrick-or-treating is open to all and free to attend. During Trunk-N-Treat hours\, tours of the Octagon House will also be free. Following the event\, self-guided flashlight tours will resume at the regular price. \nPricing:Trunk-N-Treat: FreeFlashlight Tours after 7 PM: $10 per person
URL:https://pickaway.com/event/trunk-n-treat-at-the-gregg-crites-octagon-house/
LOCATION:Octagon House\, 440 Crites Road\, Circleville\, 43113\, United States
CATEGORIES:Family Friendly,Community
ATTACH;FMTTYPE=image/jpeg:https://pickaway.com/wp-content/uploads/2023/09/Front-of-Octagon-Fall-2016-1024x576-1.jpg
END:VEVENT
END:VCALENDAR