BEGIN:VCALENDAR
VERSION:2.0
PRODID:-//Pickaway County Visitors Bureau - ECPv6.15.20//NONSGML v1.0//EN
CALSCALE:GREGORIAN
METHOD:PUBLISH
X-ORIGINAL-URL:https://pickaway.com
X-WR-CALDESC:Events for Pickaway County Visitors Bureau
REFRESH-INTERVAL;VALUE=DURATION:PT1H
X-Robots-Tag:noindex
X-PUBLISHED-TTL:PT1H
BEGIN:VTIMEZONE
TZID:America/New_York
BEGIN:DAYLIGHT
TZOFFSETFROM:-0500
TZOFFSETTO:-0400
TZNAME:EDT
DTSTART:20240310T070000
END:DAYLIGHT
BEGIN:STANDARD
TZOFFSETFROM:-0400
TZOFFSETTO:-0500
TZNAME:EST
DTSTART:20241103T060000
END:STANDARD
BEGIN:DAYLIGHT
TZOFFSETFROM:-0500
TZOFFSETTO:-0400
TZNAME:EDT
DTSTART:20250309T070000
END:DAYLIGHT
BEGIN:STANDARD
TZOFFSETFROM:-0400
TZOFFSETTO:-0500
TZNAME:EST
DTSTART:20251102T060000
END:STANDARD
BEGIN:DAYLIGHT
TZOFFSETFROM:-0500
TZOFFSETTO:-0400
TZNAME:EDT
DTSTART:20260308T070000
END:DAYLIGHT
BEGIN:STANDARD
TZOFFSETFROM:-0400
TZOFFSETTO:-0500
TZNAME:EST
DTSTART:20261101T060000
END:STANDARD
END:VTIMEZONE
BEGIN:VEVENT
DTSTART;TZID=America/New_York:20250220T173000
DTEND;TZID=America/New_York:20250220T193000
DTSTAMP:20260421T102227
CREATED:20250207T162415Z
LAST-MODIFIED:20250207T163341Z
UID:10002128-1740072600-1740079800@pickaway.com
SUMMARY:Ashville Business Association Networking Mixer
DESCRIPTION:Join the Ashville Business Association for an evening of valuable networking\, insightful conversations\, and new opportunities! This event is designed to bring together business owners\, entrepreneurs\, and professionals in the Village of Ashville to connect\, collaborate\, and support local economic growth. Don’t miss this chance to expand your network in a relaxed and welcoming atmosphere. Cash bar available. \nFor more information\, contact Katharine Blades at 614.940.7038 or katharineblades@gmail.com.
URL:https://pickaway.com/event/ashville-business-association-networking-mixer/
LOCATION:Jackie Ray’s Grill and Pub\, 20 Cromley St\, Ashville\, 43103\, United States
CATEGORIES:Community,Miscellaneous
ATTACH;FMTTYPE=image/png:https://pickaway.com/wp-content/uploads/2025/02/Untitled-design-4.png
END:VEVENT
END:VCALENDAR