BEGIN:VCALENDAR
VERSION:2.0
PRODID:-//Pickaway County Visitors Bureau - ECPv6.15.20//NONSGML v1.0//EN
CALSCALE:GREGORIAN
METHOD:PUBLISH
X-ORIGINAL-URL:https://pickaway.com
X-WR-CALDESC:Events for Pickaway County Visitors Bureau
REFRESH-INTERVAL;VALUE=DURATION:PT1H
X-Robots-Tag:noindex
X-PUBLISHED-TTL:PT1H
BEGIN:VTIMEZONE
TZID:America/New_York
BEGIN:DAYLIGHT
TZOFFSETFROM:-0500
TZOFFSETTO:-0400
TZNAME:EDT
DTSTART:20240310T070000
END:DAYLIGHT
BEGIN:STANDARD
TZOFFSETFROM:-0400
TZOFFSETTO:-0500
TZNAME:EST
DTSTART:20241103T060000
END:STANDARD
BEGIN:DAYLIGHT
TZOFFSETFROM:-0500
TZOFFSETTO:-0400
TZNAME:EDT
DTSTART:20250309T070000
END:DAYLIGHT
BEGIN:STANDARD
TZOFFSETFROM:-0400
TZOFFSETTO:-0500
TZNAME:EST
DTSTART:20251102T060000
END:STANDARD
BEGIN:DAYLIGHT
TZOFFSETFROM:-0500
TZOFFSETTO:-0400
TZNAME:EDT
DTSTART:20260308T070000
END:DAYLIGHT
BEGIN:STANDARD
TZOFFSETFROM:-0400
TZOFFSETTO:-0500
TZNAME:EST
DTSTART:20261101T060000
END:STANDARD
END:VTIMEZONE
BEGIN:VEVENT
DTSTART;TZID=America/New_York:20251214T090000
DTEND;TZID=America/New_York:20251214T110000
DTSTAMP:20260420T162834
CREATED:20251124T145759Z
LAST-MODIFIED:20251124T145759Z
UID:10003018-1765702800-1765710000@pickaway.com
SUMMARY:Breakfast with Santa at Deer Creek Lodge
DESCRIPTION:Enjoy a festive morning at Deer Creek Lodge during their annual Breakfast with Santa. Families are invited to Rafter’s Restaurant to share a warm holiday meal and spend time with Santa in a cozy\, cheerful setting. This seasonal tradition is a wonderful way to kick off the day at Deer Creek State Park\, offering great food\, friendly faces\, and plenty of Christmas spirit. Reservations are not required\, and all are welcome to attend. \nPricing:\n• $11.95 per child\n• $16.95 per adult \nFor more information\, please call 740-869-2020.
URL:https://pickaway.com/event/breakfast-with-santa-at-deer-creek-lodge/
LOCATION:Deer Creek State Park\, 20635 State Park Road 20\, Mount Sterling\, OH\, 43143\, United States
CATEGORIES:Festivals and Special Events,Children and Family Fun
ATTACH;FMTTYPE=image/png:https://pickaway.com/wp-content/uploads/2023/11/Untitled-design-76.png
END:VEVENT
BEGIN:VEVENT
DTSTART;TZID=America/New_York:20251214T143000
DTEND;TZID=America/New_York:20251214T170000
DTSTAMP:20260420T162834
CREATED:20251103T150336Z
LAST-MODIFIED:20251103T151202Z
UID:10002967-1765722600-1765731600@pickaway.com
SUMMARY:A Holiday Trio of One-Acts
DESCRIPTION:Celebrate the season with Roundtown Players as they present three festive one-act plays that bring laughter\, heart\, and holiday spirit to the stage:• Christmas Carol Inc by Brian Marsh• The Living Nativity by Karen Jones• ’Twas the Night Before the Night Before Christmas by Pat Cook \nShowtimes:• December 5\, 6\, 12\, 13 at 7:30 PM• December 7\, 14 at 2:30 PM \nTickets:Presale begins November 6 at 10 AM with a special code.General ticket sales open November 13 at 10 AM.Get tickets at our.show/rtpholidaytrio or purchase limited tickets at the door. \n Duration: Approximately 2 hours and 30 minutes♿ Please note: the theater’s chair lift is currently out of service—follow Roundtown Players on Facebook for accessibility updates.
URL:https://pickaway.com/event/a-holiday-trio-of-one-acts/2025-12-14/
LOCATION:Memorial Hall\, 165 E Main St\, Circleville\, OH\, 43113
CATEGORIES:Entertainment and Arts,Festivals and Special Events,Children and Family Fun
ATTACH;FMTTYPE=image/png:https://pickaway.com/wp-content/uploads/2023/11/Untitled-design-71.png
END:VEVENT
END:VCALENDAR