BEGIN:VCALENDAR
VERSION:2.0
PRODID:-//Pickaway County Visitors Bureau - ECPv6.15.20//NONSGML v1.0//EN
CALSCALE:GREGORIAN
METHOD:PUBLISH
X-ORIGINAL-URL:https://pickaway.com
X-WR-CALDESC:Events for Pickaway County Visitors Bureau
REFRESH-INTERVAL;VALUE=DURATION:PT1H
X-Robots-Tag:noindex
X-PUBLISHED-TTL:PT1H
BEGIN:VTIMEZONE
TZID:America/New_York
BEGIN:DAYLIGHT
TZOFFSETFROM:-0500
TZOFFSETTO:-0400
TZNAME:EDT
DTSTART:20250309T070000
END:DAYLIGHT
BEGIN:STANDARD
TZOFFSETFROM:-0400
TZOFFSETTO:-0500
TZNAME:EST
DTSTART:20251102T060000
END:STANDARD
BEGIN:DAYLIGHT
TZOFFSETFROM:-0500
TZOFFSETTO:-0400
TZNAME:EDT
DTSTART:20260308T070000
END:DAYLIGHT
BEGIN:STANDARD
TZOFFSETFROM:-0400
TZOFFSETTO:-0500
TZNAME:EST
DTSTART:20261101T060000
END:STANDARD
BEGIN:DAYLIGHT
TZOFFSETFROM:-0500
TZOFFSETTO:-0400
TZNAME:EDT
DTSTART:20270314T070000
END:DAYLIGHT
BEGIN:STANDARD
TZOFFSETFROM:-0400
TZOFFSETTO:-0500
TZNAME:EST
DTSTART:20271107T060000
END:STANDARD
END:VTIMEZONE
BEGIN:VEVENT
DTSTART;TZID=America/New_York:20260425T090000
DTEND;TZID=America/New_York:20260425T120000
DTSTAMP:20260421T201612
CREATED:20260323T182831Z
LAST-MODIFIED:20260323T183803Z
UID:10003646-1777107600-1777118400@pickaway.com
SUMMARY:Arbor Day Fair at Barthelmas Park
DESCRIPTION:Celebrate Arbor Day in Circleville with a fun and educational morning at the Arbor Day Fair at Barthelmas Park. \nThis family-friendly event brings together local organizations including the Circleville Tree Commission\, Pickaway County Master Gardeners\, Rumpke Recycling\, and the Pickaway County Park District to share resources\, activities\, and information about trees and environmental care. \nGuests can explore interactive tables\, learn about tree care\, and connect with local experts. Free tree seedlings will be available while supplies last\, making it a great opportunity to bring a little greenery home. \nChildren can enjoy arts and crafts activities\, including a fun “make and take” tree hat. A tree planting demonstration will take place at 11:00 AM\, and the City Arborist and Tree Commissioners will be on-site to answer questions.
URL:https://pickaway.com/event/arbor-day-fair-at-barthelmas-park/
LOCATION:Barthelmas Park\, 830 Kingston Pike\, Circleville\, OH\, 43113\, United States
CATEGORIES:Community,Hobbies,Children and Family Fun
ATTACH;FMTTYPE=image/png:https://pickaway.com/wp-content/uploads/2024/03/Untitled-design-2024-03-05T135403.004.png
END:VEVENT
END:VCALENDAR