BEGIN:VCALENDAR
VERSION:2.0
PRODID:-//Pickaway County Visitors Bureau - ECPv6.15.20//NONSGML v1.0//EN
CALSCALE:GREGORIAN
METHOD:PUBLISH
X-WR-CALNAME:Pickaway County Visitors Bureau
X-ORIGINAL-URL:https://pickaway.com
X-WR-CALDESC:Events for Pickaway County Visitors Bureau
REFRESH-INTERVAL;VALUE=DURATION:PT1H
X-Robots-Tag:noindex
X-PUBLISHED-TTL:PT1H
BEGIN:VTIMEZONE
TZID:America/New_York
BEGIN:DAYLIGHT
TZOFFSETFROM:-0500
TZOFFSETTO:-0400
TZNAME:EDT
DTSTART:20230312T070000
END:DAYLIGHT
BEGIN:STANDARD
TZOFFSETFROM:-0400
TZOFFSETTO:-0500
TZNAME:EST
DTSTART:20231105T060000
END:STANDARD
BEGIN:DAYLIGHT
TZOFFSETFROM:-0500
TZOFFSETTO:-0400
TZNAME:EDT
DTSTART:20240310T070000
END:DAYLIGHT
BEGIN:STANDARD
TZOFFSETFROM:-0400
TZOFFSETTO:-0500
TZNAME:EST
DTSTART:20241103T060000
END:STANDARD
BEGIN:DAYLIGHT
TZOFFSETFROM:-0500
TZOFFSETTO:-0400
TZNAME:EDT
DTSTART:20250309T070000
END:DAYLIGHT
BEGIN:STANDARD
TZOFFSETFROM:-0400
TZOFFSETTO:-0500
TZNAME:EST
DTSTART:20251102T060000
END:STANDARD
END:VTIMEZONE
BEGIN:VEVENT
DTSTART;TZID=America/New_York:20240809T160000
DTEND;TZID=America/New_York:20240809T230000
DTSTAMP:20260421T151632
CREATED:20240702T151043Z
LAST-MODIFIED:20240702T151044Z
UID:10001537-1723219200-1723244400@pickaway.com
SUMMARY:15th Annual Chamber Night Golf Outing
DESCRIPTION:Join us for the 15th Annual Night Golf Outing at the Pickaway County Club! Friday\, August 9\, 2024 Registration: 4:00pm / Shotgun Start: 5:00pm Pickaway Country Club – 1399 Stoutsville Pike\, Circleville Registration includes green fees\, cart\, dinner and two beer/seltzer tickets per person. The last 9 holes will be played in the dark\, but we’ll provide you with glow sticks and 2 lighted golf balls. New This YearJoin our Clubhouse Team and enjoy dinner\, drinks\, fun & games Marshmallow Drive & Ball Drop Contest\n* Rain Date: Friday\, August 16
URL:https://pickaway.com/event/15th-annual-chamber-night-golf-outing/
LOCATION:1399 Stoutsville Pike Circleville OH 43113
CATEGORIES:Community,Hobbies,Sporting Events
ATTACH;FMTTYPE=image/png:https://pickaway.com/wp-content/uploads/2023/06/My-project-1-2023-06-28T145751.966.png
END:VEVENT
BEGIN:VEVENT
DTSTART;TZID=America/New_York:20240418T180000
DTEND;TZID=America/New_York:20240418T200000
DTSTAMP:20260421T151632
CREATED:20240301T172132Z
LAST-MODIFIED:20240301T172133Z
UID:10000949-1713463200-1713470400@pickaway.com
SUMMARY:Pickaway County Chamber of Commerce Annual Dinner
DESCRIPTION:JOIN US AS WE CELEBRATE BUSINESS IN PICKAWAY COUNTY\nPickaway County Chamber of Commerce Annual DinnerThursday\, April 18\, 2024 \nSocial: 6:00 p.m. * Dinner: 6:30 p.m. * Program: 7:00 p.m. \nFlora & Field\n21748 Deer Creek Rd.\nMount Sterling\, OH 43143 \nCatering by Elegant Eats ~ Cash Bar \nQuestions? Email info@pickawaychamber.com
URL:https://pickaway.com/event/pickaway-county-chamber-of-commerce-annual-dinner-2/
LOCATION:Flora and Field\, 21748 Deer Creek Road\, Mount Sterling\, OH\, 43143\, United States
CATEGORIES:Festivals and Special Events,Community,Miscellaneous
ATTACH;FMTTYPE=image/png:https://pickaway.com/wp-content/uploads/2024/03/Untitled-design-2024-03-01T122004.727.png
END:VEVENT
END:VCALENDAR