BEGIN:VCALENDAR
VERSION:2.0
PRODID:-//Pickaway County Visitors Bureau - ECPv6.15.20//NONSGML v1.0//EN
CALSCALE:GREGORIAN
METHOD:PUBLISH
X-ORIGINAL-URL:https://pickaway.com
X-WR-CALDESC:Events for Pickaway County Visitors Bureau
REFRESH-INTERVAL;VALUE=DURATION:PT1H
X-Robots-Tag:noindex
X-PUBLISHED-TTL:PT1H
BEGIN:VTIMEZONE
TZID:America/New_York
BEGIN:DAYLIGHT
TZOFFSETFROM:-0500
TZOFFSETTO:-0400
TZNAME:EDT
DTSTART:20240310T070000
END:DAYLIGHT
BEGIN:STANDARD
TZOFFSETFROM:-0400
TZOFFSETTO:-0500
TZNAME:EST
DTSTART:20241103T060000
END:STANDARD
BEGIN:DAYLIGHT
TZOFFSETFROM:-0500
TZOFFSETTO:-0400
TZNAME:EDT
DTSTART:20250309T070000
END:DAYLIGHT
BEGIN:STANDARD
TZOFFSETFROM:-0400
TZOFFSETTO:-0500
TZNAME:EST
DTSTART:20251102T060000
END:STANDARD
BEGIN:DAYLIGHT
TZOFFSETFROM:-0500
TZOFFSETTO:-0400
TZNAME:EDT
DTSTART:20260308T070000
END:DAYLIGHT
BEGIN:STANDARD
TZOFFSETFROM:-0400
TZOFFSETTO:-0500
TZNAME:EST
DTSTART:20261101T060000
END:STANDARD
END:VTIMEZONE
BEGIN:VEVENT
DTSTART;TZID=America/New_York:20251130T170000
DTEND;TZID=America/New_York:20251130T170000
DTSTAMP:20260424T063212
CREATED:20251103T143453Z
LAST-MODIFIED:20251103T145710Z
UID:10002955-1764522000-1764522000@pickaway.com
SUMMARY:Circleville’s Merry Tuba Christmas
DESCRIPTION:Tuba and euphonium players from across the region are invited to join in the festive sounds of Merry Tuba Christmas! This joyful holiday tradition celebrates the season with the deep\, rich tones of low brass. \nSchedule:• Registration: 2:30 PM• Rehearsal: 3:00 PM at Believe In Fitness\, 121 E. Franklin St. (rear)(Free parking on Franklin St. and in the lot across the street)• Concert: 5:00 PM at Trinity Lutheran Church (across the street from practice location) \nPlayer Details:• $15 registration fee (music available for purchase if needed)• Conducted by Eric Dieterich• Open to all tuba and euphonium players — audience members welcome to attend the concert! \nContact: pickawaycommunityband@gmail.com \nConcert is free for all to attend! 
URL:https://pickaway.com/event/circlevilles-merry-tuba-christmas/
LOCATION:Trinity Lutheran Church\, Circleville\, Ohio
CATEGORIES:Entertainment and Arts,Festivals and Special Events,Community,Hobbies,Children and Family Fun
ATTACH;FMTTYPE=image/png:https://pickaway.com/wp-content/uploads/2023/11/Untitled-design-61.png
END:VEVENT
END:VCALENDAR