BEGIN:VCALENDAR
VERSION:2.0
PRODID:-//Pickaway County Visitors Bureau - ECPv6.15.20//NONSGML v1.0//EN
CALSCALE:GREGORIAN
METHOD:PUBLISH
X-ORIGINAL-URL:https://pickaway.com
X-WR-CALDESC:Events for Pickaway County Visitors Bureau
REFRESH-INTERVAL;VALUE=DURATION:PT1H
X-Robots-Tag:noindex
X-PUBLISHED-TTL:PT1H
BEGIN:VTIMEZONE
TZID:America/New_York
BEGIN:DAYLIGHT
TZOFFSETFROM:-0500
TZOFFSETTO:-0400
TZNAME:EDT
DTSTART:20250309T070000
END:DAYLIGHT
BEGIN:STANDARD
TZOFFSETFROM:-0400
TZOFFSETTO:-0500
TZNAME:EST
DTSTART:20251102T060000
END:STANDARD
BEGIN:DAYLIGHT
TZOFFSETFROM:-0500
TZOFFSETTO:-0400
TZNAME:EDT
DTSTART:20260308T070000
END:DAYLIGHT
BEGIN:STANDARD
TZOFFSETFROM:-0400
TZOFFSETTO:-0500
TZNAME:EST
DTSTART:20261101T060000
END:STANDARD
BEGIN:DAYLIGHT
TZOFFSETFROM:-0500
TZOFFSETTO:-0400
TZNAME:EDT
DTSTART:20270314T070000
END:DAYLIGHT
BEGIN:STANDARD
TZOFFSETFROM:-0400
TZOFFSETTO:-0500
TZNAME:EST
DTSTART:20271107T060000
END:STANDARD
END:VTIMEZONE
BEGIN:VEVENT
DTSTART;TZID=America/New_York:20260606T100000
DTEND;TZID=America/New_York:20260606T140000
DTSTAMP:20260422T204726
CREATED:20260422T145622Z
LAST-MODIFIED:20260422T145622Z
UID:10003737-1780740000-1780754400@pickaway.com
SUMMARY:Pickaway County Celebration of the Arts
DESCRIPTION:Join the community for the Pickaway County Celebration of the Arts\, a family-friendly event highlighting creativity\, expression\, and local talent. \nHeld at Community United Methodist Church\, this event brings together artists\, performers\, and community partners for an afternoon filled with engaging activities and entertainment for all ages. \nVisitors can enjoy live performances\, explore local art\, and participate in hands-on creative experiences. Families will also find kid-friendly activities\, including summer reading information and interactive fun designed to inspire young artists.
URL:https://pickaway.com/event/pickaway-county-celebration-of-the-arts/
LOCATION:Community United Methodist Church\, 120 N. Pickaway St.\, Circleville\, 43113\, United States
CATEGORIES:Entertainment and Arts,Community,Children and Family Fun
ATTACH;FMTTYPE=image/png:https://pickaway.com/wp-content/uploads/2024/04/Untitled-design-2024-04-01T153704.567.png
END:VEVENT
END:VCALENDAR