BEGIN:VCALENDAR
VERSION:2.0
PRODID:-//Pickaway County Visitors Bureau - ECPv6.15.20//NONSGML v1.0//EN
CALSCALE:GREGORIAN
METHOD:PUBLISH
X-ORIGINAL-URL:https://pickaway.com
X-WR-CALDESC:Events for Pickaway County Visitors Bureau
REFRESH-INTERVAL;VALUE=DURATION:PT1H
X-Robots-Tag:noindex
X-PUBLISHED-TTL:PT1H
BEGIN:VTIMEZONE
TZID:America/New_York
BEGIN:DAYLIGHT
TZOFFSETFROM:-0500
TZOFFSETTO:-0400
TZNAME:EDT
DTSTART:20250309T070000
END:DAYLIGHT
BEGIN:STANDARD
TZOFFSETFROM:-0400
TZOFFSETTO:-0500
TZNAME:EST
DTSTART:20251102T060000
END:STANDARD
BEGIN:DAYLIGHT
TZOFFSETFROM:-0500
TZOFFSETTO:-0400
TZNAME:EDT
DTSTART:20260308T070000
END:DAYLIGHT
BEGIN:STANDARD
TZOFFSETFROM:-0400
TZOFFSETTO:-0500
TZNAME:EST
DTSTART:20261101T060000
END:STANDARD
BEGIN:DAYLIGHT
TZOFFSETFROM:-0500
TZOFFSETTO:-0400
TZNAME:EDT
DTSTART:20270314T070000
END:DAYLIGHT
BEGIN:STANDARD
TZOFFSETFROM:-0400
TZOFFSETTO:-0500
TZNAME:EST
DTSTART:20271107T060000
END:STANDARD
END:VTIMEZONE
BEGIN:VEVENT
DTSTART;TZID=America/New_York:20260923T170000
DTEND;TZID=America/New_York:20260923T213000
DTSTAMP:20260421T014930
CREATED:20240307T145234Z
LAST-MODIFIED:20240307T145234Z
UID:10001182-1790182800-1790199000@pickaway.com
SUMMARY:Bingo: Logan Elm Athletics Boosters
DESCRIPTION:Bingo on Wednesday Nights at Circleville AMVETS doors open at 5:00pm.\nBingo starts at 7:00pm.\n818 Tarlton Road\nCircleville\, Ohio 43113\nAll proceeds support funding for Athletic Uniforms\, safety & training Equipment\, and facilities within the Logan Elm School District.
URL:https://pickaway.com/event/bingo-logan-elm-athletics-boosters/2026-09-23/
LOCATION:AMVETS Post 2256\, 818 Tarlton Rd\, Circleville\, OH\, 43113
CATEGORIES:Community,Hobbies,Miscellaneous
ATTACH;FMTTYPE=image/png:https://pickaway.com/wp-content/uploads/2024/03/Untitled-design-2024-03-07T095159.688.png
END:VEVENT
BEGIN:VEVENT
DTSTART;TZID=America/New_York:20260924T130000
DTEND;TZID=America/New_York:20260924T140000
DTSTAMP:20260421T014930
CREATED:20260302T192928Z
LAST-MODIFIED:20260302T192928Z
UID:10003478-1790254800-1790258400@pickaway.com
SUMMARY:Tai Chi at the Senior Center
DESCRIPTION:This program uses Sun Style Tai Chi forms to: improve physical and mental balance\, increase flexibility\, decrease arthritis pain\, and help prevent falls. Tai Chi for Beginners can be done seated or standing and we will practice both during class.
URL:https://pickaway.com/event/tai-chi-at-the-senior-center/2026-09-24/
LOCATION:Pickaway Senior Center\, 2105 Chickasaw Dr\, Circleville\, OH\, 43113\, United States
CATEGORIES:Community,Miscellaneous
ATTACH;FMTTYPE=image/png:https://pickaway.com/wp-content/uploads/2026/03/Senior-Center-Tai-Chi.png
ORGANIZER;CN="Pickaway Senior Center":MAILTO:noreply@facebookmail.com
END:VEVENT
BEGIN:VEVENT
DTSTART;TZID=America/New_York:20260930T170000
DTEND;TZID=America/New_York:20260930T213000
DTSTAMP:20260421T014930
CREATED:20240307T145234Z
LAST-MODIFIED:20240307T145234Z
UID:10001183-1790787600-1790803800@pickaway.com
SUMMARY:Bingo: Logan Elm Athletics Boosters
DESCRIPTION:Bingo on Wednesday Nights at Circleville AMVETS doors open at 5:00pm.\nBingo starts at 7:00pm.\n818 Tarlton Road\nCircleville\, Ohio 43113\nAll proceeds support funding for Athletic Uniforms\, safety & training Equipment\, and facilities within the Logan Elm School District.
URL:https://pickaway.com/event/bingo-logan-elm-athletics-boosters/2026-09-30/
LOCATION:AMVETS Post 2256\, 818 Tarlton Rd\, Circleville\, OH\, 43113
CATEGORIES:Community,Hobbies,Miscellaneous
ATTACH;FMTTYPE=image/png:https://pickaway.com/wp-content/uploads/2024/03/Untitled-design-2024-03-07T095159.688.png
END:VEVENT
BEGIN:VEVENT
DTSTART;TZID=America/New_York:20261001T130000
DTEND;TZID=America/New_York:20261001T140000
DTSTAMP:20260421T014930
CREATED:20260302T192928Z
LAST-MODIFIED:20260302T192928Z
UID:10003479-1790859600-1790863200@pickaway.com
SUMMARY:Tai Chi at the Senior Center
DESCRIPTION:This program uses Sun Style Tai Chi forms to: improve physical and mental balance\, increase flexibility\, decrease arthritis pain\, and help prevent falls. Tai Chi for Beginners can be done seated or standing and we will practice both during class.
URL:https://pickaway.com/event/tai-chi-at-the-senior-center/2026-10-01/
LOCATION:Pickaway Senior Center\, 2105 Chickasaw Dr\, Circleville\, OH\, 43113\, United States
CATEGORIES:Community,Miscellaneous
ATTACH;FMTTYPE=image/png:https://pickaway.com/wp-content/uploads/2026/03/Senior-Center-Tai-Chi.png
ORGANIZER;CN="Pickaway Senior Center":MAILTO:noreply@facebookmail.com
END:VEVENT
BEGIN:VEVENT
DTSTART;VALUE=DATE:20261003
DTEND;VALUE=DATE:20261004
DTSTAMP:20260421T014930
CREATED:20260121T172254Z
LAST-MODIFIED:20260121T172254Z
UID:10003207-1790985600-1791071999@pickaway.com
SUMMARY:Kidspalooza
DESCRIPTION:Save the date for Kidspalooza\, a family-friendly community event featuring a car show\, live music\, a big wheel race\, and plenty of fun for all ages. This event supports our community and brings families together for a day of activities and entertainment. More details coming soon.
URL:https://pickaway.com/event/kidspalooza-2/
LOCATION:103 West Main Street Circleville\, 103 West Main Street\, Circleville\, OH\, 43113\, United States
CATEGORIES:Community,Children and Family Fun
ATTACH;FMTTYPE=image/jpeg:https://pickaway.com/wp-content/uploads/2023/04/Car-Show.jpg
END:VEVENT
BEGIN:VEVENT
DTSTART;TZID=America/New_York:20261003T120000
DTEND;TZID=America/New_York:20261003T140000
DTSTAMP:20260421T014930
CREATED:20260319T150632Z
LAST-MODIFIED:20260319T150632Z
UID:10003622-1791028800-1791036000@pickaway.com
SUMMARY:Commercial Point Halloween Fest
DESCRIPTION:Get into the Halloween spirit at Commercial Point’s Halloween Fest with family-friendly activities and seasonal fun in Pickaway County.
URL:https://pickaway.com/event/commercial-point-halloween-fest/
LOCATION:10 West Scioto St. Commercial Point\, 10 West Scioto Street\, Commercial Point\, 43116\, United States
CATEGORIES:Community,Hobbies,Children and Family Fun
ATTACH;FMTTYPE=image/jpeg:https://pickaway.com/wp-content/uploads/2022/09/istockphoto-1039329616-612x612-1.jpg
END:VEVENT
BEGIN:VEVENT
DTSTART;TZID=America/New_York:20261003T190000
DTEND;TZID=America/New_York:20261003T233000
DTSTAMP:20260421T014930
CREATED:20251222T143207Z
LAST-MODIFIED:20251222T145226Z
UID:10003113-1791054000-1791070200@pickaway.com
SUMMARY:Self-Guided Flashlight Tours at the Gregg-Crites Octagon House
DESCRIPTION:Experience the Gregg-Crites Octagon House after dark during self-guided flashlight tours. \nGuests are invited to bring their own flashlights and explore the historic home at their own pace. Meet members of the Roundtown Conservancy and FYNDING Paranormal\, ask questions\, and learn more about the history and mysteries surrounding Circleville’s second-oldest historic landmark. \nPricing:$10 per person at the doorChildren 12 and under are free \nNotes:This is a self-guided experience. Flashlights are required.
URL:https://pickaway.com/event/self-guided-flashlight-tours-at-the-gregg-crites-octagon-house/2026-10-03/
LOCATION:Octagon House\, 440 Crites Road\, Circleville\, 43113\, United States
CATEGORIES:Tours & Experiences,Community
ATTACH;FMTTYPE=image/jpeg:https://pickaway.com/wp-content/uploads/2023/09/Front-of-Octagon-Fall-2016-1024x576-1.jpg
END:VEVENT
BEGIN:VEVENT
DTSTART;TZID=America/New_York:20261007T170000
DTEND;TZID=America/New_York:20261007T213000
DTSTAMP:20260421T014930
CREATED:20240307T145234Z
LAST-MODIFIED:20240307T145234Z
UID:10001184-1791392400-1791408600@pickaway.com
SUMMARY:Bingo: Logan Elm Athletics Boosters
DESCRIPTION:Bingo on Wednesday Nights at Circleville AMVETS doors open at 5:00pm.\nBingo starts at 7:00pm.\n818 Tarlton Road\nCircleville\, Ohio 43113\nAll proceeds support funding for Athletic Uniforms\, safety & training Equipment\, and facilities within the Logan Elm School District.
URL:https://pickaway.com/event/bingo-logan-elm-athletics-boosters/2026-10-07/
LOCATION:AMVETS Post 2256\, 818 Tarlton Rd\, Circleville\, OH\, 43113
CATEGORIES:Community,Hobbies,Miscellaneous
ATTACH;FMTTYPE=image/png:https://pickaway.com/wp-content/uploads/2024/03/Untitled-design-2024-03-07T095159.688.png
END:VEVENT
BEGIN:VEVENT
DTSTART;TZID=America/New_York:20261008T130000
DTEND;TZID=America/New_York:20261008T140000
DTSTAMP:20260421T014930
CREATED:20260302T192928Z
LAST-MODIFIED:20260302T192928Z
UID:10003480-1791464400-1791468000@pickaway.com
SUMMARY:Tai Chi at the Senior Center
DESCRIPTION:This program uses Sun Style Tai Chi forms to: improve physical and mental balance\, increase flexibility\, decrease arthritis pain\, and help prevent falls. Tai Chi for Beginners can be done seated or standing and we will practice both during class.
URL:https://pickaway.com/event/tai-chi-at-the-senior-center/2026-10-08/
LOCATION:Pickaway Senior Center\, 2105 Chickasaw Dr\, Circleville\, OH\, 43113\, United States
CATEGORIES:Community,Miscellaneous
ATTACH;FMTTYPE=image/png:https://pickaway.com/wp-content/uploads/2026/03/Senior-Center-Tai-Chi.png
ORGANIZER;CN="Pickaway Senior Center":MAILTO:noreply@facebookmail.com
END:VEVENT
BEGIN:VEVENT
DTSTART;TZID=America/New_York:20261014T170000
DTEND;TZID=America/New_York:20261014T213000
DTSTAMP:20260421T014930
CREATED:20240307T145234Z
LAST-MODIFIED:20240307T145234Z
UID:10001185-1791997200-1792013400@pickaway.com
SUMMARY:Bingo: Logan Elm Athletics Boosters
DESCRIPTION:Bingo on Wednesday Nights at Circleville AMVETS doors open at 5:00pm.\nBingo starts at 7:00pm.\n818 Tarlton Road\nCircleville\, Ohio 43113\nAll proceeds support funding for Athletic Uniforms\, safety & training Equipment\, and facilities within the Logan Elm School District.
URL:https://pickaway.com/event/bingo-logan-elm-athletics-boosters/2026-10-14/
LOCATION:AMVETS Post 2256\, 818 Tarlton Rd\, Circleville\, OH\, 43113
CATEGORIES:Community,Hobbies,Miscellaneous
ATTACH;FMTTYPE=image/png:https://pickaway.com/wp-content/uploads/2024/03/Untitled-design-2024-03-07T095159.688.png
END:VEVENT
BEGIN:VEVENT
DTSTART;TZID=America/New_York:20261015T130000
DTEND;TZID=America/New_York:20261015T140000
DTSTAMP:20260421T014930
CREATED:20260302T192928Z
LAST-MODIFIED:20260302T192928Z
UID:10003481-1792069200-1792072800@pickaway.com
SUMMARY:Tai Chi at the Senior Center
DESCRIPTION:This program uses Sun Style Tai Chi forms to: improve physical and mental balance\, increase flexibility\, decrease arthritis pain\, and help prevent falls. Tai Chi for Beginners can be done seated or standing and we will practice both during class.
URL:https://pickaway.com/event/tai-chi-at-the-senior-center/2026-10-15/
LOCATION:Pickaway Senior Center\, 2105 Chickasaw Dr\, Circleville\, OH\, 43113\, United States
CATEGORIES:Community,Miscellaneous
ATTACH;FMTTYPE=image/png:https://pickaway.com/wp-content/uploads/2026/03/Senior-Center-Tai-Chi.png
ORGANIZER;CN="Pickaway Senior Center":MAILTO:noreply@facebookmail.com
END:VEVENT
BEGIN:VEVENT
DTSTART;TZID=America/New_York:20261021T170000
DTEND;TZID=America/New_York:20261021T213000
DTSTAMP:20260421T014930
CREATED:20240307T145234Z
LAST-MODIFIED:20240307T145234Z
UID:10001186-1792602000-1792618200@pickaway.com
SUMMARY:Bingo: Logan Elm Athletics Boosters
DESCRIPTION:Bingo on Wednesday Nights at Circleville AMVETS doors open at 5:00pm.\nBingo starts at 7:00pm.\n818 Tarlton Road\nCircleville\, Ohio 43113\nAll proceeds support funding for Athletic Uniforms\, safety & training Equipment\, and facilities within the Logan Elm School District.
URL:https://pickaway.com/event/bingo-logan-elm-athletics-boosters/2026-10-21/
LOCATION:AMVETS Post 2256\, 818 Tarlton Rd\, Circleville\, OH\, 43113
CATEGORIES:Community,Hobbies,Miscellaneous
ATTACH;FMTTYPE=image/png:https://pickaway.com/wp-content/uploads/2024/03/Untitled-design-2024-03-07T095159.688.png
END:VEVENT
BEGIN:VEVENT
DTSTART;TZID=America/New_York:20261022T130000
DTEND;TZID=America/New_York:20261022T140000
DTSTAMP:20260421T014930
CREATED:20260302T192928Z
LAST-MODIFIED:20260302T192928Z
UID:10003482-1792674000-1792677600@pickaway.com
SUMMARY:Tai Chi at the Senior Center
DESCRIPTION:This program uses Sun Style Tai Chi forms to: improve physical and mental balance\, increase flexibility\, decrease arthritis pain\, and help prevent falls. Tai Chi for Beginners can be done seated or standing and we will practice both during class.
URL:https://pickaway.com/event/tai-chi-at-the-senior-center/2026-10-22/
LOCATION:Pickaway Senior Center\, 2105 Chickasaw Dr\, Circleville\, OH\, 43113\, United States
CATEGORIES:Community,Miscellaneous
ATTACH;FMTTYPE=image/png:https://pickaway.com/wp-content/uploads/2026/03/Senior-Center-Tai-Chi.png
ORGANIZER;CN="Pickaway Senior Center":MAILTO:noreply@facebookmail.com
END:VEVENT
BEGIN:VEVENT
DTSTART;TZID=America/New_York:20261028T170000
DTEND;TZID=America/New_York:20261028T213000
DTSTAMP:20260421T014930
CREATED:20240307T145234Z
LAST-MODIFIED:20240307T145234Z
UID:10001187-1793206800-1793223000@pickaway.com
SUMMARY:Bingo: Logan Elm Athletics Boosters
DESCRIPTION:Bingo on Wednesday Nights at Circleville AMVETS doors open at 5:00pm.\nBingo starts at 7:00pm.\n818 Tarlton Road\nCircleville\, Ohio 43113\nAll proceeds support funding for Athletic Uniforms\, safety & training Equipment\, and facilities within the Logan Elm School District.
URL:https://pickaway.com/event/bingo-logan-elm-athletics-boosters/2026-10-28/
LOCATION:AMVETS Post 2256\, 818 Tarlton Rd\, Circleville\, OH\, 43113
CATEGORIES:Community,Hobbies,Miscellaneous
ATTACH;FMTTYPE=image/png:https://pickaway.com/wp-content/uploads/2024/03/Untitled-design-2024-03-07T095159.688.png
END:VEVENT
BEGIN:VEVENT
DTSTART;TZID=America/New_York:20261029T130000
DTEND;TZID=America/New_York:20261029T140000
DTSTAMP:20260421T014930
CREATED:20260302T192928Z
LAST-MODIFIED:20260302T192928Z
UID:10003483-1793278800-1793282400@pickaway.com
SUMMARY:Tai Chi at the Senior Center
DESCRIPTION:This program uses Sun Style Tai Chi forms to: improve physical and mental balance\, increase flexibility\, decrease arthritis pain\, and help prevent falls. Tai Chi for Beginners can be done seated or standing and we will practice both during class.
URL:https://pickaway.com/event/tai-chi-at-the-senior-center/2026-10-29/
LOCATION:Pickaway Senior Center\, 2105 Chickasaw Dr\, Circleville\, OH\, 43113\, United States
CATEGORIES:Community,Miscellaneous
ATTACH;FMTTYPE=image/png:https://pickaway.com/wp-content/uploads/2026/03/Senior-Center-Tai-Chi.png
ORGANIZER;CN="Pickaway Senior Center":MAILTO:noreply@facebookmail.com
END:VEVENT
BEGIN:VEVENT
DTSTART;TZID=America/New_York:20261031T150000
DTEND;TZID=America/New_York:20261031T190000
DTSTAMP:20260421T014930
CREATED:20251222T143207Z
LAST-MODIFIED:20251222T144226Z
UID:10003104-1793458800-1793473200@pickaway.com
SUMMARY:Trunk-N-Treat at the Gregg-Crites Octagon House
DESCRIPTION:3:00 PM – 7:00 PM (Trunk-N-Treat)Flashlight Tours: 7:00 PM – Midnight \nEvent Description:Bring the family to the Gregg-Crites Octagon House for a free Trunk-N-Treat event on Halloween. \nTrick-or-treating is open to all and free to attend. During Trunk-N-Treat hours\, tours of the Octagon House will also be free. Following the event\, self-guided flashlight tours will resume at the regular price. \nPricing:Trunk-N-Treat: FreeFlashlight Tours after 7 PM: $10 per person
URL:https://pickaway.com/event/trunk-n-treat-at-the-gregg-crites-octagon-house/
LOCATION:Octagon House\, 440 Crites Road\, Circleville\, 43113\, United States
CATEGORIES:Family Friendly,Community
ATTACH;FMTTYPE=image/jpeg:https://pickaway.com/wp-content/uploads/2023/09/Front-of-Octagon-Fall-2016-1024x576-1.jpg
END:VEVENT
BEGIN:VEVENT
DTSTART;TZID=America/New_York:20261031T190000
DTEND;TZID=America/New_York:20261031T233000
DTSTAMP:20260421T014930
CREATED:20251222T143207Z
LAST-MODIFIED:20251222T145226Z
UID:10003135-1793473200-1793489400@pickaway.com
SUMMARY:Self-Guided Flashlight Tours at the Gregg-Crites Octagon House
DESCRIPTION:Experience the Gregg-Crites Octagon House after dark during self-guided flashlight tours. \nGuests are invited to bring their own flashlights and explore the historic home at their own pace. Meet members of the Roundtown Conservancy and FYNDING Paranormal\, ask questions\, and learn more about the history and mysteries surrounding Circleville’s second-oldest historic landmark. \nPricing:$10 per person at the doorChildren 12 and under are free \nNotes:This is a self-guided experience. Flashlights are required.
URL:https://pickaway.com/event/self-guided-flashlight-tours-at-the-gregg-crites-octagon-house/2026-10-31/
LOCATION:Octagon House\, 440 Crites Road\, Circleville\, 43113\, United States
CATEGORIES:Tours & Experiences,Community
ATTACH;FMTTYPE=image/jpeg:https://pickaway.com/wp-content/uploads/2023/09/Front-of-Octagon-Fall-2016-1024x576-1.jpg
END:VEVENT
BEGIN:VEVENT
DTSTART;TZID=America/New_York:20261104T170000
DTEND;TZID=America/New_York:20261104T213000
DTSTAMP:20260421T014930
CREATED:20240307T145234Z
LAST-MODIFIED:20240307T145234Z
UID:10001188-1793811600-1793827800@pickaway.com
SUMMARY:Bingo: Logan Elm Athletics Boosters
DESCRIPTION:Bingo on Wednesday Nights at Circleville AMVETS doors open at 5:00pm.\nBingo starts at 7:00pm.\n818 Tarlton Road\nCircleville\, Ohio 43113\nAll proceeds support funding for Athletic Uniforms\, safety & training Equipment\, and facilities within the Logan Elm School District.
URL:https://pickaway.com/event/bingo-logan-elm-athletics-boosters/2026-11-04/
LOCATION:AMVETS Post 2256\, 818 Tarlton Rd\, Circleville\, OH\, 43113
CATEGORIES:Community,Hobbies,Miscellaneous
ATTACH;FMTTYPE=image/png:https://pickaway.com/wp-content/uploads/2024/03/Untitled-design-2024-03-07T095159.688.png
END:VEVENT
BEGIN:VEVENT
DTSTART;TZID=America/New_York:20261105T130000
DTEND;TZID=America/New_York:20261105T140000
DTSTAMP:20260421T014930
CREATED:20260302T192928Z
LAST-MODIFIED:20260302T192928Z
UID:10003484-1793883600-1793887200@pickaway.com
SUMMARY:Tai Chi at the Senior Center
DESCRIPTION:This program uses Sun Style Tai Chi forms to: improve physical and mental balance\, increase flexibility\, decrease arthritis pain\, and help prevent falls. Tai Chi for Beginners can be done seated or standing and we will practice both during class.
URL:https://pickaway.com/event/tai-chi-at-the-senior-center/2026-11-05/
LOCATION:Pickaway Senior Center\, 2105 Chickasaw Dr\, Circleville\, OH\, 43113\, United States
CATEGORIES:Community,Miscellaneous
ATTACH;FMTTYPE=image/png:https://pickaway.com/wp-content/uploads/2026/03/Senior-Center-Tai-Chi.png
ORGANIZER;CN="Pickaway Senior Center":MAILTO:noreply@facebookmail.com
END:VEVENT
BEGIN:VEVENT
DTSTART;TZID=America/New_York:20261111T170000
DTEND;TZID=America/New_York:20261111T213000
DTSTAMP:20260421T014930
CREATED:20240307T145234Z
LAST-MODIFIED:20240307T145234Z
UID:10001189-1794416400-1794432600@pickaway.com
SUMMARY:Bingo: Logan Elm Athletics Boosters
DESCRIPTION:Bingo on Wednesday Nights at Circleville AMVETS doors open at 5:00pm.\nBingo starts at 7:00pm.\n818 Tarlton Road\nCircleville\, Ohio 43113\nAll proceeds support funding for Athletic Uniforms\, safety & training Equipment\, and facilities within the Logan Elm School District.
URL:https://pickaway.com/event/bingo-logan-elm-athletics-boosters/2026-11-11/
LOCATION:AMVETS Post 2256\, 818 Tarlton Rd\, Circleville\, OH\, 43113
CATEGORIES:Community,Hobbies,Miscellaneous
ATTACH;FMTTYPE=image/png:https://pickaway.com/wp-content/uploads/2024/03/Untitled-design-2024-03-07T095159.688.png
END:VEVENT
BEGIN:VEVENT
DTSTART;TZID=America/New_York:20261112T130000
DTEND;TZID=America/New_York:20261112T140000
DTSTAMP:20260421T014930
CREATED:20260302T192928Z
LAST-MODIFIED:20260302T192928Z
UID:10003485-1794488400-1794492000@pickaway.com
SUMMARY:Tai Chi at the Senior Center
DESCRIPTION:This program uses Sun Style Tai Chi forms to: improve physical and mental balance\, increase flexibility\, decrease arthritis pain\, and help prevent falls. Tai Chi for Beginners can be done seated or standing and we will practice both during class.
URL:https://pickaway.com/event/tai-chi-at-the-senior-center/2026-11-12/
LOCATION:Pickaway Senior Center\, 2105 Chickasaw Dr\, Circleville\, OH\, 43113\, United States
CATEGORIES:Community,Miscellaneous
ATTACH;FMTTYPE=image/png:https://pickaway.com/wp-content/uploads/2026/03/Senior-Center-Tai-Chi.png
ORGANIZER;CN="Pickaway Senior Center":MAILTO:noreply@facebookmail.com
END:VEVENT
BEGIN:VEVENT
DTSTART;TZID=America/New_York:20261114T190000
DTEND;TZID=America/New_York:20261114T233000
DTSTAMP:20260421T014930
CREATED:20251222T143207Z
LAST-MODIFIED:20251222T145226Z
UID:10003136-1794682800-1794699000@pickaway.com
SUMMARY:Self-Guided Flashlight Tours at the Gregg-Crites Octagon House
DESCRIPTION:Experience the Gregg-Crites Octagon House after dark during self-guided flashlight tours. \nGuests are invited to bring their own flashlights and explore the historic home at their own pace. Meet members of the Roundtown Conservancy and FYNDING Paranormal\, ask questions\, and learn more about the history and mysteries surrounding Circleville’s second-oldest historic landmark. \nPricing:$10 per person at the doorChildren 12 and under are free \nNotes:This is a self-guided experience. Flashlights are required.
URL:https://pickaway.com/event/self-guided-flashlight-tours-at-the-gregg-crites-octagon-house/2026-11-14/
LOCATION:Octagon House\, 440 Crites Road\, Circleville\, 43113\, United States
CATEGORIES:Tours & Experiences,Community
ATTACH;FMTTYPE=image/jpeg:https://pickaway.com/wp-content/uploads/2023/09/Front-of-Octagon-Fall-2016-1024x576-1.jpg
END:VEVENT
BEGIN:VEVENT
DTSTART;TZID=America/New_York:20261118T170000
DTEND;TZID=America/New_York:20261118T213000
DTSTAMP:20260421T014930
CREATED:20240307T145234Z
LAST-MODIFIED:20240307T145234Z
UID:10001190-1795021200-1795037400@pickaway.com
SUMMARY:Bingo: Logan Elm Athletics Boosters
DESCRIPTION:Bingo on Wednesday Nights at Circleville AMVETS doors open at 5:00pm.\nBingo starts at 7:00pm.\n818 Tarlton Road\nCircleville\, Ohio 43113\nAll proceeds support funding for Athletic Uniforms\, safety & training Equipment\, and facilities within the Logan Elm School District.
URL:https://pickaway.com/event/bingo-logan-elm-athletics-boosters/2026-11-18/
LOCATION:AMVETS Post 2256\, 818 Tarlton Rd\, Circleville\, OH\, 43113
CATEGORIES:Community,Hobbies,Miscellaneous
ATTACH;FMTTYPE=image/png:https://pickaway.com/wp-content/uploads/2024/03/Untitled-design-2024-03-07T095159.688.png
END:VEVENT
BEGIN:VEVENT
DTSTART;TZID=America/New_York:20261119T130000
DTEND;TZID=America/New_York:20261119T140000
DTSTAMP:20260421T014930
CREATED:20260302T192928Z
LAST-MODIFIED:20260302T192928Z
UID:10003486-1795093200-1795096800@pickaway.com
SUMMARY:Tai Chi at the Senior Center
DESCRIPTION:This program uses Sun Style Tai Chi forms to: improve physical and mental balance\, increase flexibility\, decrease arthritis pain\, and help prevent falls. Tai Chi for Beginners can be done seated or standing and we will practice both during class.
URL:https://pickaway.com/event/tai-chi-at-the-senior-center/2026-11-19/
LOCATION:Pickaway Senior Center\, 2105 Chickasaw Dr\, Circleville\, OH\, 43113\, United States
CATEGORIES:Community,Miscellaneous
ATTACH;FMTTYPE=image/png:https://pickaway.com/wp-content/uploads/2026/03/Senior-Center-Tai-Chi.png
ORGANIZER;CN="Pickaway Senior Center":MAILTO:noreply@facebookmail.com
END:VEVENT
BEGIN:VEVENT
DTSTART;TZID=America/New_York:20261121T090000
DTEND;TZID=America/New_York:20261121T140000
DTSTAMP:20260421T014930
CREATED:20260102T195044Z
LAST-MODIFIED:20260102T195556Z
UID:10003166-1795251600-1795269600@pickaway.com
SUMMARY:Ladies Auxiliary Craft Show – Winter Market
DESCRIPTION:Organized by the Village of Commercial Point\, the Ladies Auxiliary Craft Show features handmade items\, creative vendors\, and seasonal crafts from across the region. \nShoppers can explore a curated selection of crafts while supporting local makers in Commercial Point\, Ohio. \nEvent details\, schedules\, and registration information are provided by the event organizer. Learn more at https://nunbetterevents.com/index.php. \nThis event is promoted by the Pickaway County Visitors Bureau as part of our mission to celebrate creativity\, small businesses\, and community events throughout Pickaway County.
URL:https://pickaway.com/event/ladies-auxiliary-craft-show-winter-market/
LOCATION:Commercial Point Men’s Club\, 26 West Scioto St.\, Commercial Point\, 43116\, United States
CATEGORIES:Community
ATTACH;FMTTYPE=image/jpeg:https://pickaway.com/wp-content/uploads/2022/11/adult-craft-ideas-accordian-paper-flowers-1643395519-e1707924966241.jpeg
END:VEVENT
BEGIN:VEVENT
DTSTART;TZID=America/New_York:20261121T190000
DTEND;TZID=America/New_York:20261121T233000
DTSTAMP:20260421T014930
CREATED:20251222T143207Z
LAST-MODIFIED:20251222T145226Z
UID:10003137-1795287600-1795303800@pickaway.com
SUMMARY:Self-Guided Flashlight Tours at the Gregg-Crites Octagon House
DESCRIPTION:Experience the Gregg-Crites Octagon House after dark during self-guided flashlight tours. \nGuests are invited to bring their own flashlights and explore the historic home at their own pace. Meet members of the Roundtown Conservancy and FYNDING Paranormal\, ask questions\, and learn more about the history and mysteries surrounding Circleville’s second-oldest historic landmark. \nPricing:$10 per person at the doorChildren 12 and under are free \nNotes:This is a self-guided experience. Flashlights are required.
URL:https://pickaway.com/event/self-guided-flashlight-tours-at-the-gregg-crites-octagon-house/2026-11-21/
LOCATION:Octagon House\, 440 Crites Road\, Circleville\, 43113\, United States
CATEGORIES:Tours & Experiences,Community
ATTACH;FMTTYPE=image/jpeg:https://pickaway.com/wp-content/uploads/2023/09/Front-of-Octagon-Fall-2016-1024x576-1.jpg
END:VEVENT
BEGIN:VEVENT
DTSTART;TZID=America/New_York:20261125T170000
DTEND;TZID=America/New_York:20261125T213000
DTSTAMP:20260421T014930
CREATED:20240307T145234Z
LAST-MODIFIED:20240307T145234Z
UID:10001191-1795626000-1795642200@pickaway.com
SUMMARY:Bingo: Logan Elm Athletics Boosters
DESCRIPTION:Bingo on Wednesday Nights at Circleville AMVETS doors open at 5:00pm.\nBingo starts at 7:00pm.\n818 Tarlton Road\nCircleville\, Ohio 43113\nAll proceeds support funding for Athletic Uniforms\, safety & training Equipment\, and facilities within the Logan Elm School District.
URL:https://pickaway.com/event/bingo-logan-elm-athletics-boosters/2026-11-25/
LOCATION:AMVETS Post 2256\, 818 Tarlton Rd\, Circleville\, OH\, 43113
CATEGORIES:Community,Hobbies,Miscellaneous
ATTACH;FMTTYPE=image/png:https://pickaway.com/wp-content/uploads/2024/03/Untitled-design-2024-03-07T095159.688.png
END:VEVENT
BEGIN:VEVENT
DTSTART;TZID=America/New_York:20261126T130000
DTEND;TZID=America/New_York:20261126T140000
DTSTAMP:20260421T014930
CREATED:20260302T192928Z
LAST-MODIFIED:20260302T192928Z
UID:10003487-1795698000-1795701600@pickaway.com
SUMMARY:Tai Chi at the Senior Center
DESCRIPTION:This program uses Sun Style Tai Chi forms to: improve physical and mental balance\, increase flexibility\, decrease arthritis pain\, and help prevent falls. Tai Chi for Beginners can be done seated or standing and we will practice both during class.
URL:https://pickaway.com/event/tai-chi-at-the-senior-center/2026-11-26/
LOCATION:Pickaway Senior Center\, 2105 Chickasaw Dr\, Circleville\, OH\, 43113\, United States
CATEGORIES:Community,Miscellaneous
ATTACH;FMTTYPE=image/png:https://pickaway.com/wp-content/uploads/2026/03/Senior-Center-Tai-Chi.png
ORGANIZER;CN="Pickaway Senior Center":MAILTO:noreply@facebookmail.com
END:VEVENT
BEGIN:VEVENT
DTSTART;TZID=America/New_York:20261202T170000
DTEND;TZID=America/New_York:20261202T213000
DTSTAMP:20260421T014930
CREATED:20240307T145234Z
LAST-MODIFIED:20240307T145234Z
UID:10001192-1796230800-1796247000@pickaway.com
SUMMARY:Bingo: Logan Elm Athletics Boosters
DESCRIPTION:Bingo on Wednesday Nights at Circleville AMVETS doors open at 5:00pm.\nBingo starts at 7:00pm.\n818 Tarlton Road\nCircleville\, Ohio 43113\nAll proceeds support funding for Athletic Uniforms\, safety & training Equipment\, and facilities within the Logan Elm School District.
URL:https://pickaway.com/event/bingo-logan-elm-athletics-boosters/2026-12-02/
LOCATION:AMVETS Post 2256\, 818 Tarlton Rd\, Circleville\, OH\, 43113
CATEGORIES:Community,Hobbies,Miscellaneous
ATTACH;FMTTYPE=image/png:https://pickaway.com/wp-content/uploads/2024/03/Untitled-design-2024-03-07T095159.688.png
END:VEVENT
BEGIN:VEVENT
DTSTART;TZID=America/New_York:20261203T130000
DTEND;TZID=America/New_York:20261203T140000
DTSTAMP:20260421T014930
CREATED:20260302T192928Z
LAST-MODIFIED:20260302T192928Z
UID:10003488-1796302800-1796306400@pickaway.com
SUMMARY:Tai Chi at the Senior Center
DESCRIPTION:This program uses Sun Style Tai Chi forms to: improve physical and mental balance\, increase flexibility\, decrease arthritis pain\, and help prevent falls. Tai Chi for Beginners can be done seated or standing and we will practice both during class.
URL:https://pickaway.com/event/tai-chi-at-the-senior-center/2026-12-03/
LOCATION:Pickaway Senior Center\, 2105 Chickasaw Dr\, Circleville\, OH\, 43113\, United States
CATEGORIES:Community,Miscellaneous
ATTACH;FMTTYPE=image/png:https://pickaway.com/wp-content/uploads/2026/03/Senior-Center-Tai-Chi.png
ORGANIZER;CN="Pickaway Senior Center":MAILTO:noreply@facebookmail.com
END:VEVENT
END:VCALENDAR