BEGIN:VCALENDAR
VERSION:2.0
PRODID:-//Pickaway County Visitors Bureau - ECPv6.15.20//NONSGML v1.0//EN
CALSCALE:GREGORIAN
METHOD:PUBLISH
X-WR-CALNAME:Pickaway County Visitors Bureau
X-ORIGINAL-URL:https://pickaway.com
X-WR-CALDESC:Events for Pickaway County Visitors Bureau
REFRESH-INTERVAL;VALUE=DURATION:PT1H
X-Robots-Tag:noindex
X-PUBLISHED-TTL:PT1H
BEGIN:VTIMEZONE
TZID:America/New_York
BEGIN:DAYLIGHT
TZOFFSETFROM:-0500
TZOFFSETTO:-0400
TZNAME:EDT
DTSTART:20220313T070000
END:DAYLIGHT
BEGIN:STANDARD
TZOFFSETFROM:-0400
TZOFFSETTO:-0500
TZNAME:EST
DTSTART:20221106T060000
END:STANDARD
BEGIN:DAYLIGHT
TZOFFSETFROM:-0500
TZOFFSETTO:-0400
TZNAME:EDT
DTSTART:20230312T070000
END:DAYLIGHT
BEGIN:STANDARD
TZOFFSETFROM:-0400
TZOFFSETTO:-0500
TZNAME:EST
DTSTART:20231105T060000
END:STANDARD
BEGIN:DAYLIGHT
TZOFFSETFROM:-0500
TZOFFSETTO:-0400
TZNAME:EDT
DTSTART:20240310T070000
END:DAYLIGHT
BEGIN:STANDARD
TZOFFSETFROM:-0400
TZOFFSETTO:-0500
TZNAME:EST
DTSTART:20241103T060000
END:STANDARD
END:VTIMEZONE
BEGIN:VTIMEZONE
TZID:UTC
BEGIN:STANDARD
TZOFFSETFROM:+0000
TZOFFSETTO:+0000
TZNAME:UTC
DTSTART:20220101T000000
END:STANDARD
END:VTIMEZONE
BEGIN:VEVENT
DTSTART;TZID=America/New_York:20230718T180000
DTEND;TZID=America/New_York:20230718T190000
DTSTAMP:20260419T200943
CREATED:20230613T164806Z
LAST-MODIFIED:20230613T164806Z
UID:10000274-1689703200-1689706800@pickaway.com
SUMMARY:Summer Fruits JAM-boree
DESCRIPTION:Join OSU Extension to learn a few ways to preserve fruits this growing season! We will discuss the difference between jams\, jellies\, marmalades\, and preserves and learn more about the safest ways to enjoy them all year long. Participants will practice making a batch of freezer jam in class. No “jam”boree is complete without food – we will also be taste-testing our freshly made jam!
URL:https://pickaway.com/event/summer-fruits-jam-boree/
LOCATION:Pickaway County Library\, 1160 North Court Street\, Circleville\, OH\, 43113\, United States
CATEGORIES:Community,Hobbies
ATTACH;FMTTYPE=image/jpeg:https://pickaway.com/wp-content/uploads/2023/06/July-18-Summer-Fruits-Jam-Boree.jpg
END:VEVENT
BEGIN:VEVENT
DTSTART;TZID=America/New_York:20230719T183000
DTEND;TZID=America/New_York:20230719T200000
DTSTAMP:20260419T200943
CREATED:20230703T235151Z
LAST-MODIFIED:20230718T003712Z
UID:10000329-1689791400-1689796800@pickaway.com
SUMMARY:Summer  Sip and Paint!  Paint your very own wine glass!
DESCRIPTION:Come and join us for our Summer Sip and Paint Class with renowned artist Steven Riggs!\nCreate your masterpiece on your very own wine glass!\n\n\nCome and join us for our Summer Sip and Paint Class with renowned artist Steven Riggs!  \nCreate a masterpiece on your own wine glass for yourself to celebrate the joys of Summertime! \nAll supplies included and get your very own wine glass that you will transform into your very own piece of art!  Included is a  glass of our Award Winning Wine of your choice! \nSign up with your friends or family and paint with Ohio artist Steven Riggs whose work has been featured in galleries across Ohio and sold nationwide.  \nSteven currently has an ongoing public art exhibit downtown Columbus\, Ohio at the Michael Coleman Government Center.  He has also been invited to exhibit this fall at the Wanderlust Studios Gallery in Columbus. Steven taught at the Decorative Arts Center of Ohio for 6 years and continues to teach painting and drawing both publicly and privately. \nReservations Required. \n$35 per person. \nCheers!
URL:https://pickaway.com/event/summer-sip-and-paint-paint-your-very-own-wine-glass/
LOCATION:Manchester Hill Winery and Vineyard\, 13160 Tarlton Road\, Circleville\, OH\, 43113\, United States
ATTACH;FMTTYPE=image/jpeg:https://pickaway.com/wp-content/uploads/2023/07/44c3a7a6c0c2162c390c3877c0b1f51e.jpg
END:VEVENT
BEGIN:VEVENT
DTSTART;TZID=America/New_York:20230720T100000
DTEND;TZID=America/New_York:20230720T113000
DTSTAMP:20260419T200943
CREATED:20230628T134131Z
LAST-MODIFIED:20230628T134131Z
UID:10000299-1689847200-1689852600@pickaway.com
SUMMARY:Ashville's Fun in the Sun
DESCRIPTION:Fun in the sun offers FREE organized activities for children ages 4 and up from 10 am until 11:30 am on Thursdays throughout the summer.  Questions\, call 740-983-6367 \nLearn more here: \n \n  \n  \n 
URL:https://pickaway.com/event/ashvilles-fun-in-the-sun/2023-07-20/
LOCATION:Ashville Community Park\, 165 Walnut St\, Ashville\, OH\, 43103\, United States
CATEGORIES:Community,Children and Family Fun
ATTACH;FMTTYPE=image/png:https://pickaway.com/wp-content/uploads/2023/06/My-project-1-2023-06-28T093513.252.png
END:VEVENT
BEGIN:VEVENT
DTSTART;TZID=America/New_York:20230720T110000
DTEND;TZID=America/New_York:20230720T140000
DTSTAMP:20260419T200943
CREATED:20230620T194305Z
LAST-MODIFIED:20230620T194305Z
UID:10000284-1689850800-1689861600@pickaway.com
SUMMARY:PICCA Block Party
DESCRIPTION:Bring the whole family and come to PICCA’s block party!
URL:https://pickaway.com/event/picca-block-party/
LOCATION:PICCA\, 469 E Ohio St\, Circleville\, OH\, 43113\, United States
CATEGORIES:Community,Children and Family Fun
ATTACH;FMTTYPE=image/png:https://pickaway.com/wp-content/uploads/2023/06/Untitled-design-4.png
END:VEVENT
BEGIN:VEVENT
DTSTART;TZID=America/New_York:20230720T140000
DTEND;TZID=America/New_York:20230720T150000
DTSTAMP:20260419T200943
CREATED:20230613T164850Z
LAST-MODIFIED:20230613T173106Z
UID:10000275-1689861600-1689865200@pickaway.com
SUMMARY:Bats: Shadows of the Night
DESCRIPTION:Ohio Nature Education will share stories\, study skins and live animals at this presentation. This activity-based program will dispel myths about bats and “Test your Bat IQ.”  All in attendance will have the opportunity to win a bat house.
URL:https://pickaway.com/event/bats-shadows-of-the-night/
LOCATION:Pickaway County Library\, 1160 North Court Street\, Circleville\, OH\, 43113\, United States
CATEGORIES:Children and Family Fun
ATTACH;FMTTYPE=image/jpeg:https://pickaway.com/wp-content/uploads/2023/06/July-20-ONE-bat.jpg
END:VEVENT
BEGIN:VEVENT
DTSTART;TZID=America/New_York:20230721T170000
DTEND;TZID=America/New_York:20230721T220000
DTSTAMP:20260419T200943
CREATED:20230628T134840Z
LAST-MODIFIED:20230628T134840Z
UID:10000301-1689958800-1689976800@pickaway.com
SUMMARY:Ashville Food Truck and Community Festival
DESCRIPTION:The Ashville Food Truck & Community Festival is a fundraiser hosted by Ohio’s Small Town Museum. \nEnjoy entertainment\, food\, and community spirit!
URL:https://pickaway.com/event/ashville-food-truck-and-community-festival/2023-07-21/
LOCATION:Ohio’s Small Town Museum\, 34 Long Street\, Ashville\, OH\, 43103\, United States
CATEGORIES:Festivals and Special Events,Community,Children and Family Fun
ATTACH;FMTTYPE=image/png:https://pickaway.com/wp-content/uploads/2023/06/My-project-1-2023-06-28T094754.374.png
END:VEVENT
BEGIN:VEVENT
DTSTART;TZID=America/New_York:20230721T190000
DTEND;TZID=America/New_York:20230721T213000
DTSTAMP:20260419T200943
CREATED:20230626T170135Z
LAST-MODIFIED:20230626T170139Z
UID:10000292-1689966000-1689975000@pickaway.com
SUMMARY:Dirty Rotten Scoundrels: The Musical
DESCRIPTION:Dirty Rotten Scoundrels: The Musical presented by Roundtown Players Community Theatre
URL:https://pickaway.com/event/dirty-rotten-scoundrels-the-musical/
LOCATION:Roundtown Players\, 165 East Main Street\, Circleville\, OH\, 43113\, United States
ATTACH;FMTTYPE=image/jpeg:https://pickaway.com/wp-content/uploads/2023/06/36710113202502656780fc3c264f3387-1.jpg
END:VEVENT
BEGIN:VEVENT
DTSTART;TZID=America/New_York:20230722T080000
DTEND;TZID=America/New_York:20230722T120000
DTSTAMP:20260419T200943
CREATED:20230711T201500Z
LAST-MODIFIED:20230712T181041Z
UID:10000333-1690012800-1690027200@pickaway.com
SUMMARY:Pickaway County Public Health Tire Collection Event
DESCRIPTION:Mark your calendars for PCHD’s 2023 Annual Tire Collection Event! Drop by on Saturday July 22nd\, 2023\, from 8AM-12PM at the Pickaway County Highway Department and unload your tires for us to recycle and scrap! This is only available to Pickaway County residents only.
URL:https://pickaway.com/event/pickaway-county-public-health-tire-collection-event/
END:VEVENT
BEGIN:VEVENT
DTSTART;TZID=America/New_York:20230722T080000
DTEND;TZID=America/New_York:20230722T170000
DTSTAMP:20260419T200943
CREATED:20230623T151448Z
LAST-MODIFIED:20230623T184858Z
UID:10000287-1690012800-1690045200@pickaway.com
SUMMARY:Uptown Classic 3 on 3 Tournament
DESCRIPTION:Join Uptown Circleville for a family-friendly basketball tournament! Support local as you cheer on your favorite team! \nMore info here
URL:https://pickaway.com/event/uptown-classic-3-on-3-tournament/
LOCATION:Pumpkin Show Park\, 121 North Court Street\, Circleville\, OH\, 43113\, United States
CATEGORIES:Festivals and Special Events,Community,Hobbies,Children and Family Fun,Sporting Events
ATTACH;FMTTYPE=image/jpeg:https://pickaway.com/wp-content/uploads/2023/06/kylie-osullivan-BfaBLVCBTI8-unsplash-scaled.jpg
END:VEVENT
BEGIN:VEVENT
DTSTART;TZID=UTC:20230722T090000
DTEND;TZID=UTC:20230722T120000
DTSTAMP:20260419T200943
CREATED:20230404T154055Z
LAST-MODIFIED:20230919T183343Z
UID:10000168-1690016400-1690027200@pickaway.com
SUMMARY:Ashville’s Community Market
DESCRIPTION:ASHVILLE’S COMMUNITY MARKET \nCome meet all of our LOCAL businesses\, creatives\, and farmers/homesteaders right here in Pickaway Co.! \nEnjoy over 40 vendors with crafts\, baked & canned goods\, fresh produce\, +live music & food trucks !\nShop Local\, Buy Local\, Support Local!\nThe Ashville Community Market will be open one Saturday per month from 9am-12pm.\nThis is an independently ran event by local volunteers. And is not officially associated with the Village of Ashville – though we appreciate their support!
URL:https://pickaway.com/event/ashvilles-community-market/2023-07-22/
LOCATION:Ashville Community Park\, 165 Walnut St\, Ashville\, OH\, 43103\, United States
CATEGORIES:Community
ATTACH;FMTTYPE=image/png:https://pickaway.com/wp-content/uploads/2023/04/My-project-1-82.png
END:VEVENT
BEGIN:VEVENT
DTSTART;TZID=America/New_York:20230722T120000
DTEND;TZID=America/New_York:20230722T170000
DTSTAMP:20260419T200943
CREATED:20230623T185238Z
LAST-MODIFIED:20230623T185855Z
UID:10000288-1690027200-1690045200@pickaway.com
SUMMARY:Halloween In July Market
DESCRIPTION:Welcome to the most haunting shopping experience in Circleville\, Ohio. Halloween in July Market is a indoor shopping pop up market showcasing the most unique hand picked artist & vendors from all around.\nFREE ADMISSION\n80+ ARTISTS & VENDORS! (Art\, oddities\, vintage\, media\, horror\, baked goods & more!)\n FOOD TRUCKS! \nTAROT CARD READINGS + DECKS 4 SALE\nPHOTO OPS (& our friend Jason Voorhees)\nLINDSEY’S FAMOUS PUMPKIN DONUTS!\nHOUSE OF MASKS\nCOSTUMES ENCOURAGED! (Stay cool)\n\nFOOD TRUCKS: \nMegabites\n What the Float\nOno Turo Turo\n Empanadas & More\nEndZone Concessions\n\nFOLLOW OUR INSTAGRAM @halloweeninjulymarket
URL:https://pickaway.com/event/halloween-in-july-market/
LOCATION:Pickaway Agriculture and Event Center\, 415 Lancaster Pike\, Circleville\, OH\, 43113\, United States
CATEGORIES:Entertainment and Arts,Hobbies,Miscellaneous
ATTACH;FMTTYPE=image/jpeg:https://pickaway.com/wp-content/uploads/2023/06/329590500_3459126257739441_7109198693422206701_n.jpg
END:VEVENT
BEGIN:VEVENT
DTSTART;TZID=America/New_York:20230722T170000
DTEND;TZID=America/New_York:20230722T220000
DTSTAMP:20260419T200943
CREATED:20230628T134840Z
LAST-MODIFIED:20230628T134840Z
UID:10000302-1690045200-1690063200@pickaway.com
SUMMARY:Ashville Food Truck and Community Festival
DESCRIPTION:The Ashville Food Truck & Community Festival is a fundraiser hosted by Ohio’s Small Town Museum. \nEnjoy entertainment\, food\, and community spirit!
URL:https://pickaway.com/event/ashville-food-truck-and-community-festival/2023-07-22/
LOCATION:Ohio’s Small Town Museum\, 34 Long Street\, Ashville\, OH\, 43103\, United States
CATEGORIES:Festivals and Special Events,Community,Children and Family Fun
ATTACH;FMTTYPE=image/png:https://pickaway.com/wp-content/uploads/2023/06/My-project-1-2023-06-28T094754.374.png
END:VEVENT
BEGIN:VEVENT
DTSTART;TZID=America/New_York:20230722T180000
DTEND;TZID=America/New_York:20230722T200000
DTSTAMP:20260419T200943
CREATED:20230628T190719Z
LAST-MODIFIED:20230628T190719Z
UID:10000326-1690048800-1690056000@pickaway.com
SUMMARY:Night of Worship
DESCRIPTION:Join JoyHouse Coffee for a Night of Worship. The coffee bar will be available at 6 until worship begins at 7. Our very own Baristas will be leading us in Worship!
URL:https://pickaway.com/event/night-of-worship/
LOCATION:JoyHouse Coffee\, 202 North Pickaway Street\, Circleville\, OH\, 43113\, United States
CATEGORIES:Hobbies,Miscellaneous
ATTACH;FMTTYPE=image/png:https://pickaway.com/wp-content/uploads/2023/06/My-project-1-98.png
END:VEVENT
BEGIN:VEVENT
DTSTART;TZID=America/New_York:20230722T180000
DTEND;TZID=America/New_York:20230722T210000
DTSTAMP:20260419T200943
CREATED:20230412T190304Z
LAST-MODIFIED:20230412T190304Z
UID:10000183-1690048800-1690059600@pickaway.com
SUMMARY:Boogie on the Blacktop: The Courtney Jo Band
DESCRIPTION:Circleville Eagles F.O.E 685 Proudly Presents Boogie on the Blacktop!\n\nThe Courtney Jo Band will be joining us in July!! Enjoy live music\, food and drinks\, and community fun!\n\nADMISSION: $5 at the gate\nAbout the Band:\nHailing from the hills of Greenup\, Kentucky- Courtney Jo\, also known as the Little Lady with the BIG Voice\, & her band always make sure everyone in the crowd has an amazing time with the greatest hits from generations back to the present day. Known for their high-energy performances\, every show is sure to be a great time & an experience you won’t soon forget\nWant to learn more about Circleville Eagles or how to have your business featured at this event? Email shawnahartsaugh@yahoo.com.\nThis event is sponsored and organized by Circleville Eagles\, with promotional support from Pickaway County Visitors Bureau.\nProceeds from this event go back to community organizations and causes!\n\nCircleville Eagles F.O.E. 685 is a 501c3 nonprofit organization EIN 31-4183950.
URL:https://pickaway.com/event/boogie-on-the-blacktop-the-courtney-jo-band/
LOCATION:Circleville Eagles\, 135 E Main Street\, Circleville\, OH\, 43113\, United States
CATEGORIES:Entertainment and Arts,Community,Children and Family Fun
ATTACH;FMTTYPE=image/png:https://pickaway.com/wp-content/uploads/2023/04/BOTB-CJ-1-1.png
END:VEVENT
BEGIN:VEVENT
DTSTART;TZID=America/New_York:20230722T190000
DTEND;TZID=America/New_York:20230722T213000
DTSTAMP:20260419T200943
CREATED:20230626T170140Z
LAST-MODIFIED:20230626T170143Z
UID:10000293-1690052400-1690061400@pickaway.com
SUMMARY:Dirty Rotten Scoundrels: The Musical
DESCRIPTION:Dirty Rotten Scoundrels: The Musical presented by Roundtown Players Community Theatre
URL:https://pickaway.com/event/dirty-rotten-scoundrels-the-musical-2/
LOCATION:Roundtown Players\, 165 East Main Street\, Circleville\, OH\, 43113\, United States
ATTACH;FMTTYPE=image/jpeg:https://pickaway.com/wp-content/uploads/2023/06/36710113202502656780fc3c264f3387-1.jpg
END:VEVENT
BEGIN:VEVENT
DTSTART;TZID=America/New_York:20230723T140000
DTEND;TZID=America/New_York:20230723T163000
DTSTAMP:20260419T200943
CREATED:20230626T170140Z
LAST-MODIFIED:20230626T170144Z
UID:10000294-1690120800-1690129800@pickaway.com
SUMMARY:Dirty Rotten Scoundrels: The Musical
DESCRIPTION:Dirty Rotten Scoundrels: The Musical presented by Roundtown Players Community Theatre
URL:https://pickaway.com/event/dirty-rotten-scoundrels-the-musical-3/
LOCATION:Roundtown Players\, 165 East Main Street\, Circleville\, OH\, 43113\, United States
ATTACH;FMTTYPE=image/jpeg:https://pickaway.com/wp-content/uploads/2023/06/36710113202502656780fc3c264f3387-1.jpg
END:VEVENT
BEGIN:VEVENT
DTSTART;TZID=America/New_York:20230725T110000
DTEND;TZID=America/New_York:20230725T113000
DTSTAMP:20260419T200943
CREATED:20230613T165050Z
LAST-MODIFIED:20230613T173059Z
UID:10000276-1690282800-1690284600@pickaway.com
SUMMARY:Storytime at Canal Park
DESCRIPTION:Join the Pickaway County Library’s Youth Services and the Pickaway County Park District for a storytime at the park.  This event will take place at Canal Park Shelter House.
URL:https://pickaway.com/event/storytime-at-canal-park-2/
LOCATION:Canal Park\, 23352 Canal Rd\, Circleville\, OH\, 43113\, United States
CATEGORIES:Children and Family Fun
ORGANIZER;CN="Pickaway County Library":MAILTO:info@pickawaylib.org
END:VEVENT
BEGIN:VEVENT
DTSTART;TZID=America/New_York:20230727T090000
DTEND;TZID=America/New_York:20230727T170000
DTSTAMP:20260419T200943
CREATED:20230628T184107Z
LAST-MODIFIED:20230628T184107Z
UID:10000320-1690448400-1690477200@pickaway.com
SUMMARY:Goodtime Quilters Guild Quilt Show
DESCRIPTION:Come and see the 28th annual Goodtime Quilters Guild Quilt Show! There will be over 150 beautiful quilts on display\, as well as food and vendors. You can also enter to win door prizes and participate in the little quilts and more auction. Need your scissors or knives sharpened? We have a scissor/knife sharpener available. And don’t worry about finding a parking spot – it’s free at the Ohio Christian University Maxwell Center. Admission is $6 for one day or $10 for three days. We hope to see you there!
URL:https://pickaway.com/event/goodtime-quilters-guild-quilt-show/2023-07-27/
LOCATION:Ohio Christian University\, 1476 Lancaster Pike\, Circleville\, OH\, 43113\, United States
CATEGORIES:Festivals and Special Events,Community,Hobbies
ATTACH;FMTTYPE=image/png:https://pickaway.com/wp-content/uploads/2023/06/My-project-1-2023-06-28T143758.648.png
END:VEVENT
BEGIN:VEVENT
DTSTART;TZID=America/New_York:20230727T100000
DTEND;TZID=America/New_York:20230727T113000
DTSTAMP:20260419T200943
CREATED:20230628T134131Z
LAST-MODIFIED:20230628T134131Z
UID:10000300-1690452000-1690457400@pickaway.com
SUMMARY:Ashville's Fun in the Sun
DESCRIPTION:Fun in the sun offers FREE organized activities for children ages 4 and up from 10 am until 11:30 am on Thursdays throughout the summer.  Questions\, call 740-983-6367 \nLearn more here: \n \n  \n  \n 
URL:https://pickaway.com/event/ashvilles-fun-in-the-sun/2023-07-27/
LOCATION:Ashville Community Park\, 165 Walnut St\, Ashville\, OH\, 43103\, United States
CATEGORIES:Community,Children and Family Fun
ATTACH;FMTTYPE=image/png:https://pickaway.com/wp-content/uploads/2023/06/My-project-1-2023-06-28T093513.252.png
END:VEVENT
BEGIN:VEVENT
DTSTART;TZID=America/New_York:20230727T140000
DTEND;TZID=America/New_York:20230727T150000
DTSTAMP:20260419T200943
CREATED:20230613T165548Z
LAST-MODIFIED:20230613T173052Z
UID:10000277-1690466400-1690470000@pickaway.com
SUMMARY:Conductor Cody Magic Show
DESCRIPTION:Part of the Pickaway County Library’s summer program series\, Cody Clark brings us Conductor Cody’s Magical Railway Adventure.  This adventure will take you on a trip you won’t soon forget.  As a member of the autism community\, Cody is sure to delight and celebrate everyone around him.  Come and join us as we travel the rails and experience the magic together.\nThank you to the Friends of the Library for sponsoring this entertainer!
URL:https://pickaway.com/event/conductor-cody-magic-show/
LOCATION:Pickaway County Library\, 1160 North Court Street\, Circleville\, OH\, 43113\, United States
CATEGORIES:Children and Family Fun
ATTACH;FMTTYPE=image/jpeg:https://pickaway.com/wp-content/uploads/2023/06/July-27-Cody-Clark-small.jpg
END:VEVENT
BEGIN:VEVENT
DTSTART;TZID=America/New_York:20230728T090000
DTEND;TZID=America/New_York:20230728T170000
DTSTAMP:20260419T200943
CREATED:20230628T184107Z
LAST-MODIFIED:20230628T184107Z
UID:10000321-1690534800-1690563600@pickaway.com
SUMMARY:Goodtime Quilters Guild Quilt Show
DESCRIPTION:Come and see the 28th annual Goodtime Quilters Guild Quilt Show! There will be over 150 beautiful quilts on display\, as well as food and vendors. You can also enter to win door prizes and participate in the little quilts and more auction. Need your scissors or knives sharpened? We have a scissor/knife sharpener available. And don’t worry about finding a parking spot – it’s free at the Ohio Christian University Maxwell Center. Admission is $6 for one day or $10 for three days. We hope to see you there!
URL:https://pickaway.com/event/goodtime-quilters-guild-quilt-show/2023-07-28/
LOCATION:Ohio Christian University\, 1476 Lancaster Pike\, Circleville\, OH\, 43113\, United States
CATEGORIES:Festivals and Special Events,Community,Hobbies
ATTACH;FMTTYPE=image/png:https://pickaway.com/wp-content/uploads/2023/06/My-project-1-2023-06-28T143758.648.png
END:VEVENT
BEGIN:VEVENT
DTSTART;TZID=America/New_York:20230728T190000
DTEND;TZID=America/New_York:20230728T213000
DTSTAMP:20260419T200943
CREATED:20230626T170141Z
LAST-MODIFIED:20230726T170654Z
UID:10000295-1690570800-1690579800@pickaway.com
SUMMARY:Dirty Rotten Scoundrels: The Musical
DESCRIPTION:Dirty Rotten Scoundrels: The Musical presented by Roundtown Players Community Theatre
URL:https://pickaway.com/event/dirty-rotten-scoundrels-the-musical-4/
LOCATION:Roundtown Players\, 165 East Main Street\, Circleville\, OH\, 43113\, United States
ATTACH;FMTTYPE=image/jpeg:https://pickaway.com/wp-content/uploads/2023/06/36710113202502656780fc3c264f3387-1.jpg
END:VEVENT
BEGIN:VEVENT
DTSTART;TZID=America/New_York:20230729T090000
DTEND;TZID=America/New_York:20230729T160000
DTSTAMP:20260419T200943
CREATED:20230628T184107Z
LAST-MODIFIED:20230628T184107Z
UID:10000322-1690621200-1690646400@pickaway.com
SUMMARY:Goodtime Quilters Guild Quilt Show
DESCRIPTION:Come and see the 28th annual Goodtime Quilters Guild Quilt Show! There will be over 150 beautiful quilts on display\, as well as food and vendors. You can also enter to win door prizes and participate in the little quilts and more auction. Need your scissors or knives sharpened? We have a scissor/knife sharpener available. And don’t worry about finding a parking spot – it’s free at the Ohio Christian University Maxwell Center. Admission is $6 for one day or $10 for three days. We hope to see you there!
URL:https://pickaway.com/event/goodtime-quilters-guild-quilt-show/2023-07-29/
LOCATION:Ohio Christian University\, 1476 Lancaster Pike\, Circleville\, OH\, 43113\, United States
CATEGORIES:Festivals and Special Events,Community,Hobbies
ATTACH;FMTTYPE=image/png:https://pickaway.com/wp-content/uploads/2023/06/My-project-1-2023-06-28T143758.648.png
END:VEVENT
BEGIN:VEVENT
DTSTART;TZID=America/New_York:20230729T160000
DTEND;TZID=America/New_York:20230729T180000
DTSTAMP:20260419T200943
CREATED:20230613T171329Z
LAST-MODIFIED:20230613T171329Z
UID:10000278-1690646400-1690653600@pickaway.com
SUMMARY:Family Movie Afternoon
DESCRIPTION:Catch a family movie on the big screen at the library! Popcorn and lemonade will be provided.
URL:https://pickaway.com/event/family-movie-afternoon/
LOCATION:Floyd E. Younkin Branch\, Pickaway County Library\, 51 Long St.\, Ashville\, 43103
CATEGORIES:Children and Family Fun
ATTACH;FMTTYPE=image/jpeg:https://pickaway.com/wp-content/uploads/2023/06/popcorn.jpg
END:VEVENT
BEGIN:VEVENT
DTSTART;TZID=America/New_York:20230729T190000
DTEND;TZID=America/New_York:20230729T210000
DTSTAMP:20260419T200943
CREATED:20230628T174758Z
LAST-MODIFIED:20230628T174758Z
UID:10000306-1690657200-1690664400@pickaway.com
SUMMARY:Live Music with Acoustic Horizon
DESCRIPTION:Bringing you the classic hits of the 50’s\, 60’s\, and 70’s! Join these guys on a musical journey through time that’s sure to get you moving and grooving! \nEnjoy the music with award winning wines and hard cider at Manchester Hill Winery!
URL:https://pickaway.com/event/live-music-with-acoustic-horizon/
LOCATION:Manchester Hill Winery and Vineyard\, 13160 Tarlton Road\, Circleville\, OH\, 43113\, United States
CATEGORIES:Entertainment and Arts
ATTACH;FMTTYPE=image/jpeg:https://pickaway.com/wp-content/uploads/2023/06/artur-kornakov-oxVFsgoPDA8-unsplash-scaled.jpg
END:VEVENT
BEGIN:VEVENT
DTSTART;TZID=America/New_York:20230729T190000
DTEND;TZID=America/New_York:20230729T213000
DTSTAMP:20260419T200943
CREATED:20230626T170141Z
LAST-MODIFIED:20230726T170654Z
UID:10000296-1690657200-1690666200@pickaway.com
SUMMARY:Dirty Rotten Scoundrels: The Musical
DESCRIPTION:Dirty Rotten Scoundrels: The Musical presented by Roundtown Players Community Theatre
URL:https://pickaway.com/event/dirty-rotten-scoundrels-the-musical-5/
LOCATION:Roundtown Players\, 165 East Main Street\, Circleville\, OH\, 43113\, United States
ATTACH;FMTTYPE=image/jpeg:https://pickaway.com/wp-content/uploads/2023/06/36710113202502656780fc3c264f3387-1.jpg
END:VEVENT
BEGIN:VEVENT
DTSTART;TZID=America/New_York:20230730T140000
DTEND;TZID=America/New_York:20230730T200000
DTSTAMP:20260419T200943
CREATED:20230712T181726Z
LAST-MODIFIED:20230712T190329Z
UID:10000337-1690725600-1690747200@pickaway.com
SUMMARY:Tarlton Town Fair
DESCRIPTION:Come join the fun and celebrate community at the Tarlton Town Fair on Sunday\, July 30th\, in Downtown Tarlton. Admission is completely free\, and there is an abundance of activities for the entire family to enjoy\, such as live music\, free face painting for the kids and sports inflatables. Additionally\, there will be a variety of food trucks\, vendors\, a beer garden\, a glass-blowing demonstration\, and much more to explore! This event is proudly sponsored by Manchester Hill Winery\, Crosstown Creamery\, Kingdom Realty\, and the Village of Tarlton\, with promotional support graciously provided by Pickaway County Visitors Bureau.
URL:https://pickaway.com/event/tarlton-town-fair/
LOCATION:Crosstown Creamery and Diner\, 90 E Main St\, Tarlton\, OH\, 43156\, United States
CATEGORIES:Entertainment and Arts,Festivals and Special Events
ATTACH;FMTTYPE=image/png:https://pickaway.com/wp-content/uploads/2023/07/TTF-Draft-1-Facebook-Cover-1.png
END:VEVENT
BEGIN:VEVENT
DTSTART;TZID=America/New_York:20230803T140000
DTEND;TZID=America/New_York:20230803T150000
DTSTAMP:20260419T200943
CREATED:20230613T183100Z
LAST-MODIFIED:20230613T183100Z
UID:10000279-1691071200-1691074800@pickaway.com
SUMMARY:End-of-Summer-Reading Party
DESCRIPTION:Join Youth Services for a fun filled time celebrating our Summer Reading Program with games\, snacks\, and more!
URL:https://pickaway.com/event/end-of-summer-reading-party/
LOCATION:Pickaway County Library\, 1160 North Court Street\, Circleville\, OH\, 43113\, United States
CATEGORIES:Children and Family Fun
ATTACH;FMTTYPE=image/jpeg:https://pickaway.com/wp-content/uploads/2023/06/Aug-3-srp-party-small.jpg
END:VEVENT
BEGIN:VEVENT
DTSTART;TZID=America/New_York:20230803T173000
DTEND;TZID=America/New_York:20230803T190000
DTSTAMP:20260419T200943
CREATED:20230712T152156Z
LAST-MODIFIED:20230802T153719Z
UID:10000335-1691083800-1691089200@pickaway.com
SUMMARY:CANCELLED - "Porch Pounder" Wine Tasting
DESCRIPTION:Porch Pounder – A budget-friendly and versatile wine meant to be drunk outside on a beautiful day in the company of friends and family.\n\n\nPorch Pounder -” A budget-friendly and versatile wine meant to be drunk outside on a beautiful day in the company of friends and family.  \nJoin us for a tasting of some of the most lip-smacking\, gulpable wines we’ve met! Come\, taste\, and stock up on your new summer favorites! Tickets are $25 with a $5 credit towards featured wines. Tasting includes a charcuterie cup and the wine tasting. Hosted by: Cutting Edge Selections  \nGrab your spouse or a group of friends for this “happy hour” event of wine and canned cocktail tastings.
URL:https://pickaway.com/event/porch-pounder-wine-tasting/
LOCATION:Rhoads Garden Center\, 1051 St. Rt. 56 East\, Circleville\, OH\, 43113\, United States
ATTACH;FMTTYPE=image/jpeg:https://pickaway.com/wp-content/uploads/2023/07/b6696a3dff9743db45be981b5bd3a56f-1.jpg
END:VEVENT
BEGIN:VEVENT
DTSTART;TZID=America/New_York:20230804T080000
DTEND;TZID=America/New_York:20230804T093000
DTSTAMP:20260419T200943
CREATED:20230615T190524Z
LAST-MODIFIED:20230615T190524Z
UID:10000282-1691136000-1691141400@pickaway.com
SUMMARY:Community Pancake Breakfast
DESCRIPTION:Enjoy a free pancake breakfast\, compliments of Wyngate Senior Living!
URL:https://pickaway.com/event/community-pancake-breakfast/
CATEGORIES:Community
ATTACH;FMTTYPE=image/jpeg:https://pickaway.com/wp-content/uploads/2023/06/basic-low-fat-pancakes-2245814-hero-01-a7128519b88d4e5a88935a046e756406.jpg
END:VEVENT
END:VCALENDAR