BEGIN:VCALENDAR
VERSION:2.0
PRODID:-//Pickaway County Visitors Bureau - ECPv6.15.20//NONSGML v1.0//EN
CALSCALE:GREGORIAN
METHOD:PUBLISH
X-WR-CALNAME:Pickaway County Visitors Bureau
X-ORIGINAL-URL:https://pickaway.com
X-WR-CALDESC:Events for Pickaway County Visitors Bureau
REFRESH-INTERVAL;VALUE=DURATION:PT1H
X-Robots-Tag:noindex
X-PUBLISHED-TTL:PT1H
BEGIN:VTIMEZONE
TZID:America/New_York
BEGIN:DAYLIGHT
TZOFFSETFROM:-0500
TZOFFSETTO:-0400
TZNAME:EDT
DTSTART:20220313T070000
END:DAYLIGHT
BEGIN:STANDARD
TZOFFSETFROM:-0400
TZOFFSETTO:-0500
TZNAME:EST
DTSTART:20221106T060000
END:STANDARD
BEGIN:DAYLIGHT
TZOFFSETFROM:-0500
TZOFFSETTO:-0400
TZNAME:EDT
DTSTART:20230312T070000
END:DAYLIGHT
BEGIN:STANDARD
TZOFFSETFROM:-0400
TZOFFSETTO:-0500
TZNAME:EST
DTSTART:20231105T060000
END:STANDARD
BEGIN:DAYLIGHT
TZOFFSETFROM:-0500
TZOFFSETTO:-0400
TZNAME:EDT
DTSTART:20240310T070000
END:DAYLIGHT
BEGIN:STANDARD
TZOFFSETFROM:-0400
TZOFFSETTO:-0500
TZNAME:EST
DTSTART:20241103T060000
END:STANDARD
END:VTIMEZONE
BEGIN:VEVENT
DTSTART;TZID=America/New_York:20231107T173000
DTEND;TZID=America/New_York:20231107T203000
DTSTAMP:20260423T061952
CREATED:20231024T140151Z
LAST-MODIFIED:20231024T140236Z
UID:10000447-1699378200-1699389000@pickaway.com
SUMMARY:TBRI Introduction and Overview - Fall 2023
DESCRIPTION:Join us for this FREE training on November 7\, 2023 from 5:30-8:30 at the Everts Center located at 520 South Court Street Circleville\, Ohio. We will be discussing the Impact Program located at the Everts Center and giving a brief overview to TBRI including the Connecting\, Empowering\, and Correcting Principles. This training is designed to meet the needs of professionals\, foster and adoptive caregivers working with children or adults who have experienced relational trauma.
URL:https://pickaway.com/event/tbri-introduction-and-overview-fall-2023/
LOCATION:Everts Center\, 129 E Mill St\, Circleville\, 43113\, United States
CATEGORIES:Community,Miscellaneous
ATTACH;FMTTYPE=image/png:https://pickaway.com/wp-content/uploads/2023/10/Untitled-800-x-600-px.png
END:VEVENT
BEGIN:VEVENT
DTSTART;TZID=America/New_York:20231110T160000
DTEND;TZID=America/New_York:20231110T170000
DTSTAMP:20260423T061952
CREATED:20230805T191536Z
LAST-MODIFIED:20230807T164036Z
UID:10000355-1699632000-1699635600@pickaway.com
SUMMARY:Reading with Pickles the Guinea Pig
DESCRIPTION:Pickles will be promoting his love for reading by hosting his own “Read to Me” sessions.  He will be in the Younkin Branch storytime room from 4:00 pm to 5:00 pm waiting for you.  You can pick a book from the youth collection\,  bring your favorite book\, or read one that Pickles has chosen.  No registration is necessary.
URL:https://pickaway.com/event/reading-with-pickles-the-guinea-pig-4/
LOCATION:Floyd E. Younkin Branch\, Pickaway County Library\, 51 Long St.\, Ashville\, 43103
CATEGORIES:Community,Children and Family Fun
ATTACH;FMTTYPE=image/jpeg:https://pickaway.com/wp-content/uploads/2023/08/Pickles-with-book.jpg
END:VEVENT
BEGIN:VEVENT
DTSTART;TZID=America/New_York:20231110T180000
DTEND;TZID=America/New_York:20231110T180000
DTSTAMP:20260423T061952
CREATED:20230915T164122Z
LAST-MODIFIED:20230915T164122Z
UID:10000429-1699639200-1699639200@pickaway.com
SUMMARY:PICCA Chili Cook Off
DESCRIPTION:We’re stirring the pots for Toys for Tots! Come on down and enjoy some chili\, live music and a silent auction!
URL:https://pickaway.com/event/picca-chili-cook-off/
LOCATION:Pickaway Agriculture and Event Center\, 415 Lancaster Pike\, Circleville\, OH\, 43113\, United States
CATEGORIES:Community,Children and Family Fun
ATTACH;FMTTYPE=image/jpeg:https://pickaway.com/wp-content/uploads/2023/09/369259290_285309620811251_5631117183278034366_n.jpg
END:VEVENT
BEGIN:VEVENT
DTSTART;TZID=America/New_York:20231111T090000
DTEND;TZID=America/New_York:20231111T140000
DTSTAMP:20260423T061952
CREATED:20231107T190933Z
LAST-MODIFIED:20231107T190933Z
UID:10000470-1699693200-1699711200@pickaway.com
SUMMARY:Holidays at Heritage Hall
DESCRIPTION:
URL:https://pickaway.com/event/holidays-at-heritage-hall/
LOCATION:Pickaway Agriculture and Event Center\, 415 Lancaster Pike\, Circleville\, OH\, 43113\, United States
CATEGORIES:Festivals and Special Events,Hobbies
ATTACH;FMTTYPE=image/png:https://pickaway.com/wp-content/uploads/2023/11/Untitled-design-49.png
END:VEVENT
BEGIN:VEVENT
DTSTART;TZID=America/New_York:20231111T110000
DTEND;TZID=America/New_York:20231111T150000
DTSTAMP:20260423T061952
CREATED:20231031T140146Z
LAST-MODIFIED:20231031T140341Z
UID:10000454-1699700400-1699714800@pickaway.com
SUMMARY:Autumn Author Showcase
DESCRIPTION:Meet local authors from Pickaway County and the surrounding area. ArtsaRound will have several authors onhand with their new literary works and publications. This is your chance to meet some of your favorite local authors in person\, purchase their latests books or just have a chance to chat with them. This is a free event and everyone is welcome.
URL:https://pickaway.com/event/autumn-author-showcase/
LOCATION:ArtsaRound Gallery\, 135 W Main St\, Circleville\, 43113
CATEGORIES:Entertainment and Arts,Hobbies
ATTACH;FMTTYPE=image/jpeg:https://pickaway.com/wp-content/uploads/2023/10/Autumn-Showcase-2.jpg
END:VEVENT
BEGIN:VEVENT
DTSTART;TZID=America/New_York:20231114T080000
DTEND;TZID=America/New_York:20231114T170000
DTSTAMP:20260423T061952
CREATED:20230805T191909Z
LAST-MODIFIED:20230807T164008Z
UID:10000357-1699948800-1699981200@pickaway.com
SUMMARY:Beginning Painting: The Joy of Color
DESCRIPTION:Learn the basics of color and painting while creating a still-life piece of artwork. All supplies will be provided\, including paint\, canvas\, and brushes.
URL:https://pickaway.com/event/beginning-painting-the-joy-of-color/
LOCATION:Pickaway County Library\, 1160 North Court Street\, Circleville\, OH\, 43113\, United States
CATEGORIES:Community,Hobbies
ATTACH;FMTTYPE=image/png:https://pickaway.com/wp-content/uploads/2023/08/11-14-23-Beginning-Painting-small.png
END:VEVENT
BEGIN:VEVENT
DTSTART;TZID=America/New_York:20231116T103000
DTEND;TZID=America/New_York:20231116T113000
DTSTAMP:20260423T061952
CREATED:20230805T191233Z
LAST-MODIFIED:20230807T164104Z
UID:10000354-1700130600-1700134200@pickaway.com
SUMMARY:Chair Fitness: POUND
DESCRIPTION:Instead of listening to music\, you BECOME the music in this exhilarating full-body workout that combines cardio\, conditioning\, and strength training with yoga and pilates-inspired movements. Modified to a chair for extra stability and taught by Jaysa Angles of All Angles Fitness.
URL:https://pickaway.com/event/chair-fitness-pound/
LOCATION:Pickaway County Library\, 1160 North Court Street\, Circleville\, OH\, 43113\, United States
CATEGORIES:Miscellaneous,Sporting Events
ATTACH;FMTTYPE=image/jpeg:https://pickaway.com/wp-content/uploads/2023/08/11-16-23-Chair-exercise-drumming.jpg
END:VEVENT
BEGIN:VEVENT
DTSTART;TZID=America/New_York:20231116T180000
DTEND;TZID=America/New_York:20231116T190000
DTSTAMP:20260423T061952
CREATED:20230805T191727Z
LAST-MODIFIED:20230807T164020Z
UID:10000356-1700157600-1700161200@pickaway.com
SUMMARY:Healthy Living for Brain and Body
DESCRIPTION:Join Lindsay Blackburn from the central Ohio chapter of the Alzheimer’s Association to learn about the best choices you can make to improve both brain and body health.
URL:https://pickaway.com/event/healthy-living-for-brain-and-body/
LOCATION:Floyd E. Younkin Branch\, Pickaway County Library\, 51 Long St.\, Ashville\, 43103
CATEGORIES:Community,Miscellaneous
ATTACH;FMTTYPE=image/jpeg:https://pickaway.com/wp-content/uploads/2023/08/11-16-23-Healthy-Living-YB-small.jpg
END:VEVENT
BEGIN:VEVENT
DTSTART;TZID=America/New_York:20231116T180000
DTEND;TZID=America/New_York:20231116T193000
DTSTAMP:20260423T061952
CREATED:20231101T165302Z
LAST-MODIFIED:20231115T170746Z
UID:10000456-1700157600-1700163000@pickaway.com
SUMMARY:Let's Get Basted - Rhoads Thanksgiving Wine Tasting
DESCRIPTION:Let’s Get Basted – Rhoads Thanksgiving Wine Tasting\n\n\nJoin us for a new tradition\, a Thanksgiving – Friendsgiving Tasting! \nJoin us for our 1st annual Thanksgiving Friendsgiving Tasting! This will be just before Thanksgiving\, which will give you you many varietals to enjoy through the holiday season. Get your friends together and get those tickets before they sell out. Each wine will be paired with a seasonal appetizer and recipe you can serve for your friends and family. Join us Thursday\, November 16th from 6-7:30 pm. Sandi from Cutting Edge wines will be introducing us to several wines from around the world. Hope you can join us! \nEvent ticket includes wine tasting\, seasonal appetizers\, and wine education from Sandi.
URL:https://pickaway.com/event/lets-get-basted-rhoads-thanksgiving-wine-tasting/
LOCATION:Rhoads Garden Center\, 1051 St. Rt. 56 East\, Circleville\, OH\, 43113\, United States
CATEGORIES:Community
ATTACH;FMTTYPE=image/jpeg:https://pickaway.com/wp-content/uploads/2023/11/1b5fdf09978acfc5bd7dbd277ddddd12.jpg
END:VEVENT
BEGIN:VEVENT
DTSTART;VALUE=DATE:20231117
DTEND;VALUE=DATE:20231119
DTSTAMP:20260423T061952
CREATED:20230508T173011Z
LAST-MODIFIED:20231108T160529Z
UID:10000223-1700179200-1700351999@pickaway.com
SUMMARY:The Country Shop Hop
DESCRIPTION:Amanda – Stoutsville – Tarlton \nFrom food and ice cream\, to glassblowing\, antiques\, vintage treasures and seasonal finds. \nPLUS NEW FOR 2023 – Scavenger Hunt
URL:https://pickaway.com/event/the-country-shop-hop-3/
LOCATION:OH
CATEGORIES:Children and Family Fun
ATTACH;FMTTYPE=image/jpeg:https://pickaway.com/wp-content/uploads/2023/05/Shop-Hop.jpg
END:VEVENT
BEGIN:VEVENT
DTSTART;TZID=America/New_York:20231118T083000
DTEND;TZID=America/New_York:20231118T143000
DTSTAMP:20260423T061952
CREATED:20231106T192925Z
LAST-MODIFIED:20231106T193009Z
UID:10000466-1700296200-1700317800@pickaway.com
SUMMARY:Holly Happenings Craft Bazaar
DESCRIPTION:An annual event with nearly 150 vendors. Held the third Saturday in November at Teays Valley High School. The Teays Valley Band hosts the event as a fundraiser for the program at Teays Valley High School.
URL:https://pickaway.com/event/holly-happenings-craft-bazaar/
LOCATION:Teays Valley High School\, 3887 OH-752\, Ashville\, OH\, 43103\, United States
CATEGORIES:Community,Hobbies
ATTACH;FMTTYPE=image/png:https://pickaway.com/wp-content/uploads/2023/11/Untitled-design-47.png
GEO:39.722778;-82.945556
X-APPLE-STRUCTURED-LOCATION;VALUE=URI;X-ADDRESS=Teays Valley High School 3887 OH-752 Ashville OH 43103 United States;X-APPLE-RADIUS=500;X-TITLE=3887 OH-752:geo:-82.945556,39.722778
END:VEVENT
BEGIN:VEVENT
DTSTART;TZID=America/New_York:20231118T090000
DTEND;TZID=America/New_York:20231118T140000
DTSTAMP:20260423T061952
CREATED:20231113T203809Z
LAST-MODIFIED:20231113T203809Z
UID:10000483-1700298000-1700316000@pickaway.com
SUMMARY:Holiday Craft Bazaar
DESCRIPTION:On November 18 we will be holding a retail event and I’d love to have you there! Come join us at Believe in Fitness for our Holiday Craft Bazaar! We are a collection of small business owners and vendors bringing you handmade\, one of a kind\, and premium products and services we are excited to share them with you!\nWe can’t wait to see you there!
URL:https://pickaway.com/event/holiday-craft-bazaar/
LOCATION:Believe in Fitness LLC\, 121 E. Franklin St.\, Circleville\, 43113\, United States
CATEGORIES:Festivals and Special Events,Community,Miscellaneous
ATTACH;FMTTYPE=image/png:https://pickaway.com/wp-content/uploads/2023/11/Untitled-design-56.png
END:VEVENT
BEGIN:VEVENT
DTSTART;TZID=America/New_York:20231118T170000
DTEND;TZID=America/New_York:20231118T190000
DTSTAMP:20260423T061952
CREATED:20231106T193300Z
LAST-MODIFIED:20231106T193300Z
UID:10000467-1700326800-1700334000@pickaway.com
SUMMARY:Farm Luminary Walk
DESCRIPTION:Ongoing from 5-7pm\nAll ages\nEnjoy an evening stroll amidst the luminaries. Visit the lamplit farmhouse. Stop by the campfire for a warm beverage and some popcorn.
URL:https://pickaway.com/event/farm-luminary-walk/
LOCATION:Slate Run Metro Park and Living Historical Farm
CATEGORIES:Festivals and Special Events,Community,Children and Family Fun,Miscellaneous
ATTACH;FMTTYPE=image/jpeg:https://pickaway.com/wp-content/uploads/2023/11/397967490_641969228123852_5029763249842820383_n.jpg
END:VEVENT
BEGIN:VEVENT
DTSTART;TZID=America/New_York:20231118T190000
DTEND;TZID=America/New_York:20231118T190000
DTSTAMP:20260423T061952
CREATED:20231107T194916Z
LAST-MODIFIED:20231107T194916Z
UID:10000471-1700334000-1700334000@pickaway.com
SUMMARY:The Raineys at Manchester Hill
DESCRIPTION:Enjoy live music with local favorite\, The Raineys!
URL:https://pickaway.com/event/the-raineys-at-manchester-hill/
LOCATION:Manchester Hill Winery and Vineyard\, 13160 Tarlton Road\, Circleville\, OH\, 43113\, United States
CATEGORIES:Entertainment and Arts,Community
ATTACH;FMTTYPE=image/jpeg:https://pickaway.com/wp-content/uploads/2023/11/398979313_3650470488530890_840334688606535138_n.jpg
END:VEVENT
BEGIN:VEVENT
DTSTART;TZID=America/New_York:20231122T190000
DTEND;TZID=America/New_York:20231122T190000
DTSTAMP:20260423T061952
CREATED:20231107T204535Z
LAST-MODIFIED:20231107T204535Z
UID:10000474-1700679600-1700679600@pickaway.com
SUMMARY:Thanksgiving Eve with Rob Adams
DESCRIPTION:Rob Adams is scheduled to perform from 7 to 10 pm on the evening before Thanksgiving! Enjoy special offers on shots and drinks throughout the entire night.
URL:https://pickaway.com/event/thanksgiving-eve-with-rob-adams/
LOCATION:Dough Boyz Pizza & Pub\, 15 Front St.\, Commercial Point\, 43116\, United States
CATEGORIES:Entertainment and Arts
ATTACH;FMTTYPE=image/png:https://pickaway.com/wp-content/uploads/2023/06/My-project-1-2023-06-28T135021.468.png
END:VEVENT
BEGIN:VEVENT
DTSTART;TZID=America/New_York:20231123T080000
DTEND;TZID=America/New_York:20231123T110000
DTSTAMP:20260423T061952
CREATED:20230928T153239Z
LAST-MODIFIED:20230928T153239Z
UID:10000441-1700726400-1700737200@pickaway.com
SUMMARY:Turkey Trot 5K
DESCRIPTION:Start your Thanksgiving Day with a fun 5k walk/run through the City of Circleville and be part of Pickaway County’s largest one-day fundraising event to benefit the Pickaway County Fresh Produce Market. Your participation raises funds to support our efforts to get fresh produce to those in need throughout all of Pickaway County through the food pantry system. \n  \n 
URL:https://pickaway.com/event/turkey-trot-5k/
LOCATION:St. Philip’s Episcopal Church\, 129 W. Mound St.\, Circleville\, 43113\, United States
CATEGORIES:Community,Children and Family Fun,Miscellaneous,Sporting Events
ATTACH;FMTTYPE=image/png:https://pickaway.com/wp-content/uploads/2023/09/Untitled-design-34.png
END:VEVENT
BEGIN:VEVENT
DTSTART;TZID=America/New_York:20231123T113000
DTEND;TZID=America/New_York:20231123T150000
DTSTAMP:20260423T061952
CREATED:20231113T203205Z
LAST-MODIFIED:20231113T203205Z
UID:10000482-1700739000-1700751600@pickaway.com
SUMMARY:Thanksgiving Buffett at Deer Creek
DESCRIPTION:Thursday\, November 23 | 11:30 am – 3:00 pm\nLeave the planning\, cooking and the clean-up to us! Enjoy a delicious buffet prepared by our Chef with holiday favorites such as Ginger Glazed Ham\, Oven Roasted Turkey\, and Sweet Potato Casserole.\nReservations Required: 740-869-6311
URL:https://pickaway.com/event/thanksgiving-buffett-at-deer-creek/
LOCATION:Deer Creek State Park Lodge\, 22300 State Park Road\, Mt. Sterling\, OH\, 43143\, United States
CATEGORIES:Miscellaneous
ATTACH;FMTTYPE=image/jpeg:https://pickaway.com/wp-content/uploads/2023/11/393745085_718451783658467_2505198608869136017_n.jpg
END:VEVENT
BEGIN:VEVENT
DTSTART;TZID=America/New_York:20231124T110000
DTEND;TZID=America/New_York:20231124T150000
DTSTAMP:20260423T061952
CREATED:20231121T142402Z
LAST-MODIFIED:20231121T142402Z
UID:10000498-1700823600-1700838000@pickaway.com
SUMMARY:Thanksgiving Traditions
DESCRIPTION:Ongoing from 11-3pm\nAll ages\nLearn some history about Thanksgiving foods and traditions.
URL:https://pickaway.com/event/thanksgiving-traditions/
LOCATION:Slate Run Metro Park and Living Historical Farm
CATEGORIES:Community,Children and Family Fun
ATTACH;FMTTYPE=image/jpeg:https://pickaway.com/wp-content/uploads/2023/11/397610914_641970394790402_185661052738179261_n.jpg
END:VEVENT
BEGIN:VEVENT
DTSTART;TZID=America/New_York:20231125T100000
DTEND;TZID=America/New_York:20231125T160000
DTSTAMP:20260423T061952
CREATED:20231121T152425Z
LAST-MODIFIED:20231121T152425Z
UID:10000489-1700906400-1700928000@pickaway.com
SUMMARY:Grand Opening Footsteps on Main
DESCRIPTION:Welcome to roundtown a new store front Footsteps on Main. We have grandpa Joe’s candy\, novelty gifts\, toys\, apparel and more! We also have customizable gifts! Grand opening Saturday Nov 25 from 10am to 4pm
URL:https://pickaway.com/event/grand-opening-footsteps-on-main/
LOCATION:Zwicker House\, 115 E Main St\, Circleville\, OH\, 43113
CATEGORIES:Community,Hobbies
ATTACH;FMTTYPE=image/jpeg:https://pickaway.com/wp-content/uploads/2023/11/inbound1708985526040413821.jpg
END:VEVENT
BEGIN:VEVENT
DTSTART;TZID=America/New_York:20231125T190000
DTEND;TZID=America/New_York:20231125T210000
DTSTAMP:20260423T061952
CREATED:20231107T195335Z
LAST-MODIFIED:20231107T202845Z
UID:10000472-1700938800-1700946000@pickaway.com
SUMMARY:Live Music with Hollyview
DESCRIPTION:Playing original alternative rock music and a splash of the 80’s – 2000’s covers\, Hollyview has been rocking Circleville since 2009! \nEnjoy the music along with award winning wines and hard cider!
URL:https://pickaway.com/event/live-music-with-hollyview-4/
LOCATION:Manchester Hill Winery and Vineyard\, 13160 Tarlton Road\, Circleville\, OH\, 43113\, United States
CATEGORIES:Entertainment and Arts
ATTACH;FMTTYPE=image/png:https://pickaway.com/wp-content/uploads/2023/06/My-project-1-2023-06-28T134530.252.png
END:VEVENT
BEGIN:VEVENT
DTSTART;TZID=America/New_York:20231127T080000
DTEND;TZID=America/New_York:20231127T170000
DTSTAMP:20260423T061952
CREATED:20231127T181519Z
LAST-MODIFIED:20231127T181519Z
UID:10000507-1701072000-1701104400@pickaway.com
SUMMARY:Christmas Cookie Decorating
DESCRIPTION:Do you love decorating sugar cookies but hate the cleanup? \nThen look no further. Come make the mess at our place on Thursday\, December 21 anytime between 6-9pm. Preorder your cookie kit which includes 6 cookies\, 3 colors of icing\, and sprinkles. Deadline to order is December 16
URL:https://pickaway.com/event/christmas-cookie-decorating/
LOCATION:JoyHouse Coffee\, 202 North Pickaway Street\, Circleville\, OH\, 43113\, United States
CATEGORIES:Festivals and Special Events,Community,Children and Family Fun
ATTACH;FMTTYPE=image/jpeg:https://pickaway.com/wp-content/uploads/2023/11/405009748_832975678837640_9112102634028354557_n.jpg
END:VEVENT
BEGIN:VEVENT
DTSTART;TZID=America/New_York:20231127T180000
DTEND;TZID=America/New_York:20231127T193000
DTSTAMP:20260423T061952
CREATED:20231101T165330Z
LAST-MODIFIED:20231101T165330Z
UID:10000455-1701108000-1701113400@pickaway.com
SUMMARY:"Porch Pot" Party 2023
DESCRIPTION:It’s a fun\, popular event that we host every year.\n\n\nIt’s a fun\, popular event that we host every year.  \nBring all of your containers in to fill with fresh greens for the holidays! Cost of the workshop is a $10 registration fee plus the supplies you decide to use that evening. We’ll have live greens\, natural cones\, bling picks\, ribbon\, and everything you will need to adorn your containers. Our expert advise of course is FREE! All supplies must be purchased at Rhoads at the time of the workshop. Outside embellishments and items are NOT allowed.  Please bring your favorite pair of gloves and pruners if you have them. \nThe registration fee includes a glass of wine\, beer\, or N/A beverage. You must pre-register due to the high demand of this popular class.  \nBring a friend and enjoy a relaxing few hours! See you there.
URL:https://pickaway.com/event/porch-pot-party-2023-2/
LOCATION:Rhoads Garden Center\, 1051 St. Rt. 56 East\, Circleville\, OH\, 43113\, United States
CATEGORIES:Community
ATTACH;FMTTYPE=image/jpeg:https://pickaway.com/wp-content/uploads/2023/11/9d8c3ba3991595e8b74241fa3126ee2f-1.jpg
END:VEVENT
BEGIN:VEVENT
DTSTART;TZID=America/New_York:20231128T180000
DTEND;TZID=America/New_York:20231128T193000
DTSTAMP:20260423T061952
CREATED:20231101T165344Z
LAST-MODIFIED:20231122T170657Z
UID:10000458-1701194400-1701199800@pickaway.com
SUMMARY:Porch Pot Party #2
DESCRIPTION:Join us for the 2nd night or Porch Pot making!\n\n\nIt’s a fun\, popular event that we host every year.  \nBring all of your containers in to fill with fresh greens for the holidays! Cost of the workshop is a $10 registration fee plus the supplies you decide to use that evening. We’ll have live greens\, natural cones\, bling picks\, ribbon\, and everything you will need to adorn your containers. Our expert advise of course is FREE! All supplies must be purchased at Rhoads at the time of the workshop. Outside embellishments and items are NOT allowed.  Please bring your favorite pair of gloves and pruners if you have them. \nThe registration fee includes a glass of wine\, beer\, or N/A beverage. You must pre-register due to the high demand of this popular class.  \nBring a friend and enjoy a relaxing few hours! See you there.
URL:https://pickaway.com/event/porch-pot-party-2/
LOCATION:Rhoads Garden Center\, 1051 St. Rt. 56 East\, Circleville\, OH\, 43113\, United States
CATEGORIES:Community
ATTACH;FMTTYPE=image/jpeg:https://pickaway.com/wp-content/uploads/2023/11/d6442a72d54b839ea9c72204fb635239.jpg
END:VEVENT
BEGIN:VEVENT
DTSTART;TZID=America/New_York:20231129T180000
DTEND;TZID=America/New_York:20231129T190000
DTSTAMP:20260423T061952
CREATED:20231101T165356Z
LAST-MODIFIED:20231129T170700Z
UID:10000459-1701280800-1701284400@pickaway.com
SUMMARY:Holiday Wreath Decorating Class
DESCRIPTION:Classic Holiday Wreath Decorating\n\n\nWelcome guests to your home with the scent of fresh fir. We will decorate a live evergreen wreath for your front door or entryway. You will add some fresh greens\, bling\, natural accents\, and learn to tie your own holiday bow. The wreath is a standard size of 22″ and sure to bring holiday cheer to your door! \nWorkshop Fee: The $59.99 workshop fee includes your hands-on instruction\, use of tools\, and a fresh\, noble fir wreath with all the decorations.  The workshop fee must be paid at the time of registration in order to the hold the attendee’s seat. Choose form our red-themed “Merry & Bright” or the white-themed  “Mountain Snowberry”. \nIt will be a nice festive evening. Class limited to 30! Grab a friend…our cash bar of wine & beer will be open.
URL:https://pickaway.com/event/holiday-wreath-decorating-class/
LOCATION:Rhoads Garden Center Inc\, 1051 St. Rt. 56 East\, Circleville\, OH\, 43113\, United States
CATEGORIES:Festivals and Special Events,Community
ATTACH;FMTTYPE=image/jpeg:https://pickaway.com/wp-content/uploads/2023/11/7d55c665ceccfecfc3341203d45b47e6.jpg
END:VEVENT
BEGIN:VEVENT
DTSTART;TZID=America/New_York:20231130T173000
DTEND;TZID=America/New_York:20231130T193000
DTSTAMP:20260423T061952
CREATED:20231101T165412Z
LAST-MODIFIED:20231129T170700Z
UID:10000460-1701365400-1701372600@pickaway.com
SUMMARY:Buckeye Snowman Workshop
DESCRIPTION:We are hosting a fun holiday craft night!\n\n\nJoin us in making a Buckeye wooden snowman. A great accent to your holiday home décor. All supplies included. $42 per spot. Snowman is approx. 24″ tall. Class hosted by Beth Cline and no painting experience needed! Great opportunity to gather the girls and have a holiday get-together. \nA cash bar of beer\, wine\, slushies\, and soda will be available.
URL:https://pickaway.com/event/buckeye-snowman-workshop/
LOCATION:Rhoads Garden Center\, 1051 St. Rt. 56 East\, Circleville\, OH\, 43113\, United States
CATEGORIES:Community
ATTACH;FMTTYPE=image/jpeg:https://pickaway.com/wp-content/uploads/2023/11/71946a341eb2ce2078062d40321e5339-1.jpg
END:VEVENT
BEGIN:VEVENT
DTSTART;TZID=America/New_York:20231201T160000
DTEND;TZID=America/New_York:20231201T190000
DTSTAMP:20260423T061952
CREATED:20231127T182731Z
LAST-MODIFIED:20231127T182938Z
UID:10000511-1701446400-1701457200@pickaway.com
SUMMARY:Krampus Visits Moonstone Circle
DESCRIPTION:Come and visit Krampus at Moonstone Circle and snap a photo with him in our Tea Space room. \nEnjoy a steaming hot cup of tea from Magic Hour Tea and indulge in a delicious cookie from Lindsey’s bakery. \n*Please note that Krampus may not be suitable for younger children\, so use your own judgment.* \nWhile Krampus accepts tips\, it is not expected. This event is free of charge. \nShop for the season at Moonstone Circle!
URL:https://pickaway.com/event/krampus-visits-moonstone-circle/2023-12-01/
LOCATION:Moonstone Circle\, 129 W Main St\, Circleville\, 43113\, United States
CATEGORIES:Festivals and Special Events
ATTACH;FMTTYPE=image/png:https://pickaway.com/wp-content/uploads/2023/11/Untitled-design-66.png
END:VEVENT
BEGIN:VEVENT
DTSTART;TZID=America/New_York:20231202T090000
DTEND;TZID=America/New_York:20231202T140000
DTSTAMP:20260423T061952
CREATED:20231113T202246Z
LAST-MODIFIED:20231113T202246Z
UID:10000480-1701507600-1701525600@pickaway.com
SUMMARY:Pancakes with Santa and Craft Extravaganza
DESCRIPTION: Date: Saturday\, December 2nd\n Time: 9 a.m. – 2 p.m.\n Breakfast with Santa: Dig in from 9 a.m. to 12 p.m. We’re starting early with Santa – come with your Christmas wish list!\n Pics with Santa: Snap those memories with the jolly man himself!\n Local Crafts: Shop unique gifts from our crafty locals. Perfect for your holiday gift stash!\n Kid-Friendly Fun: Keep the little ones entertained with games and crafts all day.\n Lunchtime: We’ll be serving up lunch from 12 p.m. to 2 p.m.\nBrought to you by our Student Council and friends. Join us for a laid-back\, merry time that’s a taste of what’s to come this holiday season!
URL:https://pickaway.com/event/pancakes-with-santa-and-craft-extravaganza/
LOCATION:Pickaway-Ross CTC\, 895 Crouse Chapel Road\, Chillicothe\, 45601\, United States
CATEGORIES:Festivals and Special Events,Community,Children and Family Fun
ATTACH;FMTTYPE=image/jpeg:https://pickaway.com/wp-content/uploads/2023/11/396702248_915530000244148_410002521810179215_n.jpg
END:VEVENT
BEGIN:VEVENT
DTSTART;TZID=America/New_York:20231202T090000
DTEND;TZID=America/New_York:20231202T150000
DTSTAMP:20260423T061952
CREATED:20231025T163801Z
LAST-MODIFIED:20231129T170700Z
UID:10000448-1701507600-1701529200@pickaway.com
SUMMARY:Rhoads Winterfair 2023
DESCRIPTION:Rhoads 12th Annual Winterfair\n\n\nWho wouldn’t love a local\, unique gift for the Holidays? \nJoin us and local vendors for….Rhoads 12th Annual Winterfair\, Sat. Dec. 2nd. This annual event promotes locally made gifts\, body products\, wine\, home décor & more! Don’t miss this annual event! \nThis year 200 VIP tickets will be sold for the first hour. VIP Tickets are $12 each which includes an exclusive pre-show experience\, the first opportunity to get the best selection\, and a morning mimosa. (No need to register for 10-3pm shopping) \nTickets will be released on Friday\, Nov. 17th at 7 am for VIP. \nWine tastings throughout the day\, “NEW”  Happy Hour from 2-3 pm. Pick Em up Joe coffee truck in the a.m. NEW in 2023…larger lunch menu in the Rhoads Booth (including homeade chicken & noodles)!
URL:https://pickaway.com/event/rhoads-winterfair-2023/
LOCATION:Rhoads Garden Center Inc\, 1051 St. Rt. 56 East\, Circleville\, OH\, 43113\, United States
CATEGORIES:Festivals and Special Events,Community
ATTACH;FMTTYPE=image/jpeg:https://pickaway.com/wp-content/uploads/2023/10/492afbee8152e2393c0aa5fa60e4eb21.jpg
END:VEVENT
BEGIN:VEVENT
DTSTART;TZID=America/New_York:20231202T100000
DTEND;TZID=America/New_York:20231202T180000
DTSTAMP:20260423T061952
CREATED:20231127T193142Z
LAST-MODIFIED:20231127T193142Z
UID:10000515-1701511200-1701540000@pickaway.com
SUMMARY:Holiday Open House
DESCRIPTION:Join us for our Holiday Open House at Pickaway Craft Mall. \nEnjoy 20% off storewide all day\, gift bag giveaway for the first 60 customers\, and cookies and refreshments!
URL:https://pickaway.com/event/holiday-open-house/
LOCATION:Pickaway Craft Mall\, Ohio\, United States
CATEGORIES:Festivals and Special Events
ATTACH;FMTTYPE=image/png:https://pickaway.com/wp-content/uploads/2023/11/Untitled-design-67.png
END:VEVENT
BEGIN:VEVENT
DTSTART;TZID=America/New_York:20231202T103000
DTEND;TZID=America/New_York:20231202T140000
DTSTAMP:20260423T061952
CREATED:20231130T195421Z
LAST-MODIFIED:20231130T195421Z
UID:10000530-1701513000-1701525600@pickaway.com
SUMMARY:Tenderloins for Tots
DESCRIPTION:The Elks are hosting their Fourth Annual Tenderloins for Tots event. Bring a new\, unwrapped toy and exchange it for one of our famous pork tenderloin sandwiches. This will be a great day in downtown Circleville with the annual Christmas Parade starting at 1 and many downtown businesses featuring their best holiday gift ideas.
URL:https://pickaway.com/event/tenderloins-for-tots/
LOCATION:Circleville Elks\, 215 N Court St.\, Circleville\, 43113\, United States
ATTACH;FMTTYPE=image/png:https://pickaway.com/wp-content/uploads/2023/11/Untitled-design-79.png
END:VEVENT
END:VCALENDAR