BEGIN:VCALENDAR
VERSION:2.0
PRODID:-//Pickaway County Visitors Bureau - ECPv6.15.20//NONSGML v1.0//EN
CALSCALE:GREGORIAN
METHOD:PUBLISH
X-WR-CALNAME:Pickaway County Visitors Bureau
X-ORIGINAL-URL:https://pickaway.com
X-WR-CALDESC:Events for Pickaway County Visitors Bureau
REFRESH-INTERVAL;VALUE=DURATION:PT1H
X-Robots-Tag:noindex
X-PUBLISHED-TTL:PT1H
BEGIN:VTIMEZONE
TZID:America/New_York
BEGIN:DAYLIGHT
TZOFFSETFROM:-0500
TZOFFSETTO:-0400
TZNAME:EDT
DTSTART:20250309T070000
END:DAYLIGHT
BEGIN:STANDARD
TZOFFSETFROM:-0400
TZOFFSETTO:-0500
TZNAME:EST
DTSTART:20251102T060000
END:STANDARD
BEGIN:DAYLIGHT
TZOFFSETFROM:-0500
TZOFFSETTO:-0400
TZNAME:EDT
DTSTART:20260308T070000
END:DAYLIGHT
BEGIN:STANDARD
TZOFFSETFROM:-0400
TZOFFSETTO:-0500
TZNAME:EST
DTSTART:20261101T060000
END:STANDARD
BEGIN:DAYLIGHT
TZOFFSETFROM:-0500
TZOFFSETTO:-0400
TZNAME:EDT
DTSTART:20270314T070000
END:DAYLIGHT
BEGIN:STANDARD
TZOFFSETFROM:-0400
TZOFFSETTO:-0500
TZNAME:EST
DTSTART:20271107T060000
END:STANDARD
END:VTIMEZONE
BEGIN:VEVENT
DTSTART;TZID=America/New_York:20260808T050000
DTEND;TZID=America/New_York:20260809T150000
DTSTAMP:20260421T225452
CREATED:20260318T142102Z
LAST-MODIFIED:20260318T142102Z
UID:10003611-1786165200-1786287600@pickaway.com
SUMMARY:I'll Rise Conference
DESCRIPTION:I’ll Rise Conference is a 2-day event hosted by Faith Ministries Family Worship Centered pastored by District Elder Paul. L. Tiller. The ministry is focused on presentations to uplift\, encourage\, and deliver attendees from a sense of brokenness.  Both spiritual food and natural food are offered.  Friday\, August 7 service is at 6:30 PM with a meet and greet. Saturday August 8 service begins at 8:30 AM with breakfast.  All services are at Emmett Chapel 318 Tarlton Road\, Circleville\, Ohio.
URL:https://pickaway.com/event/ill-rise-conference/2026-08-08/
LOCATION:Emmett Chapel 318 Tarlton Road\, Circleville\, OH\, 318 Tarlton Road\, Circleville\, Ohio\, 43113
CATEGORIES:Community,Miscellaneous
ATTACH;FMTTYPE=image/jpeg:https://pickaway.com/wp-content/uploads/2021/05/pngtree-transparent-pink-and-blue-stage-colored-spotlights-png-image_2770062-e1744825528376.jpg
ORGANIZER;CN="Faith Ministries Family Worship Center":MAILTO:circlevillefm@aol.com
END:VEVENT
BEGIN:VEVENT
DTSTART;TZID=America/New_York:20260812T170000
DTEND;TZID=America/New_York:20260812T213000
DTSTAMP:20260421T225452
CREATED:20240307T145234Z
LAST-MODIFIED:20240307T145234Z
UID:10001176-1786554000-1786570200@pickaway.com
SUMMARY:Bingo: Logan Elm Athletics Boosters
DESCRIPTION:Bingo on Wednesday Nights at Circleville AMVETS doors open at 5:00pm.\nBingo starts at 7:00pm.\n818 Tarlton Road\nCircleville\, Ohio 43113\nAll proceeds support funding for Athletic Uniforms\, safety & training Equipment\, and facilities within the Logan Elm School District.
URL:https://pickaway.com/event/bingo-logan-elm-athletics-boosters/2026-08-12/
LOCATION:AMVETS Post 2256\, 818 Tarlton Rd\, Circleville\, OH\, 43113
CATEGORIES:Community,Hobbies,Miscellaneous
ATTACH;FMTTYPE=image/png:https://pickaway.com/wp-content/uploads/2024/03/Untitled-design-2024-03-07T095159.688.png
END:VEVENT
BEGIN:VEVENT
DTSTART;TZID=America/New_York:20260813T130000
DTEND;TZID=America/New_York:20260813T140000
DTSTAMP:20260421T225452
CREATED:20260302T192928Z
LAST-MODIFIED:20260302T192928Z
UID:10003472-1786626000-1786629600@pickaway.com
SUMMARY:Tai Chi at the Senior Center
DESCRIPTION:This program uses Sun Style Tai Chi forms to: improve physical and mental balance\, increase flexibility\, decrease arthritis pain\, and help prevent falls. Tai Chi for Beginners can be done seated or standing and we will practice both during class.
URL:https://pickaway.com/event/tai-chi-at-the-senior-center/2026-08-13/
LOCATION:Pickaway Senior Center\, 2105 Chickasaw Dr\, Circleville\, OH\, 43113\, United States
CATEGORIES:Community,Miscellaneous
ATTACH;FMTTYPE=image/png:https://pickaway.com/wp-content/uploads/2026/03/Senior-Center-Tai-Chi.png
ORGANIZER;CN="Pickaway Senior Center":MAILTO:noreply@facebookmail.com
END:VEVENT
END:VCALENDAR