BEGIN:VCALENDAR
VERSION:2.0
PRODID:-//Pickaway County Visitors Bureau - ECPv6.15.20//NONSGML v1.0//EN
CALSCALE:GREGORIAN
METHOD:PUBLISH
X-ORIGINAL-URL:https://pickaway.com
X-WR-CALDESC:Events for Pickaway County Visitors Bureau
REFRESH-INTERVAL;VALUE=DURATION:PT1H
X-Robots-Tag:noindex
X-PUBLISHED-TTL:PT1H
BEGIN:VTIMEZONE
TZID:America/New_York
BEGIN:DAYLIGHT
TZOFFSETFROM:-0500
TZOFFSETTO:-0400
TZNAME:EDT
DTSTART:20250309T070000
END:DAYLIGHT
BEGIN:STANDARD
TZOFFSETFROM:-0400
TZOFFSETTO:-0500
TZNAME:EST
DTSTART:20251102T060000
END:STANDARD
BEGIN:DAYLIGHT
TZOFFSETFROM:-0500
TZOFFSETTO:-0400
TZNAME:EDT
DTSTART:20260308T070000
END:DAYLIGHT
BEGIN:STANDARD
TZOFFSETFROM:-0400
TZOFFSETTO:-0500
TZNAME:EST
DTSTART:20261101T060000
END:STANDARD
BEGIN:DAYLIGHT
TZOFFSETFROM:-0500
TZOFFSETTO:-0400
TZNAME:EDT
DTSTART:20270314T070000
END:DAYLIGHT
BEGIN:STANDARD
TZOFFSETFROM:-0400
TZOFFSETTO:-0500
TZNAME:EST
DTSTART:20271107T060000
END:STANDARD
END:VTIMEZONE
BEGIN:VEVENT
DTSTART;TZID=America/New_York:20260729T170000
DTEND;TZID=America/New_York:20260729T213000
DTSTAMP:20260421T210324
CREATED:20240307T145234Z
LAST-MODIFIED:20240307T145234Z
UID:10001174-1785344400-1785360600@pickaway.com
SUMMARY:Bingo: Logan Elm Athletics Boosters
DESCRIPTION:Bingo on Wednesday Nights at Circleville AMVETS doors open at 5:00pm.\nBingo starts at 7:00pm.\n818 Tarlton Road\nCircleville\, Ohio 43113\nAll proceeds support funding for Athletic Uniforms\, safety & training Equipment\, and facilities within the Logan Elm School District.
URL:https://pickaway.com/event/bingo-logan-elm-athletics-boosters/2026-07-29/
LOCATION:AMVETS Post 2256\, 818 Tarlton Rd\, Circleville\, OH\, 43113
CATEGORIES:Community,Hobbies,Miscellaneous
ATTACH;FMTTYPE=image/png:https://pickaway.com/wp-content/uploads/2024/03/Untitled-design-2024-03-07T095159.688.png
END:VEVENT
BEGIN:VEVENT
DTSTART;TZID=America/New_York:20260730T130000
DTEND;TZID=America/New_York:20260730T140000
DTSTAMP:20260421T210324
CREATED:20260302T192928Z
LAST-MODIFIED:20260302T192928Z
UID:10003470-1785416400-1785420000@pickaway.com
SUMMARY:Tai Chi at the Senior Center
DESCRIPTION:This program uses Sun Style Tai Chi forms to: improve physical and mental balance\, increase flexibility\, decrease arthritis pain\, and help prevent falls. Tai Chi for Beginners can be done seated or standing and we will practice both during class.
URL:https://pickaway.com/event/tai-chi-at-the-senior-center/2026-07-30/
LOCATION:Pickaway Senior Center\, 2105 Chickasaw Dr\, Circleville\, OH\, 43113\, United States
CATEGORIES:Community,Miscellaneous
ATTACH;FMTTYPE=image/png:https://pickaway.com/wp-content/uploads/2026/03/Senior-Center-Tai-Chi.png
ORGANIZER;CN="Pickaway Senior Center":MAILTO:noreply@facebookmail.com
END:VEVENT
BEGIN:VEVENT
DTSTART;TZID=America/New_York:20260801T103000
DTEND;TZID=America/New_York:20260801T103000
DTSTAMP:20260421T210324
CREATED:20260408T161102Z
LAST-MODIFIED:20260408T161102Z
UID:10003700-1785580200-1785580200@pickaway.com
SUMMARY:Deer Creek Lake Dam Tour
DESCRIPTION:Explore behind the scenes at Deer Creek Lake with a guided Dam Tour hosted by the U.S. Army Corps of Engineers. This unique experience offers a look inside the dam’s operations\, including a visit to the 7-floor control tower. \nParticipants will walk down to the lowest level and stop at each floor on the way back up\, totaling 176 steps. The tour is family-friendly and designed for all ages and abilities\, with an elevator available for those who need it. Tours last approximately 45 to 60 minutes. \nImportant: Large bags\, purses\, and backpacks are not permitted inside the facility. \nUpcoming Tour Dates (all at 10:30 a.m.): \n\nMay 23\, 2026\nMay 30\, 2026\nJune 13\, 2026\nJuly 4\, 2026\nAugust 1\, 2026\n\nLocation:Deer Creek Lake Dam21897 Deer Creek Rd.Mt. Sterling\, OH 43143
URL:https://pickaway.com/event/deer-creek-lake-dam-tour/2026-08-01/
LOCATION:Deer Creek Dam\, 21897 Deer Creek Rd\, Mt Sterling\, OH\, 43143
CATEGORIES:Deer Creek State Park,Hobbies,Miscellaneous
ATTACH;FMTTYPE=image/jpeg:https://pickaway.com/wp-content/uploads/2024/09/Deer-Creek-Dam.jpg
END:VEVENT
BEGIN:VEVENT
DTSTART;TZID=America/New_York:20260801T160000
DTEND;TZID=America/New_York:20260801T200000
DTSTAMP:20260421T210324
CREATED:20260319T152013Z
LAST-MODIFIED:20260319T152013Z
UID:10003630-1785600000-1785614400@pickaway.com
SUMMARY:Commercial Point Food Truck Event
DESCRIPTION:Enjoy a variety of food trucks in Commercial Point\, Ohio offering options for the whole family. This community event is a great way to experience local flavors and enjoy a casual evening in Pickaway County.
URL:https://pickaway.com/event/commercial-point-food-truck-event/2026-08-01/
LOCATION:Commercial Point Men’s Club\, 26 West Scioto St.\, Commercial Point\, 43116\, United States
CATEGORIES:Community,Miscellaneous
ATTACH;FMTTYPE=image/png:https://pickaway.com/wp-content/uploads/2023/06/My-project-1-2023-06-28T094754.374.png
END:VEVENT
END:VCALENDAR