BEGIN:VCALENDAR
VERSION:2.0
PRODID:-//Pickaway County Visitors Bureau - ECPv6.15.20//NONSGML v1.0//EN
CALSCALE:GREGORIAN
METHOD:PUBLISH
X-WR-CALNAME:Pickaway County Visitors Bureau
X-ORIGINAL-URL:https://pickaway.com
X-WR-CALDESC:Events for Pickaway County Visitors Bureau
REFRESH-INTERVAL;VALUE=DURATION:PT1H
X-Robots-Tag:noindex
X-PUBLISHED-TTL:PT1H
BEGIN:VTIMEZONE
TZID:America/New_York
BEGIN:DAYLIGHT
TZOFFSETFROM:-0500
TZOFFSETTO:-0400
TZNAME:EDT
DTSTART:20250309T070000
END:DAYLIGHT
BEGIN:STANDARD
TZOFFSETFROM:-0400
TZOFFSETTO:-0500
TZNAME:EST
DTSTART:20251102T060000
END:STANDARD
BEGIN:DAYLIGHT
TZOFFSETFROM:-0500
TZOFFSETTO:-0400
TZNAME:EDT
DTSTART:20260308T070000
END:DAYLIGHT
BEGIN:STANDARD
TZOFFSETFROM:-0400
TZOFFSETTO:-0500
TZNAME:EST
DTSTART:20261101T060000
END:STANDARD
BEGIN:DAYLIGHT
TZOFFSETFROM:-0500
TZOFFSETTO:-0400
TZNAME:EDT
DTSTART:20270314T070000
END:DAYLIGHT
BEGIN:STANDARD
TZOFFSETFROM:-0400
TZOFFSETTO:-0500
TZNAME:EST
DTSTART:20271107T060000
END:STANDARD
END:VTIMEZONE
BEGIN:VEVENT
DTSTART;VALUE=DATE:20260713
DTEND;VALUE=DATE:20260718
DTSTAMP:20260421T210013
CREATED:20260331T164547Z
LAST-MODIFIED:20260331T164547Z
UID:10003671-1783900800-1784332799@pickaway.com
SUMMARY:Liberty Camp 250 at Mt. Oval Historic House and Farm
DESCRIPTION:Step back in time this summer at Liberty Camp 250\, a one-of-a-kind evening camp experience for youth hosted at Mt. Oval Historic House and Farm in Pickaway County. \nDesigned for children ages 9–12\, this week-long program brings the founding of America to life through interactive learning\, hands-on activities\, and immersive historical experiences. Campers will explore early American history in a fun and engaging way while connecting with the stories and people that shaped the nation. \nEach evening includes a variety of themed experiences such as: \n\nEncounters with historical reenactors including Betsy Ross\, Paul Revere\, and Revolutionary War soldiers\nColonial crafts like candle dipping and tin punching\nTraditional games and activities from early America\nReenactments including the Boston Tea Party and the signing of the Declaration of Independence\nLive colonial-style music with fife and drums\n\nCampers will also receive a camp T-shirt and enjoy a light meal each evening. \nEvent DetailsDates: Monday\, July 13 – Friday\, July 17\, 2026Time: 5:45 PM – 9:00 PM each eveningLocation: Mt. Oval Historic House and Farm\, 3601 Emerson Rd\, Circleville\, OhioAges: 9–12Cost: $25 per child (entire week) \nSpace is limited to 30 participants. Advance registration is required by May 29\, 2026. \nRegistration Contact:Sandy Montgomery: 740-497-0612 | deltaveemonty@frontier.comChristine Lallier: 740-497-0785 | christinelallier@gmail.com
URL:https://pickaway.com/event/liberty-camp-250-at-mt-oval-historic-house-and-farm/
LOCATION:Mount Oval Historic House & Farm\, 3601 Emerson Rd\, Circleville\, OH\, 43113
CATEGORIES:America 250,Festivals and Special Events,Community,Children and Family Fun,Miscellaneous
ATTACH;FMTTYPE=image/jpeg:https://pickaway.com/wp-content/uploads/2023/04/Mount-Oval.jpg
END:VEVENT
BEGIN:VEVENT
DTSTART;TZID=America/New_York:20260715T170000
DTEND;TZID=America/New_York:20260715T213000
DTSTAMP:20260421T210013
CREATED:20240307T145234Z
LAST-MODIFIED:20240307T145234Z
UID:10001172-1784134800-1784151000@pickaway.com
SUMMARY:Bingo: Logan Elm Athletics Boosters
DESCRIPTION:Bingo on Wednesday Nights at Circleville AMVETS doors open at 5:00pm.\nBingo starts at 7:00pm.\n818 Tarlton Road\nCircleville\, Ohio 43113\nAll proceeds support funding for Athletic Uniforms\, safety & training Equipment\, and facilities within the Logan Elm School District.
URL:https://pickaway.com/event/bingo-logan-elm-athletics-boosters/2026-07-15/
LOCATION:AMVETS Post 2256\, 818 Tarlton Rd\, Circleville\, OH\, 43113
CATEGORIES:Community,Hobbies,Miscellaneous
ATTACH;FMTTYPE=image/png:https://pickaway.com/wp-content/uploads/2024/03/Untitled-design-2024-03-07T095159.688.png
END:VEVENT
BEGIN:VEVENT
DTSTART;TZID=America/New_York:20260716T130000
DTEND;TZID=America/New_York:20260716T140000
DTSTAMP:20260421T210013
CREATED:20260302T192928Z
LAST-MODIFIED:20260302T192928Z
UID:10003468-1784206800-1784210400@pickaway.com
SUMMARY:Tai Chi at the Senior Center
DESCRIPTION:This program uses Sun Style Tai Chi forms to: improve physical and mental balance\, increase flexibility\, decrease arthritis pain\, and help prevent falls. Tai Chi for Beginners can be done seated or standing and we will practice both during class.
URL:https://pickaway.com/event/tai-chi-at-the-senior-center/2026-07-16/
LOCATION:Pickaway Senior Center\, 2105 Chickasaw Dr\, Circleville\, OH\, 43113\, United States
CATEGORIES:Community,Miscellaneous
ATTACH;FMTTYPE=image/png:https://pickaway.com/wp-content/uploads/2026/03/Senior-Center-Tai-Chi.png
ORGANIZER;CN="Pickaway Senior Center":MAILTO:noreply@facebookmail.com
END:VEVENT
BEGIN:VEVENT
DTSTART;VALUE=DATE:20260718
DTEND;VALUE=DATE:20260719
DTSTAMP:20260421T210013
CREATED:20260410T141137Z
LAST-MODIFIED:20260410T141137Z
UID:10003714-1784332800-1784419199@pickaway.com
SUMMARY:Uptown Circleville Sidewalk Sale
DESCRIPTION:Spend the day exploring Circleville during the Uptown Circleville Sidewalk Sale\, where local businesses bring their best deals right out to the street. \nStroll through Uptown and discover seasonal items\, special savings\, and one-of-a-kind finds from your favorite shops. Whether you’re looking for something new or just enjoying a day out\, this is a great opportunity to support small businesses and experience the charm of downtown Circleville. \nIf weather doesn’t cooperate\, sales will move inside participating stores. \nWhile you’re in town\, catch the excitement of the Uptown Circleville 3-on-3 Basketball Tournament happening the same day.
URL:https://pickaway.com/event/uptown-circleville-sidewalk-sale/
LOCATION:103 West Main Street Circleville\, 103 West Main Street\, Circleville\, OH\, 43113\, United States
CATEGORIES:Community,Miscellaneous
ATTACH;FMTTYPE=image/jpeg:https://pickaway.com/wp-content/uploads/2023/04/Sales.jpg
END:VEVENT
END:VCALENDAR