BEGIN:VCALENDAR
VERSION:2.0
PRODID:-//Pickaway County Visitors Bureau - ECPv6.15.20//NONSGML v1.0//EN
CALSCALE:GREGORIAN
METHOD:PUBLISH
X-ORIGINAL-URL:https://pickaway.com
X-WR-CALDESC:Events for Pickaway County Visitors Bureau
REFRESH-INTERVAL;VALUE=DURATION:PT1H
X-Robots-Tag:noindex
X-PUBLISHED-TTL:PT1H
BEGIN:VTIMEZONE
TZID:America/New_York
BEGIN:DAYLIGHT
TZOFFSETFROM:-0500
TZOFFSETTO:-0400
TZNAME:EDT
DTSTART:20250309T070000
END:DAYLIGHT
BEGIN:STANDARD
TZOFFSETFROM:-0400
TZOFFSETTO:-0500
TZNAME:EST
DTSTART:20251102T060000
END:STANDARD
BEGIN:DAYLIGHT
TZOFFSETFROM:-0500
TZOFFSETTO:-0400
TZNAME:EDT
DTSTART:20260308T070000
END:DAYLIGHT
BEGIN:STANDARD
TZOFFSETFROM:-0400
TZOFFSETTO:-0500
TZNAME:EST
DTSTART:20261101T060000
END:STANDARD
BEGIN:DAYLIGHT
TZOFFSETFROM:-0500
TZOFFSETTO:-0400
TZNAME:EDT
DTSTART:20270314T070000
END:DAYLIGHT
BEGIN:STANDARD
TZOFFSETFROM:-0400
TZOFFSETTO:-0500
TZNAME:EST
DTSTART:20271107T060000
END:STANDARD
END:VTIMEZONE
BEGIN:VEVENT
DTSTART;TZID=America/New_York:20260519T140000
DTEND;TZID=America/New_York:20260519T140000
DTSTAMP:20260421T174340
CREATED:20260408T142621Z
LAST-MODIFIED:20260408T142621Z
UID:10003693-1779199200-1779199200@pickaway.com
SUMMARY:Spreadsheet Basics
DESCRIPTION:New to spreadsheets or not sure where to begin? This beginner-friendly class will introduce the basics of working with spreadsheets like Microsoft Excel in a relaxed\, supportive setting. \nLearn what spreadsheets are used for\, how to navigate and understand what you’re seeing on the screen\, and how to read cell coordinates. You’ll also explore simple formatting techniques and use basic formulas like SUM to help your spreadsheet do the math for you. \nLed by a Guiding Ohio Online Technology Trainer\, this session is perfect for anyone looking to build confidence with everyday computer skills. \nRegistration is required.
URL:https://pickaway.com/event/spreadsheet-basics/
LOCATION:Floyd E. Younkin Branch\, Pickaway County Library\, 51 Long St.\, Ashville\, 43103
CATEGORIES:Community,Hobbies,Miscellaneous
ATTACH;FMTTYPE=image/png:https://pickaway.com/wp-content/uploads/2026/04/5-19-YB-Spreadsheets.png
END:VEVENT
BEGIN:VEVENT
DTSTART;TZID=America/New_York:20260520T170000
DTEND;TZID=America/New_York:20260520T213000
DTSTAMP:20260421T174340
CREATED:20240307T145234Z
LAST-MODIFIED:20240307T145234Z
UID:10001164-1779296400-1779312600@pickaway.com
SUMMARY:Bingo: Logan Elm Athletics Boosters
DESCRIPTION:Bingo on Wednesday Nights at Circleville AMVETS doors open at 5:00pm.\nBingo starts at 7:00pm.\n818 Tarlton Road\nCircleville\, Ohio 43113\nAll proceeds support funding for Athletic Uniforms\, safety & training Equipment\, and facilities within the Logan Elm School District.
URL:https://pickaway.com/event/bingo-logan-elm-athletics-boosters/2026-05-20/
LOCATION:AMVETS Post 2256\, 818 Tarlton Rd\, Circleville\, OH\, 43113
CATEGORIES:Community,Hobbies,Miscellaneous
ATTACH;FMTTYPE=image/png:https://pickaway.com/wp-content/uploads/2024/03/Untitled-design-2024-03-07T095159.688.png
END:VEVENT
BEGIN:VEVENT
DTSTART;TZID=America/New_York:20260520T180000
DTEND;TZID=America/New_York:20260520T190000
DTSTAMP:20260421T174340
CREATED:20260202T205126Z
LAST-MODIFIED:20260202T205149Z
UID:10003232-1779300000-1779303600@pickaway.com
SUMMARY:Get to Know Your Weeds : A How to Workshop
DESCRIPTION:Thistles\, crabgrass\, ground ivy Ugh!  Learn how to identify common “weeds” and discover which ones may actually be helping your garden. Learn to identify and name 10 weeds you have in your garden\, how they root\, grow and reproduce!  Also walk away with techniques to manage the not so good weeds in your garden. We will also cover apps\, compost\, mulch\, herbicides and natural deterrents to weeds. \nPerfect for gardeners and homeowners\, wanting to manage your landscape\n🌼 Includes a free weed guide to take home and id your weeds & $20 gift certificate  \nTO register txt “Weeds” to 614-809-8538
URL:https://pickaway.com/event/get-to-know-your-weeds-a-how-to-workshop/2026-05-20/
LOCATION:Darby Landscape Supply\, 8075 Harrisburg Pike\, Orient\, 43146
CATEGORIES:Education,Community,Miscellaneous
ATTACH;FMTTYPE=image/png:https://pickaway.com/wp-content/uploads/2026/02/Copy-of-Pickaway-Coffee-Crawl-1.png
ORGANIZER;CN="Darby Landscape Supply":MAILTO:cmoehl10@gmail.com
END:VEVENT
BEGIN:VEVENT
DTSTART;TZID=America/New_York:20260521T110000
DTEND;TZID=America/New_York:20260521T110000
DTSTAMP:20260421T174340
CREATED:20260408T142858Z
LAST-MODIFIED:20260408T142858Z
UID:10003694-1779361200-1779361200@pickaway.com
SUMMARY:Mismarketing Advantage Plans & Medicare Fraud
DESCRIPTION:Learn how to better understand and protect your Medicare coverage in this informative session led by experts from the Ohio Department of Insurance and the Senior Medicare Patrol. \nThis free presentation will cover Medicare Advantage plans\, common scams targeting beneficiaries\, how often to review your coverage\, and how to recognize improper agent activity and misleading marketing tactics. Attendees will gain practical knowledge to help make informed decisions and avoid fraud. \nThe program is presented by the Ohio Senior Health Insurance Information Program (OSHIIP)\, a service of the Ohio Department of Insurance. OSHIIP staff are trained by the state and do not sell or promote any insurance companies\, policies\, or agents. \nPresenter:Amber Cupp\, Community Liaison with the Ohio Department of Insurance. Amber has spent the past two years helping Ohioans navigate Medicare and previously served as a public school teacher for ten years. She is passionate about public service and empowering individuals to make informed healthcare decisions.
URL:https://pickaway.com/event/mismarketing-advantage-plans-medicare-fraud/
LOCATION:Pickaway County Library\, 1160 North Court Street\, Circleville\, OH\, 43113\, United States
CATEGORIES:Community,Miscellaneous
ATTACH;FMTTYPE=image/png:https://pickaway.com/wp-content/uploads/2026/04/5-21-Medicare-Fraud.png
END:VEVENT
BEGIN:VEVENT
DTSTART;TZID=America/New_York:20260521T110000
DTEND;TZID=America/New_York:20260521T110000
DTSTAMP:20260421T174340
CREATED:20260408T143127Z
LAST-MODIFIED:20260408T143127Z
UID:10003695-1779361200-1779361200@pickaway.com
SUMMARY:Text\, Email and Direct Messaging: Technology Training
DESCRIPTION:Not sure when to send a text versus an email? Curious what it means to “direct message” someone? This beginner-friendly session will help you understand the different ways to communicate using technology and when each method is most appropriate. \nLearn how to identify and use text messaging\, email\, and popular messaging platforms like Facebook Messenger\, Instagram\, and WhatsApp. Whether you’re new to digital communication or just want a clearer understanding\, this session will help you feel more confident staying connected. \nLed by a Guiding Ohio Online Technology Trainer. \nRegistration is required.
URL:https://pickaway.com/event/text-email-and-direct-messaging-technology-training-2/
LOCATION:Pickaway County Library\, 1160 North Court Street\, Circleville\, OH\, 43113\, United States
CATEGORIES:Community,Miscellaneous
ATTACH;FMTTYPE=image/png:https://pickaway.com/wp-content/uploads/2026/04/5-21-Text-Email-Main.png
END:VEVENT
BEGIN:VEVENT
DTSTART;TZID=America/New_York:20260521T130000
DTEND;TZID=America/New_York:20260521T130000
DTSTAMP:20260421T174340
CREATED:20260409T192154Z
LAST-MODIFIED:20260409T192154Z
UID:10003701-1779368400-1779368400@pickaway.com
SUMMARY:Movie Matinee
DESCRIPTION:Enjoy an afternoon at the movies at Pickaway County Library. Held on the third Thursday of each month\, this 1 p.m. matinee is geared toward adult audiences and features a mix of recently released films and classic favorites. \nRelax with a welcoming group setting where suggestions for future movie selections are always encouraged. Popcorn and lemonade are provided\, and outside snacks are welcome.
URL:https://pickaway.com/event/movie-matinee/
LOCATION:Pickaway County Library\, 1160 North Court Street\, Circleville\, OH\, 43113\, United States
CATEGORIES:Hobbies,Miscellaneous
ATTACH;FMTTYPE=image/png:https://pickaway.com/wp-content/uploads/2026/04/5-21-Movie-Matinee.png
END:VEVENT
BEGIN:VEVENT
DTSTART;TZID=America/New_York:20260521T130000
DTEND;TZID=America/New_York:20260521T140000
DTSTAMP:20260421T174340
CREATED:20260302T192928Z
LAST-MODIFIED:20260302T192928Z
UID:10003460-1779368400-1779372000@pickaway.com
SUMMARY:Tai Chi at the Senior Center
DESCRIPTION:This program uses Sun Style Tai Chi forms to: improve physical and mental balance\, increase flexibility\, decrease arthritis pain\, and help prevent falls. Tai Chi for Beginners can be done seated or standing and we will practice both during class.
URL:https://pickaway.com/event/tai-chi-at-the-senior-center/2026-05-21/
LOCATION:Pickaway Senior Center\, 2105 Chickasaw Dr\, Circleville\, OH\, 43113\, United States
CATEGORIES:Community,Miscellaneous
ATTACH;FMTTYPE=image/png:https://pickaway.com/wp-content/uploads/2026/03/Senior-Center-Tai-Chi.png
ORGANIZER;CN="Pickaway Senior Center":MAILTO:noreply@facebookmail.com
END:VEVENT
BEGIN:VEVENT
DTSTART;TZID=America/New_York:20260523T100000
DTEND;TZID=America/New_York:20260523T100000
DTSTAMP:20260421T174340
CREATED:20260331T163622Z
LAST-MODIFIED:20260331T163622Z
UID:10003670-1779530400-1779530400@pickaway.com
SUMMARY:Bird Your Preserves: Stage’s Pond (Beginner Birding Program)
DESCRIPTION:Discover the basics of birdwatching during Bird Your Preserves: Stage’s Pond\, hosted by the Ohio Department of Natural Resources. \nThis family-friendly program takes place at Stage’s Pond State Nature Preserve near Ashville in Pickaway County and offers a welcoming introduction to birding for all ages. Participants will gather inside the Stage’s Pond Office to learn how to identify birds using sound\, color\, shape\, and behavior. \nPerfect for beginners\, this interactive session provides helpful tips and tools to build confidence in bird identification while exploring one of Pickaway County’s most scenic natural areas.
URL:https://pickaway.com/event/bird-your-preserves-stages-pond-beginner-birding-program/
LOCATION:Stages Pond State Nature Preserve\, 4792 Hagerty Road\, Ashville\, 43103
CATEGORIES:Birding,Hobbies,Miscellaneous
ATTACH;FMTTYPE=image/png:https://pickaway.com/wp-content/uploads/2024/03/Untitled-design-2024-03-05T134520.256.png
END:VEVENT
BEGIN:VEVENT
DTSTART;TZID=America/New_York:20260523T100000
DTEND;TZID=America/New_York:20260523T110000
DTSTAMP:20260421T174340
CREATED:20260202T204942Z
LAST-MODIFIED:20260202T204942Z
UID:10003241-1779530400-1779534000@pickaway.com
SUMMARY:Landscape Basic Design; A How to Workshop
DESCRIPTION:Are you ready to step up your landscaping this year? This workshop is for you\, we will cover the basics of garden design—using color\, height\, texture\, size\, and hardscape vs softscape. Learn how to confidently choose and place plants in your landscape. We’ll also cover animal resistance\, weeds & maintenance so your garden thrives for years to come.   Event Cost Free! \nPerfect for beginner gardeners and homeowners.\n🌼 Includes a free flower to take home and plant & $20 gift certificate \nTo register txt “Design” to 614-809-8538  \nThis is an outdoor event\, check our social media for weather updates!
URL:https://pickaway.com/event/landscape-basic-design-a-how-to-workshop/2026-05-23/
LOCATION:Darby Landscape Supply\, 8075 Harrisburg Pike\, Orient\, 43146
CATEGORIES:Education,Community,Miscellaneous
ATTACH;FMTTYPE=image/jpeg:https://pickaway.com/wp-content/uploads/2026/02/Boulder-Landscape-2026-2.jpg
ORGANIZER;CN="Darby Landscape Supply":MAILTO:cmoehl10@gmail.com
END:VEVENT
BEGIN:VEVENT
DTSTART;TZID=America/New_York:20260523T103000
DTEND;TZID=America/New_York:20260523T103000
DTSTAMP:20260421T174340
CREATED:20260408T161102Z
LAST-MODIFIED:20260408T161102Z
UID:10003696-1779532200-1779532200@pickaway.com
SUMMARY:Deer Creek Lake Dam Tour
DESCRIPTION:Explore behind the scenes at Deer Creek Lake with a guided Dam Tour hosted by the U.S. Army Corps of Engineers. This unique experience offers a look inside the dam’s operations\, including a visit to the 7-floor control tower. \nParticipants will walk down to the lowest level and stop at each floor on the way back up\, totaling 176 steps. The tour is family-friendly and designed for all ages and abilities\, with an elevator available for those who need it. Tours last approximately 45 to 60 minutes. \nImportant: Large bags\, purses\, and backpacks are not permitted inside the facility. \nUpcoming Tour Dates (all at 10:30 a.m.): \n\nMay 23\, 2026\nMay 30\, 2026\nJune 13\, 2026\nJuly 4\, 2026\nAugust 1\, 2026\n\nLocation:Deer Creek Lake Dam21897 Deer Creek Rd.Mt. Sterling\, OH 43143
URL:https://pickaway.com/event/deer-creek-lake-dam-tour/2026-05-23/
LOCATION:Deer Creek Dam\, 21897 Deer Creek Rd\, Mt Sterling\, OH\, 43143
CATEGORIES:Deer Creek State Park,Hobbies,Miscellaneous
ATTACH;FMTTYPE=image/jpeg:https://pickaway.com/wp-content/uploads/2024/09/Deer-Creek-Dam.jpg
END:VEVENT
BEGIN:VEVENT
DTSTART;TZID=America/New_York:20260523T130000
DTEND;TZID=America/New_York:20260523T130000
DTSTAMP:20260421T174340
CREATED:20260409T192851Z
LAST-MODIFIED:20260409T192851Z
UID:10003704-1779541200-1779541200@pickaway.com
SUMMARY:Jewelry Making
DESCRIPTION:Create your own unique jewelry in this hands-on workshop at Pickaway County Library. Participants of all ages are invited to design and make necklaces using stones and fossils from Lake Erie\, Lake Michigan\, and the Mediterranean Sea. \nA variety of manufactured sea glass in different colors will also be available\, giving you plenty of options to craft a piece that reflects your personal style. This is a fun\, creative activity perfect for individuals\, families\, and anyone interested in trying something new.
URL:https://pickaway.com/event/jewelry-making/
LOCATION:Pickaway County Library\, 1160 North Court Street\, Circleville\, OH\, 43113\, United States
CATEGORIES:Community,Hobbies,Miscellaneous
ATTACH;FMTTYPE=image/png:https://pickaway.com/wp-content/uploads/2026/04/5-23-Jewelry-Making.png
END:VEVENT
END:VCALENDAR