BEGIN:VCALENDAR
VERSION:2.0
PRODID:-//Pickaway County Visitors Bureau - ECPv6.15.20//NONSGML v1.0//EN
CALSCALE:GREGORIAN
METHOD:PUBLISH
X-ORIGINAL-URL:https://pickaway.com
X-WR-CALDESC:Events for Pickaway County Visitors Bureau
REFRESH-INTERVAL;VALUE=DURATION:PT1H
X-Robots-Tag:noindex
X-PUBLISHED-TTL:PT1H
BEGIN:VTIMEZONE
TZID:America/New_York
BEGIN:DAYLIGHT
TZOFFSETFROM:-0500
TZOFFSETTO:-0400
TZNAME:EDT
DTSTART:20250309T070000
END:DAYLIGHT
BEGIN:STANDARD
TZOFFSETFROM:-0400
TZOFFSETTO:-0500
TZNAME:EST
DTSTART:20251102T060000
END:STANDARD
BEGIN:DAYLIGHT
TZOFFSETFROM:-0500
TZOFFSETTO:-0400
TZNAME:EDT
DTSTART:20260308T070000
END:DAYLIGHT
BEGIN:STANDARD
TZOFFSETFROM:-0400
TZOFFSETTO:-0500
TZNAME:EST
DTSTART:20261101T060000
END:STANDARD
BEGIN:DAYLIGHT
TZOFFSETFROM:-0500
TZOFFSETTO:-0400
TZNAME:EDT
DTSTART:20270314T070000
END:DAYLIGHT
BEGIN:STANDARD
TZOFFSETFROM:-0400
TZOFFSETTO:-0500
TZNAME:EST
DTSTART:20271107T060000
END:STANDARD
END:VTIMEZONE
BEGIN:VEVENT
DTSTART;TZID=America/New_York:20260418T100000
DTEND;TZID=America/New_York:20260418T120000
DTSTAMP:20260421T142553
CREATED:20260331T163122Z
LAST-MODIFIED:20260331T163122Z
UID:10003667-1776506400-1776513600@pickaway.com
SUMMARY:Stage’s Pond Garlic Mustard Pull (Volunteer Event)
DESCRIPTION:Help protect native wildflowers and restore a local natural habitat during the Stage’s Pond Garlic Mustard Pull\, hosted by the Ohio Department of Natural Resources. \nThis volunteer event takes place at Stage’s Pond State Nature Preserve near Ashville in Pickaway County\, where participants will work together to remove garlic mustard\, an invasive plant that threatens native forest ecosystems and spring wildflowers. \nVolunteers will assist with hands-on conservation efforts by pulling garlic mustard throughout the preserve. Trash bags and buckets will be provided. Participants should bring gloves\, water\, and appropriate outdoor clothing. \nPlease note that work will take place off-trail in natural areas that may include brush\, ticks\, and poison ivy. This site has a high presence of poison ivy\, so volunteers should come prepared and use caution. \nAdvance registration is required. To sign up\, contact Kayla Bowyer at kayla.bowyer@dnr.ohio.gov or call 740-380-8918. Space is limited\, and volunteers may register for multiple sessions if available.
URL:https://pickaway.com/event/stages-pond-garlic-mustard-pull-volunteer-event/
LOCATION:Stages Pond State Nature Preserve\, 4792 Hagerty Road\, Ashville\, 43103
CATEGORIES:Hobbies,Miscellaneous
ATTACH;FMTTYPE=image/jpeg:https://pickaway.com/wp-content/uploads/2022/05/7-Stages-Pond.jpg
END:VEVENT
BEGIN:VEVENT
DTSTART;TZID=America/New_York:20260418T100000
DTEND;TZID=America/New_York:20260418T120000
DTSTAMP:20260421T142553
CREATED:20260401T155524Z
LAST-MODIFIED:20260401T155524Z
UID:10003680-1776506400-1776513600@pickaway.com
SUMMARY:Sip & Plant: Mimosas and Mocktails Container Workshop
DESCRIPTION:Kick off spring in Pickaway County with a hands-on planting experience at Rhoads Farm Market & Garden Center. The Sip & Plant Container Bar invites guests to create custom spring planters while enjoying mimosas and mocktails in a greenhouse setting. \nFor a $10 registration fee\, participants receive access to the Mimosa Bar\, curated inspiration stations\, and one-on-one guidance from knowledgeable plant coaches. Choose from beginner-friendly planting styles including full sun patio pots\, low-maintenance porch planters\, pollinator-friendly mixes\, shade containers\, and herb gardens. \nBring your own container or shop in-store and build your own arrangement using the popular “Thriller\, Filler\, Spiller” method. Plants and soil are sold separately. \nNo experience is needed\, making this a great option for a girls day out\, mother-daughter outing\, or anyone looking for fun things to do in Circleville\, Ohio this spring. \nSpace is limited and advance registration is required.
URL:https://pickaway.com/event/sip-plant-mimosas-and-mocktails-container-workshop/
LOCATION:Rhoadhouse 56 at Rhoads Garden Center\, 1051 OH-56 E\, Circleville\, OH\, 45601\, United States
CATEGORIES:Community,Miscellaneous
ATTACH;FMTTYPE=image/png:https://pickaway.com/wp-content/uploads/2024/03/Untitled-design-2024-03-07T094536.394.png
END:VEVENT
BEGIN:VEVENT
DTSTART;TZID=America/New_York:20260418T100000
DTEND;TZID=America/New_York:20260418T170000
DTSTAMP:20260421T142553
CREATED:20260204T170426Z
LAST-MODIFIED:20260403T134106Z
UID:10003245-1776506400-1776531600@pickaway.com
SUMMARY:The Collector’s Market
DESCRIPTION:The Collector’s Market is a one-of-a-kind shopping experience bringing together more than 35 vendors offering unique and collectible treasures. Shoppers can browse a wide variety of items including antiques\, vintage clothing and shoes\, Longaberger baskets\, baseball cards\, blow molds\, and much more. \nWith 20 amazing vendors\, TWO food trucks\, a coffee cart \, and River Radio Station onsite —this is truly going to be a treasure hunter’s paradise.\nEvery vendor is a one-of-a-kind talent bringing you the absolute best finds you won’t see anywhere else.\nGrab your friends\, mark your calendars\, and come ready—because with giveaways\, FREE flowers \, delicious food\, and so much more… This is an event Pickaway County will not want to miss! \nA Vendor Passport Giveaway will also take place during the event. Guests can collect stamps from participating vendors\, and the first 15 people to complete their passport will win local gift cards (valued up to $50) along with a hand-crafted gift basket. \nVisitors are encouraged to bring friends\, shop local\, and enjoy a full day of discovering unique finds in downtown Circleville. \nMore info: funkypumpkincv@gmail.com
URL:https://pickaway.com/event/collectors-event/
LOCATION:The Funky Pumpkin\, 155 West Main Street\, Circleville\, OH\, 43113-9603\, United States
CATEGORIES:Community,Hobbies,Miscellaneous
ATTACH;FMTTYPE=image/jpeg:https://pickaway.com/wp-content/uploads/2022/05/Clothing-4.jpg
END:VEVENT
BEGIN:VEVENT
DTSTART;TZID=America/New_York:20260418T110000
DTEND;TZID=America/New_York:20260418T150000
DTSTAMP:20260421T142553
CREATED:20260401T153922Z
LAST-MODIFIED:20260401T153922Z
UID:10003678-1776510000-1776524400@pickaway.com
SUMMARY:Sing Along Brunch
DESCRIPTION:Enjoy a fun and interactive morning at the Sing Along Brunch at Gant’s Pizza & Pub in Circleville. This unique brunch experience combines great food with a lively\, music-filled atmosphere where guests are encouraged to sing along and enjoy time with friends and family. \nFor just $15 per person\, attendees can enjoy brunch while participating in a casual\, upbeat sing-along featuring favorite songs everyone knows and loves. Whether you’re coming for the music\, the food\, or the fun\, this event offers a welcoming way to connect with the community. \nReservations are required. Call (740) 474-6076 to reserve your spot.
URL:https://pickaway.com/event/sing-along-brunch/
LOCATION:Gant’s Pizza and Pub\, 114 South Court Street\, Circleville\, OH\, 43113\, United States
CATEGORIES:Community,Hobbies,Miscellaneous
ATTACH;FMTTYPE=image/jpeg:https://pickaway.com/wp-content/uploads/2022/05/Pizza-Trail-2022-Gants-Pizza-Pub.jpg
END:VEVENT
END:VCALENDAR