BEGIN:VCALENDAR
VERSION:2.0
PRODID:-//Pickaway County Visitors Bureau - ECPv6.15.20//NONSGML v1.0//EN
CALSCALE:GREGORIAN
METHOD:PUBLISH
X-WR-CALNAME:Pickaway County Visitors Bureau
X-ORIGINAL-URL:https://pickaway.com
X-WR-CALDESC:Events for Pickaway County Visitors Bureau
REFRESH-INTERVAL;VALUE=DURATION:PT1H
X-Robots-Tag:noindex
X-PUBLISHED-TTL:PT1H
BEGIN:VTIMEZONE
TZID:America/New_York
BEGIN:DAYLIGHT
TZOFFSETFROM:-0500
TZOFFSETTO:-0400
TZNAME:EDT
DTSTART:20250309T070000
END:DAYLIGHT
BEGIN:STANDARD
TZOFFSETFROM:-0400
TZOFFSETTO:-0500
TZNAME:EST
DTSTART:20251102T060000
END:STANDARD
BEGIN:DAYLIGHT
TZOFFSETFROM:-0500
TZOFFSETTO:-0400
TZNAME:EDT
DTSTART:20260308T070000
END:DAYLIGHT
BEGIN:STANDARD
TZOFFSETFROM:-0400
TZOFFSETTO:-0500
TZNAME:EST
DTSTART:20261101T060000
END:STANDARD
BEGIN:DAYLIGHT
TZOFFSETFROM:-0500
TZOFFSETTO:-0400
TZNAME:EDT
DTSTART:20270314T070000
END:DAYLIGHT
BEGIN:STANDARD
TZOFFSETFROM:-0400
TZOFFSETTO:-0500
TZNAME:EST
DTSTART:20271107T060000
END:STANDARD
END:VTIMEZONE
BEGIN:VEVENT
DTSTART;TZID=America/New_York:20260329T130000
DTEND;TZID=America/New_York:20260329T140000
DTSTAMP:20260421T142410
CREATED:20260318T161928Z
LAST-MODIFIED:20260318T161928Z
UID:10003613-1774789200-1774792800@pickaway.com
SUMMARY:Circleville Firefighters Easter Egg Hunt
DESCRIPTION:Join the Circleville Firefighters Local 1232 for a fun-filled Easter Egg Hunt at Ted Lewis Park on March 29\, 2026. \nThis free\, family-friendly event will feature over 6\,000 eggs\, along with exciting prize giveaways including bicycles and Easter baskets. Kids are invited to participate in the hunt and enjoy a festive afternoon in one of Circleville’s favorite parks. \nBring the whole family and celebrate the season with this community tradition in Pickaway County.
URL:https://pickaway.com/event/circleville-firefighters-easter-egg-hunt/
LOCATION:Ted Lewis Park\, 443 N Court St\, Circleville\, OH 43113\, USA
CATEGORIES:Community,Children and Family Fun,Miscellaneous
ATTACH;FMTTYPE=image/jpeg:https://pickaway.com/wp-content/uploads/2021/03/easter-eggs-1600x1067-1.jpg
END:VEVENT
END:VCALENDAR