BEGIN:VCALENDAR
VERSION:2.0
PRODID:-//Pickaway County Visitors Bureau - ECPv6.15.20//NONSGML v1.0//EN
CALSCALE:GREGORIAN
METHOD:PUBLISH
X-ORIGINAL-URL:https://pickaway.com
X-WR-CALDESC:Events for Pickaway County Visitors Bureau
REFRESH-INTERVAL;VALUE=DURATION:PT1H
X-Robots-Tag:noindex
X-PUBLISHED-TTL:PT1H
BEGIN:VTIMEZONE
TZID:America/New_York
BEGIN:DAYLIGHT
TZOFFSETFROM:-0500
TZOFFSETTO:-0400
TZNAME:EDT
DTSTART:20250309T070000
END:DAYLIGHT
BEGIN:STANDARD
TZOFFSETFROM:-0400
TZOFFSETTO:-0500
TZNAME:EST
DTSTART:20251102T060000
END:STANDARD
BEGIN:DAYLIGHT
TZOFFSETFROM:-0500
TZOFFSETTO:-0400
TZNAME:EDT
DTSTART:20260308T070000
END:DAYLIGHT
BEGIN:STANDARD
TZOFFSETFROM:-0400
TZOFFSETTO:-0500
TZNAME:EST
DTSTART:20261101T060000
END:STANDARD
BEGIN:DAYLIGHT
TZOFFSETFROM:-0500
TZOFFSETTO:-0400
TZNAME:EDT
DTSTART:20270314T070000
END:DAYLIGHT
BEGIN:STANDARD
TZOFFSETFROM:-0400
TZOFFSETTO:-0500
TZNAME:EST
DTSTART:20271107T060000
END:STANDARD
END:VTIMEZONE
BEGIN:VEVENT
DTSTART;TZID=America/New_York:20260902T170000
DTEND;TZID=America/New_York:20260902T213000
DTSTAMP:20260421T210313
CREATED:20240307T145234Z
LAST-MODIFIED:20240307T145234Z
UID:10001179-1788368400-1788384600@pickaway.com
SUMMARY:Bingo: Logan Elm Athletics Boosters
DESCRIPTION:Bingo on Wednesday Nights at Circleville AMVETS doors open at 5:00pm.\nBingo starts at 7:00pm.\n818 Tarlton Road\nCircleville\, Ohio 43113\nAll proceeds support funding for Athletic Uniforms\, safety & training Equipment\, and facilities within the Logan Elm School District.
URL:https://pickaway.com/event/bingo-logan-elm-athletics-boosters/2026-09-02/
LOCATION:AMVETS Post 2256\, 818 Tarlton Rd\, Circleville\, OH\, 43113
CATEGORIES:Community,Hobbies,Miscellaneous
ATTACH;FMTTYPE=image/png:https://pickaway.com/wp-content/uploads/2024/03/Untitled-design-2024-03-07T095159.688.png
END:VEVENT
BEGIN:VEVENT
DTSTART;TZID=America/New_York:20260903T130000
DTEND;TZID=America/New_York:20260903T140000
DTSTAMP:20260421T210313
CREATED:20260302T192928Z
LAST-MODIFIED:20260302T192928Z
UID:10003475-1788440400-1788444000@pickaway.com
SUMMARY:Tai Chi at the Senior Center
DESCRIPTION:This program uses Sun Style Tai Chi forms to: improve physical and mental balance\, increase flexibility\, decrease arthritis pain\, and help prevent falls. Tai Chi for Beginners can be done seated or standing and we will practice both during class.
URL:https://pickaway.com/event/tai-chi-at-the-senior-center/2026-09-03/
LOCATION:Pickaway Senior Center\, 2105 Chickasaw Dr\, Circleville\, OH\, 43113\, United States
CATEGORIES:Community,Miscellaneous
ATTACH;FMTTYPE=image/png:https://pickaway.com/wp-content/uploads/2026/03/Senior-Center-Tai-Chi.png
ORGANIZER;CN="Pickaway Senior Center":MAILTO:noreply@facebookmail.com
END:VEVENT
BEGIN:VEVENT
DTSTART;TZID=America/New_York:20260909T170000
DTEND;TZID=America/New_York:20260909T213000
DTSTAMP:20260421T210313
CREATED:20240307T145234Z
LAST-MODIFIED:20240307T145234Z
UID:10001180-1788973200-1788989400@pickaway.com
SUMMARY:Bingo: Logan Elm Athletics Boosters
DESCRIPTION:Bingo on Wednesday Nights at Circleville AMVETS doors open at 5:00pm.\nBingo starts at 7:00pm.\n818 Tarlton Road\nCircleville\, Ohio 43113\nAll proceeds support funding for Athletic Uniforms\, safety & training Equipment\, and facilities within the Logan Elm School District.
URL:https://pickaway.com/event/bingo-logan-elm-athletics-boosters/2026-09-09/
LOCATION:AMVETS Post 2256\, 818 Tarlton Rd\, Circleville\, OH\, 43113
CATEGORIES:Community,Hobbies,Miscellaneous
ATTACH;FMTTYPE=image/png:https://pickaway.com/wp-content/uploads/2024/03/Untitled-design-2024-03-07T095159.688.png
END:VEVENT
BEGIN:VEVENT
DTSTART;TZID=America/New_York:20260910T130000
DTEND;TZID=America/New_York:20260910T140000
DTSTAMP:20260421T210313
CREATED:20260302T192928Z
LAST-MODIFIED:20260302T192928Z
UID:10003476-1789045200-1789048800@pickaway.com
SUMMARY:Tai Chi at the Senior Center
DESCRIPTION:This program uses Sun Style Tai Chi forms to: improve physical and mental balance\, increase flexibility\, decrease arthritis pain\, and help prevent falls. Tai Chi for Beginners can be done seated or standing and we will practice both during class.
URL:https://pickaway.com/event/tai-chi-at-the-senior-center/2026-09-10/
LOCATION:Pickaway Senior Center\, 2105 Chickasaw Dr\, Circleville\, OH\, 43113\, United States
CATEGORIES:Community,Miscellaneous
ATTACH;FMTTYPE=image/png:https://pickaway.com/wp-content/uploads/2026/03/Senior-Center-Tai-Chi.png
ORGANIZER;CN="Pickaway Senior Center":MAILTO:noreply@facebookmail.com
END:VEVENT
BEGIN:VEVENT
DTSTART;TZID=America/New_York:20260911T190000
DTEND;TZID=America/New_York:20260911T190000
DTSTAMP:20260421T210313
CREATED:20260409T200010Z
LAST-MODIFIED:20260409T200010Z
UID:10003713-1789153200-1789153200@pickaway.com
SUMMARY:Lest We Forget
DESCRIPTION:Join the community for an evening of honoring and remembrance at Lest We Forget\, a special program recognizing first responders and members of the military through word and song. \nThis meaningful event brings together reflection\, gratitude\, and community as we remember the significance of September 11 and those who serve and protect.
URL:https://pickaway.com/event/lest-we-forget/
LOCATION:Ohio Christian University\, 1476 Lancaster Pike\, Circleville\, OH\, 43113\, United States
CATEGORIES:Community,Miscellaneous
ATTACH;FMTTYPE=image/jpeg:https://pickaway.com/wp-content/uploads/2022/04/american-flag-etiquette-1558469527.jpg
END:VEVENT
BEGIN:VEVENT
DTSTART;TZID=America/New_York:20260912T090000
DTEND;TZID=America/New_York:20260912T120000
DTSTAMP:20260421T210313
CREATED:20251222T150937Z
LAST-MODIFIED:20251222T150937Z
UID:10003142-1789203600-1789214400@pickaway.com
SUMMARY:South Bloomfield Summer Market
DESCRIPTION:The South Bloomfield Summer Market returns in 2026 with a series of outdoor community market nights featuring local vendors\, makers\, and family-friendly activities. \nHeld on select dates throughout the summer and early fall\, the market offers an opportunity to shop local\, support small businesses\, and enjoy a relaxed evening in the South Bloomfield community. Dates and times vary throughout the season\, including evening markets and a morning fall market. \nA special Kids Vendor Market will take place on July 24th\, highlighting youth entrepreneurs and young makers.
URL:https://pickaway.com/event/south-bloomfield-summer-market-2/2026-09-12/
LOCATION:Village of South Bloomfield\, 5000 Park Pl.\, South Bloomfield\, 43103\, United States
CATEGORIES:Community,Miscellaneous
ATTACH;FMTTYPE=image/png:https://pickaway.com/wp-content/uploads/2025/03/Untitled-design-10.png
END:VEVENT
BEGIN:VEVENT
DTSTART;TZID=America/New_York:20260912T090000
DTEND;TZID=America/New_York:20260912T170000
DTSTAMP:20260421T210313
CREATED:20260116T181751Z
LAST-MODIFIED:20260116T181751Z
UID:10003196-1789203600-1789232400@pickaway.com
SUMMARY:Kingston Community Tractor Show
DESCRIPTION:Celebrate small-town tradition at the Third Annual Kingston Community Tractor Show\, presented by Minshall Farms Partnership. This family-friendly event features a variety of vintage tractors (all makes and models up to 1980)\, food trucks\, a scenic tractor drive\, and an evening meal followed by live local entertainment. \nFood vendors\, ice cream\, fun activities for kids\, a tractor drive\, and evening meal and entertainment. A true community event that we are honored to host again this year. Save the date!\n\nContact Bob 740-497-2531\, Will 740-412-4018\, or Catherine 740-207-6403 for more information.
URL:https://pickaway.com/event/kingston-community-tractor-show-2/
LOCATION:30183 Pickaway-Saltcreek Rd\, Kingston\, OH\, 30183 Pickaway-Saltcreek Rd.\, Kingston\, 45644\, United States
CATEGORIES:Community,Hobbies,Children and Family Fun,Miscellaneous
ATTACH;FMTTYPE=image/png:https://pickaway.com/wp-content/uploads/2025/06/Untitled-design-25.png
END:VEVENT
BEGIN:VEVENT
DTSTART;TZID=America/New_York:20260912T100000
DTEND;TZID=America/New_York:20260912T130000
DTSTAMP:20260421T210313
CREATED:20260319T151259Z
LAST-MODIFIED:20260319T151259Z
UID:10003628-1789207200-1789218000@pickaway.com
SUMMARY:Commercial Point Farmers Market
DESCRIPTION:Shop local at the Commercial Point Farmers Market featuring fresh produce\, handmade goods\, and a variety of local vendors. This seasonal market is a great way to support small businesses while exploring things to do in Pickaway County\, Ohio.
URL:https://pickaway.com/event/commercial-point-farmers-market-2/2026-09-12/
LOCATION:10 West Scioto St. Commercial Point\, 10 West Scioto Street\, Commercial Point\, 43116\, United States
CATEGORIES:Community,Hobbies,Miscellaneous
ATTACH;FMTTYPE=image/jpeg:https://pickaway.com/wp-content/uploads/2023/04/Produce.jpg
END:VEVENT
BEGIN:VEVENT
DTSTART;TZID=America/New_York:20260916T170000
DTEND;TZID=America/New_York:20260916T213000
DTSTAMP:20260421T210313
CREATED:20240307T145234Z
LAST-MODIFIED:20240307T145234Z
UID:10001181-1789578000-1789594200@pickaway.com
SUMMARY:Bingo: Logan Elm Athletics Boosters
DESCRIPTION:Bingo on Wednesday Nights at Circleville AMVETS doors open at 5:00pm.\nBingo starts at 7:00pm.\n818 Tarlton Road\nCircleville\, Ohio 43113\nAll proceeds support funding for Athletic Uniforms\, safety & training Equipment\, and facilities within the Logan Elm School District.
URL:https://pickaway.com/event/bingo-logan-elm-athletics-boosters/2026-09-16/
LOCATION:AMVETS Post 2256\, 818 Tarlton Rd\, Circleville\, OH\, 43113
CATEGORIES:Community,Hobbies,Miscellaneous
ATTACH;FMTTYPE=image/png:https://pickaway.com/wp-content/uploads/2024/03/Untitled-design-2024-03-07T095159.688.png
END:VEVENT
BEGIN:VEVENT
DTSTART;TZID=America/New_York:20260917T130000
DTEND;TZID=America/New_York:20260917T140000
DTSTAMP:20260421T210313
CREATED:20260302T192928Z
LAST-MODIFIED:20260302T192928Z
UID:10003477-1789650000-1789653600@pickaway.com
SUMMARY:Tai Chi at the Senior Center
DESCRIPTION:This program uses Sun Style Tai Chi forms to: improve physical and mental balance\, increase flexibility\, decrease arthritis pain\, and help prevent falls. Tai Chi for Beginners can be done seated or standing and we will practice both during class.
URL:https://pickaway.com/event/tai-chi-at-the-senior-center/2026-09-17/
LOCATION:Pickaway Senior Center\, 2105 Chickasaw Dr\, Circleville\, OH\, 43113\, United States
CATEGORIES:Community,Miscellaneous
ATTACH;FMTTYPE=image/png:https://pickaway.com/wp-content/uploads/2026/03/Senior-Center-Tai-Chi.png
ORGANIZER;CN="Pickaway Senior Center":MAILTO:noreply@facebookmail.com
END:VEVENT
BEGIN:VEVENT
DTSTART;TZID=America/New_York:20260919T170000
DTEND;TZID=America/New_York:20260919T200000
DTSTAMP:20260421T210313
CREATED:20260311T145253Z
LAST-MODIFIED:20260311T145253Z
UID:10003581-1789837200-1789848000@pickaway.com
SUMMARY:Summer Coffee Flights
DESCRIPTION: JoyHouse Summer Coffee Flights! \nJoin us this summer at JoyHouse Coffee for a relaxed evening of great coffee\, community\, and connection. Our Summer Coffee Flights are the perfect way to slow down\, enjoy the season\, and try something new. \n\nJune 13\, July 25\, August 22\, September 19. 5pm-8pm\n\nEach event will feature themed iced coffee flight drinks crafted just for the night—fun seasonal flavors served in a tasting flight so you can experience a variety of unique creations. \nBring your friends\, bring your family\, and come enjoy: \n\nLive music from local artists\nFood truck with great eats\nSpecialty themed coffee flights\nOutdoor seating to enjoy the summer evening\nFamily-friendly atmosphere\n\nWhether you’re a coffee enthusiast or just looking for a great place to gather\, this is a great chance to enjoy the JoyHouse community.
URL:https://pickaway.com/event/summer-coffee-flights/2026-09-19/
LOCATION:JoyHouse Coffee\, 202 North Pickaway Street\, Circleville\, OH\, 43113\, United States
CATEGORIES:Outdoor,Family Friendly,Entertainment and Arts,Community,Miscellaneous
ATTACH;FMTTYPE=image/jpeg:https://pickaway.com/wp-content/uploads/2026/03/Summer.jpg
END:VEVENT
BEGIN:VEVENT
DTSTART;TZID=America/New_York:20260923T170000
DTEND;TZID=America/New_York:20260923T213000
DTSTAMP:20260421T210313
CREATED:20240307T145234Z
LAST-MODIFIED:20240307T145234Z
UID:10001182-1790182800-1790199000@pickaway.com
SUMMARY:Bingo: Logan Elm Athletics Boosters
DESCRIPTION:Bingo on Wednesday Nights at Circleville AMVETS doors open at 5:00pm.\nBingo starts at 7:00pm.\n818 Tarlton Road\nCircleville\, Ohio 43113\nAll proceeds support funding for Athletic Uniforms\, safety & training Equipment\, and facilities within the Logan Elm School District.
URL:https://pickaway.com/event/bingo-logan-elm-athletics-boosters/2026-09-23/
LOCATION:AMVETS Post 2256\, 818 Tarlton Rd\, Circleville\, OH\, 43113
CATEGORIES:Community,Hobbies,Miscellaneous
ATTACH;FMTTYPE=image/png:https://pickaway.com/wp-content/uploads/2024/03/Untitled-design-2024-03-07T095159.688.png
END:VEVENT
BEGIN:VEVENT
DTSTART;TZID=America/New_York:20260924T130000
DTEND;TZID=America/New_York:20260924T140000
DTSTAMP:20260421T210313
CREATED:20260302T192928Z
LAST-MODIFIED:20260302T192928Z
UID:10003478-1790254800-1790258400@pickaway.com
SUMMARY:Tai Chi at the Senior Center
DESCRIPTION:This program uses Sun Style Tai Chi forms to: improve physical and mental balance\, increase flexibility\, decrease arthritis pain\, and help prevent falls. Tai Chi for Beginners can be done seated or standing and we will practice both during class.
URL:https://pickaway.com/event/tai-chi-at-the-senior-center/2026-09-24/
LOCATION:Pickaway Senior Center\, 2105 Chickasaw Dr\, Circleville\, OH\, 43113\, United States
CATEGORIES:Community,Miscellaneous
ATTACH;FMTTYPE=image/png:https://pickaway.com/wp-content/uploads/2026/03/Senior-Center-Tai-Chi.png
ORGANIZER;CN="Pickaway Senior Center":MAILTO:noreply@facebookmail.com
END:VEVENT
BEGIN:VEVENT
DTSTART;TZID=America/New_York:20260930T170000
DTEND;TZID=America/New_York:20260930T213000
DTSTAMP:20260421T210313
CREATED:20240307T145234Z
LAST-MODIFIED:20240307T145234Z
UID:10001183-1790787600-1790803800@pickaway.com
SUMMARY:Bingo: Logan Elm Athletics Boosters
DESCRIPTION:Bingo on Wednesday Nights at Circleville AMVETS doors open at 5:00pm.\nBingo starts at 7:00pm.\n818 Tarlton Road\nCircleville\, Ohio 43113\nAll proceeds support funding for Athletic Uniforms\, safety & training Equipment\, and facilities within the Logan Elm School District.
URL:https://pickaway.com/event/bingo-logan-elm-athletics-boosters/2026-09-30/
LOCATION:AMVETS Post 2256\, 818 Tarlton Rd\, Circleville\, OH\, 43113
CATEGORIES:Community,Hobbies,Miscellaneous
ATTACH;FMTTYPE=image/png:https://pickaway.com/wp-content/uploads/2024/03/Untitled-design-2024-03-07T095159.688.png
END:VEVENT
END:VCALENDAR