BEGIN:VCALENDAR
VERSION:2.0
PRODID:-//Pickaway County Visitors Bureau - ECPv6.15.20//NONSGML v1.0//EN
CALSCALE:GREGORIAN
METHOD:PUBLISH
X-WR-CALNAME:Pickaway County Visitors Bureau
X-ORIGINAL-URL:https://pickaway.com
X-WR-CALDESC:Events for Pickaway County Visitors Bureau
REFRESH-INTERVAL;VALUE=DURATION:PT1H
X-Robots-Tag:noindex
X-PUBLISHED-TTL:PT1H
BEGIN:VTIMEZONE
TZID:America/New_York
BEGIN:DAYLIGHT
TZOFFSETFROM:-0500
TZOFFSETTO:-0400
TZNAME:EDT
DTSTART:20250309T070000
END:DAYLIGHT
BEGIN:STANDARD
TZOFFSETFROM:-0400
TZOFFSETTO:-0500
TZNAME:EST
DTSTART:20251102T060000
END:STANDARD
BEGIN:DAYLIGHT
TZOFFSETFROM:-0500
TZOFFSETTO:-0400
TZNAME:EDT
DTSTART:20260308T070000
END:DAYLIGHT
BEGIN:STANDARD
TZOFFSETFROM:-0400
TZOFFSETTO:-0500
TZNAME:EST
DTSTART:20261101T060000
END:STANDARD
BEGIN:DAYLIGHT
TZOFFSETFROM:-0500
TZOFFSETTO:-0400
TZNAME:EDT
DTSTART:20270314T070000
END:DAYLIGHT
BEGIN:STANDARD
TZOFFSETFROM:-0400
TZOFFSETTO:-0500
TZNAME:EST
DTSTART:20271107T060000
END:STANDARD
END:VTIMEZONE
BEGIN:VEVENT
DTSTART;TZID=America/New_York:20260603T170000
DTEND;TZID=America/New_York:20260603T213000
DTSTAMP:20260421T160819
CREATED:20240307T145234Z
LAST-MODIFIED:20240307T145234Z
UID:10001166-1780506000-1780522200@pickaway.com
SUMMARY:Bingo: Logan Elm Athletics Boosters
DESCRIPTION:Bingo on Wednesday Nights at Circleville AMVETS doors open at 5:00pm.\nBingo starts at 7:00pm.\n818 Tarlton Road\nCircleville\, Ohio 43113\nAll proceeds support funding for Athletic Uniforms\, safety & training Equipment\, and facilities within the Logan Elm School District.
URL:https://pickaway.com/event/bingo-logan-elm-athletics-boosters/2026-06-03/
LOCATION:AMVETS Post 2256\, 818 Tarlton Rd\, Circleville\, OH\, 43113
CATEGORIES:Community,Hobbies,Miscellaneous
ATTACH;FMTTYPE=image/png:https://pickaway.com/wp-content/uploads/2024/03/Untitled-design-2024-03-07T095159.688.png
END:VEVENT
BEGIN:VEVENT
DTSTART;TZID=America/New_York:20260604T130000
DTEND;TZID=America/New_York:20260604T140000
DTSTAMP:20260421T160819
CREATED:20260302T192928Z
LAST-MODIFIED:20260302T192928Z
UID:10003462-1780578000-1780581600@pickaway.com
SUMMARY:Tai Chi at the Senior Center
DESCRIPTION:This program uses Sun Style Tai Chi forms to: improve physical and mental balance\, increase flexibility\, decrease arthritis pain\, and help prevent falls. Tai Chi for Beginners can be done seated or standing and we will practice both during class.
URL:https://pickaway.com/event/tai-chi-at-the-senior-center/2026-06-04/
LOCATION:Pickaway Senior Center\, 2105 Chickasaw Dr\, Circleville\, OH\, 43113\, United States
CATEGORIES:Community,Miscellaneous
ATTACH;FMTTYPE=image/png:https://pickaway.com/wp-content/uploads/2026/03/Senior-Center-Tai-Chi.png
ORGANIZER;CN="Pickaway Senior Center":MAILTO:noreply@facebookmail.com
END:VEVENT
BEGIN:VEVENT
DTSTART;VALUE=DATE:20260606
DTEND;VALUE=DATE:20260607
DTSTAMP:20260421T160819
CREATED:20260401T160731Z
LAST-MODIFIED:20260401T160731Z
UID:10003682-1780704000-1780790399@pickaway.com
SUMMARY:Pride A-Roundtown
DESCRIPTION:Celebrate community\, inclusivity\, and local pride at the 5th Annual Pride A-Roundtown in downtown Circleville. \nHosted by HumanKindness Alliance and Pride A-Roundtown\, this event brings together local vendors\, food trucks\, entertainment\, and community organizations for a day of connection and celebration in Pickaway County. \nVisitors can explore booths\, enjoy live entertainment\, and support local businesses along Mound Street. Opportunities for vendors\, sponsors\, and community participation are available. \nLearn more or get involved at www.humankindnessalliance.org
URL:https://pickaway.com/event/pride-a-roundtown/
LOCATION:134 E Mound St. Circleville\, 134 E Mound St.\, Circleville\, 43113\, United States
CATEGORIES:Circleville,Community,Miscellaneous
ATTACH;FMTTYPE=image/jpeg:https://pickaway.com/wp-content/uploads/2026/04/336491289_593404622825277_8517383394540951536_n.jpg
END:VEVENT
BEGIN:VEVENT
DTSTART;TZID=America/New_York:20260606T100000
DTEND;TZID=America/New_York:20260606T130000
DTSTAMP:20260421T160819
CREATED:20260319T151259Z
LAST-MODIFIED:20260319T151259Z
UID:10003625-1780740000-1780750800@pickaway.com
SUMMARY:Commercial Point Farmers Market
DESCRIPTION:Shop local at the Commercial Point Farmers Market featuring fresh produce\, handmade goods\, and a variety of local vendors. This seasonal market is a great way to support small businesses while exploring things to do in Pickaway County\, Ohio.
URL:https://pickaway.com/event/commercial-point-farmers-market-2/2026-06-06/
LOCATION:10 West Scioto St. Commercial Point\, 10 West Scioto Street\, Commercial Point\, 43116\, United States
CATEGORIES:Community,Hobbies,Miscellaneous
ATTACH;FMTTYPE=image/jpeg:https://pickaway.com/wp-content/uploads/2023/04/Produce.jpg
END:VEVENT
BEGIN:VEVENT
DTSTART;VALUE=DATE:20260610
DTEND;VALUE=DATE:20260614
DTSTAMP:20260421T160819
CREATED:20260319T142631Z
LAST-MODIFIED:20260319T142703Z
UID:10003620-1781049600-1781395199@pickaway.com
SUMMARY:Commercial Point Homecoming Festival
DESCRIPTION:Experience the Commercial Point Homecoming Festival\, a multi-day community event featuring food\, entertainment\, and family-friendly activities in Pickaway County\, Ohio.
URL:https://pickaway.com/event/commercial-point-homecoming-festival-2/
LOCATION:Commercial Point Men’s Club\, 26 West Scioto St.\, Commercial Point\, 43116\, United States
CATEGORIES:Festivals and Special Events,Community,Children and Family Fun,Miscellaneous
ATTACH;FMTTYPE=image/png:https://pickaway.com/wp-content/uploads/2024/04/Untitled-design-2024-04-30T090450.145.png
END:VEVENT
BEGIN:VEVENT
DTSTART;TZID=America/New_York:20260610T170000
DTEND;TZID=America/New_York:20260610T213000
DTSTAMP:20260421T160819
CREATED:20240307T145234Z
LAST-MODIFIED:20240307T145234Z
UID:10001167-1781110800-1781127000@pickaway.com
SUMMARY:Bingo: Logan Elm Athletics Boosters
DESCRIPTION:Bingo on Wednesday Nights at Circleville AMVETS doors open at 5:00pm.\nBingo starts at 7:00pm.\n818 Tarlton Road\nCircleville\, Ohio 43113\nAll proceeds support funding for Athletic Uniforms\, safety & training Equipment\, and facilities within the Logan Elm School District.
URL:https://pickaway.com/event/bingo-logan-elm-athletics-boosters/2026-06-10/
LOCATION:AMVETS Post 2256\, 818 Tarlton Rd\, Circleville\, OH\, 43113
CATEGORIES:Community,Hobbies,Miscellaneous
ATTACH;FMTTYPE=image/png:https://pickaway.com/wp-content/uploads/2024/03/Untitled-design-2024-03-07T095159.688.png
END:VEVENT
BEGIN:VEVENT
DTSTART;TZID=America/New_York:20260610T180000
DTEND;TZID=America/New_York:20260610T190000
DTSTAMP:20260421T160819
CREATED:20260202T204540Z
LAST-MODIFIED:20260205T185642Z
UID:10003225-1781114400-1781118000@pickaway.com
SUMMARY:Rock Your Garden; A How to Workshop
DESCRIPTION:Discover how to use stone to add structure\, texture\, and visual interest to your landscape. We’ll cover simple\, practical ways to incorporate rock into gardens of any size. We will also do a tour of a rock production plant covering types of rocks\, and stone where they come from and how we can incorporate them into and around our homes landscaping to create impressions.
URL:https://pickaway.com/event/rock-your-garden-a-how-to-workshop/2026-06-10/
LOCATION:Darby Landscape Supply\, 8075 Harrisburg Pike\, Orient\, 43146
CATEGORIES:Education,Community,Miscellaneous
ATTACH;FMTTYPE=image/png:https://pickaway.com/wp-content/uploads/2026/02/Rock-your-Landscape-_-A-How-to-workshop-.png
ORGANIZER;CN="Darby Landscape Supply":MAILTO:cmoehl10@gmail.com
END:VEVENT
BEGIN:VEVENT
DTSTART;TZID=America/New_York:20260611T130000
DTEND;TZID=America/New_York:20260611T140000
DTSTAMP:20260421T160819
CREATED:20260302T192928Z
LAST-MODIFIED:20260302T192928Z
UID:10003463-1781182800-1781186400@pickaway.com
SUMMARY:Tai Chi at the Senior Center
DESCRIPTION:This program uses Sun Style Tai Chi forms to: improve physical and mental balance\, increase flexibility\, decrease arthritis pain\, and help prevent falls. Tai Chi for Beginners can be done seated or standing and we will practice both during class.
URL:https://pickaway.com/event/tai-chi-at-the-senior-center/2026-06-11/
LOCATION:Pickaway Senior Center\, 2105 Chickasaw Dr\, Circleville\, OH\, 43113\, United States
CATEGORIES:Community,Miscellaneous
ATTACH;FMTTYPE=image/png:https://pickaway.com/wp-content/uploads/2026/03/Senior-Center-Tai-Chi.png
ORGANIZER;CN="Pickaway Senior Center":MAILTO:noreply@facebookmail.com
END:VEVENT
BEGIN:VEVENT
DTSTART;TZID=America/New_York:20260612T180000
DTEND;TZID=America/New_York:20260612T210000
DTSTAMP:20260421T160819
CREATED:20251222T150937Z
LAST-MODIFIED:20251222T150937Z
UID:10003138-1781287200-1781298000@pickaway.com
SUMMARY:South Bloomfield Summer Market
DESCRIPTION:The South Bloomfield Summer Market returns in 2026 with a series of outdoor community market nights featuring local vendors\, makers\, and family-friendly activities. \nHeld on select dates throughout the summer and early fall\, the market offers an opportunity to shop local\, support small businesses\, and enjoy a relaxed evening in the South Bloomfield community. Dates and times vary throughout the season\, including evening markets and a morning fall market. \nA special Kids Vendor Market will take place on July 24th\, highlighting youth entrepreneurs and young makers.
URL:https://pickaway.com/event/south-bloomfield-summer-market-2/2026-06-12/
LOCATION:Village of South Bloomfield\, 5000 Park Pl.\, South Bloomfield\, 43103\, United States
CATEGORIES:Community,Miscellaneous
ATTACH;FMTTYPE=image/png:https://pickaway.com/wp-content/uploads/2025/03/Untitled-design-10.png
END:VEVENT
BEGIN:VEVENT
DTSTART;TZID=America/New_York:20260613T080000
DTEND;TZID=America/New_York:20260613T170000
DTSTAMP:20260421T160819
CREATED:20260205T194432Z
LAST-MODIFIED:20260220T175736Z
UID:10003253-1781337600-1781370000@pickaway.com
SUMMARY:Bloom Season Opening Day
DESCRIPTION:Celebrate the summer\, come to the farm fields at Darby Creek Fields & Flowers. Be among the first to hand select blooms to add to your garden to enjoy for years.  Take a moment to enjoy the fresh air as you walk the 14 fields and admire the blooms.  This event is great for DIY landscapers\, gardeners\, and anyone who loves stepping outside! Let the Summer Bloom!   Event is Free! \nNo RSVP Necessary \nThis is an outdoor event\, check Darby Creek Fields & Flowers social media for weather updates!
URL:https://pickaway.com/event/bloom-season-opening-day/
LOCATION:Darby Creek Fields and Flowers\, 11500 Darby Creek Rd.\, Orient\, OH\, 43146\, United States
CATEGORIES:Nature,Family,Community,Miscellaneous
ATTACH;FMTTYPE=image/png:https://pickaway.com/wp-content/uploads/2026/02/Opening-Day-2026-6.13.26-field-pic-.png
ORGANIZER;CN="Darby Creek Fields and Flowers":MAILTO:owner@darbyflowerfields.com
END:VEVENT
BEGIN:VEVENT
DTSTART;TZID=America/New_York:20260613T103000
DTEND;TZID=America/New_York:20260613T103000
DTSTAMP:20260421T160819
CREATED:20260408T161102Z
LAST-MODIFIED:20260408T161102Z
UID:10003698-1781346600-1781346600@pickaway.com
SUMMARY:Deer Creek Lake Dam Tour
DESCRIPTION:Explore behind the scenes at Deer Creek Lake with a guided Dam Tour hosted by the U.S. Army Corps of Engineers. This unique experience offers a look inside the dam’s operations\, including a visit to the 7-floor control tower. \nParticipants will walk down to the lowest level and stop at each floor on the way back up\, totaling 176 steps. The tour is family-friendly and designed for all ages and abilities\, with an elevator available for those who need it. Tours last approximately 45 to 60 minutes. \nImportant: Large bags\, purses\, and backpacks are not permitted inside the facility. \nUpcoming Tour Dates (all at 10:30 a.m.): \n\nMay 23\, 2026\nMay 30\, 2026\nJune 13\, 2026\nJuly 4\, 2026\nAugust 1\, 2026\n\nLocation:Deer Creek Lake Dam21897 Deer Creek Rd.Mt. Sterling\, OH 43143
URL:https://pickaway.com/event/deer-creek-lake-dam-tour/2026-06-13/
LOCATION:Deer Creek Dam\, 21897 Deer Creek Rd\, Mt Sterling\, OH\, 43143
CATEGORIES:Deer Creek State Park,Hobbies,Miscellaneous
ATTACH;FMTTYPE=image/jpeg:https://pickaway.com/wp-content/uploads/2024/09/Deer-Creek-Dam.jpg
END:VEVENT
BEGIN:VEVENT
DTSTART;TZID=America/New_York:20260613T120000
DTEND;TZID=America/New_York:20260613T160000
DTSTAMP:20260421T160819
CREATED:20260309T133747Z
LAST-MODIFIED:20260309T133747Z
UID:10003556-1781352000-1781366400@pickaway.com
SUMMARY:UTC Mrs Roper Crawl
DESCRIPTION:The Mrs. Roper Crawl in downtown Circleville is more than a fun daytime event—it also supports the ongoing work of Uptown Circleville and efforts to enhance the historic downtown district. \nProceeds from the Mrs. Roper Crawl help fund downtown beautification\, community events\, and improvements that make Circleville more welcoming for residents and visitors exploring Pickaway County. \nProjects supported through these efforts include: \n• Downtown planters and seasonal beautification• The Circleville 1810 sidewalk paintings• Support for Light the Park at Ted Lewis Park• The All-Inclusive Santa House introduced in 2025 \nEvents like the Mrs. Roper Crawl help strengthen downtown Circleville while encouraging visitors to explore local shops\, restaurants\, and gathering spaces throughout the Uptown district.
URL:https://pickaway.com/event/utc-mrs-roper-crawl/
LOCATION:103 West Main Street Circleville\, 103 West Main Street\, Circleville\, OH\, 43113\, United States
CATEGORIES:Circleville,Downtown Circleville,Community,Hobbies,Miscellaneous
ATTACH;FMTTYPE=image/png:https://pickaway.com/wp-content/uploads/2026/03/Roper.png
END:VEVENT
BEGIN:VEVENT
DTSTART;TZID=America/New_York:20260613T170000
DTEND;TZID=America/New_York:20260613T200000
DTSTAMP:20260421T160819
CREATED:20260311T145253Z
LAST-MODIFIED:20260311T145253Z
UID:10003578-1781370000-1781380800@pickaway.com
SUMMARY:Summer Coffee Flights
DESCRIPTION: JoyHouse Summer Coffee Flights! \nJoin us this summer at JoyHouse Coffee for a relaxed evening of great coffee\, community\, and connection. Our Summer Coffee Flights are the perfect way to slow down\, enjoy the season\, and try something new. \n\nJune 13\, July 25\, August 22\, September 19. 5pm-8pm\n\nEach event will feature themed iced coffee flight drinks crafted just for the night—fun seasonal flavors served in a tasting flight so you can experience a variety of unique creations. \nBring your friends\, bring your family\, and come enjoy: \n\nLive music from local artists\nFood truck with great eats\nSpecialty themed coffee flights\nOutdoor seating to enjoy the summer evening\nFamily-friendly atmosphere\n\nWhether you’re a coffee enthusiast or just looking for a great place to gather\, this is a great chance to enjoy the JoyHouse community.
URL:https://pickaway.com/event/summer-coffee-flights/2026-06-13/
LOCATION:JoyHouse Coffee\, 202 North Pickaway Street\, Circleville\, OH\, 43113\, United States
CATEGORIES:Outdoor,Family Friendly,Entertainment and Arts,Community,Miscellaneous
ATTACH;FMTTYPE=image/jpeg:https://pickaway.com/wp-content/uploads/2026/03/Summer.jpg
END:VEVENT
BEGIN:VEVENT
DTSTART;TZID=America/New_York:20260617T170000
DTEND;TZID=America/New_York:20260617T213000
DTSTAMP:20260421T160819
CREATED:20240307T145234Z
LAST-MODIFIED:20240307T145234Z
UID:10001168-1781715600-1781731800@pickaway.com
SUMMARY:Bingo: Logan Elm Athletics Boosters
DESCRIPTION:Bingo on Wednesday Nights at Circleville AMVETS doors open at 5:00pm.\nBingo starts at 7:00pm.\n818 Tarlton Road\nCircleville\, Ohio 43113\nAll proceeds support funding for Athletic Uniforms\, safety & training Equipment\, and facilities within the Logan Elm School District.
URL:https://pickaway.com/event/bingo-logan-elm-athletics-boosters/2026-06-17/
LOCATION:AMVETS Post 2256\, 818 Tarlton Rd\, Circleville\, OH\, 43113
CATEGORIES:Community,Hobbies,Miscellaneous
ATTACH;FMTTYPE=image/png:https://pickaway.com/wp-content/uploads/2024/03/Untitled-design-2024-03-07T095159.688.png
END:VEVENT
BEGIN:VEVENT
DTSTART;TZID=America/New_York:20260618T130000
DTEND;TZID=America/New_York:20260618T140000
DTSTAMP:20260421T160819
CREATED:20260302T192928Z
LAST-MODIFIED:20260302T192928Z
UID:10003464-1781787600-1781791200@pickaway.com
SUMMARY:Tai Chi at the Senior Center
DESCRIPTION:This program uses Sun Style Tai Chi forms to: improve physical and mental balance\, increase flexibility\, decrease arthritis pain\, and help prevent falls. Tai Chi for Beginners can be done seated or standing and we will practice both during class.
URL:https://pickaway.com/event/tai-chi-at-the-senior-center/2026-06-18/
LOCATION:Pickaway Senior Center\, 2105 Chickasaw Dr\, Circleville\, OH\, 43113\, United States
CATEGORIES:Community,Miscellaneous
ATTACH;FMTTYPE=image/png:https://pickaway.com/wp-content/uploads/2026/03/Senior-Center-Tai-Chi.png
ORGANIZER;CN="Pickaway Senior Center":MAILTO:noreply@facebookmail.com
END:VEVENT
BEGIN:VEVENT
DTSTART;TZID=America/New_York:20260619T180000
DTEND;TZID=America/New_York:20260619T200000
DTSTAMP:20260421T160819
CREATED:20260202T190150Z
LAST-MODIFIED:20260205T185919Z
UID:10003219-1781892000-1781899200@pickaway.com
SUMMARY:Blooms & Bites: A Date Night Experience
DESCRIPTION:Step away from the bustle of town and enjoy a relaxed evening on the farm at Darby Creek Fields & Flowers. \nThis special date-night experience invites couples to explore a series of tasting stations featuring small bites\, refreshing drinks\, and sweet desserts. Stroll the farm\, sample seasonal flavors\, and soak in the beauty of the surroundings as the evening unfolds. \nWhether you’re celebrating something special or simply looking for a unique night out\, this farm-inspired experience offers a memorable way to enjoy summer together. \nCost: $15 per person
URL:https://pickaway.com/event/blooms-bites-a-date-night-experience/
LOCATION:Darby Creek Fields and Flowers\, 11500 Darby Creek Rd.\, Orient\, OH\, 43146\, United States
CATEGORIES:Nature,Tours & Experiences,Community,Miscellaneous
ATTACH;FMTTYPE=image/png:https://pickaway.com/wp-content/uploads/2026/02/Date-Night-photo-.png
ORGANIZER;CN="Darby Creek Fields and Flowers":MAILTO:owner@darbyflowerfields.com
END:VEVENT
BEGIN:VEVENT
DTSTART;TZID=America/New_York:20260620T090000
DTEND;TZID=America/New_York:20260620T100000
DTSTAMP:20260421T160819
CREATED:20260202T200233Z
LAST-MODIFIED:20260205T185322Z
UID:10003221-1781946000-1781949600@pickaway.com
SUMMARY:Backyard Wildflowers;  A How to Workshop
DESCRIPTION:This hands-on workshop is designed for homeowners to learn how to convert acres or areas into vibrant wildflower fields. Learn step-by-step on how to prepare your land\, select the best flowers for your area\, and manage your new meadow for lasting success. We will guide you through planting techniques\, seasonal care\, and strategies for encouraging pollinators’ wildlife and healthy soil. Event is Free! \nThis event is perfect for anyone tired of MOWING! \nThis is an outdoor event\, check our social media for weather updates! \nTo register txt “Wildflower” to 614-809-8538
URL:https://pickaway.com/event/backyard-wildflowers-a-how-to-workshop/2026-06-20/
LOCATION:Darby Creek Fields and Flowers\, 11500 Darby Creek Rd.\, Orient\, OH\, 43146\, United States
CATEGORIES:Community,Miscellaneous
ATTACH;FMTTYPE=image/png:https://pickaway.com/wp-content/uploads/2026/02/Backyard-Wildflowers_-A-How-to-Workshop-.png
ORGANIZER;CN="Darby Creek Fields and Flowers":MAILTO:owner@darbyflowerfields.com
END:VEVENT
BEGIN:VEVENT
DTSTART;TZID=America/New_York:20260624T160000
DTEND;TZID=America/New_York:20260624T200000
DTSTAMP:20260421T160819
CREATED:20260319T152013Z
LAST-MODIFIED:20260319T152013Z
UID:10003629-1782316800-1782331200@pickaway.com
SUMMARY:Commercial Point Food Truck Event
DESCRIPTION:Enjoy a variety of food trucks in Commercial Point\, Ohio offering options for the whole family. This community event is a great way to experience local flavors and enjoy a casual evening in Pickaway County.
URL:https://pickaway.com/event/commercial-point-food-truck-event/2026-06-24/
LOCATION:Commercial Point Men’s Club\, 26 West Scioto St.\, Commercial Point\, 43116\, United States
CATEGORIES:Community,Miscellaneous
ATTACH;FMTTYPE=image/png:https://pickaway.com/wp-content/uploads/2023/06/My-project-1-2023-06-28T094754.374.png
END:VEVENT
BEGIN:VEVENT
DTSTART;TZID=America/New_York:20260624T170000
DTEND;TZID=America/New_York:20260624T213000
DTSTAMP:20260421T160819
CREATED:20240307T145234Z
LAST-MODIFIED:20240307T145234Z
UID:10001169-1782320400-1782336600@pickaway.com
SUMMARY:Bingo: Logan Elm Athletics Boosters
DESCRIPTION:Bingo on Wednesday Nights at Circleville AMVETS doors open at 5:00pm.\nBingo starts at 7:00pm.\n818 Tarlton Road\nCircleville\, Ohio 43113\nAll proceeds support funding for Athletic Uniforms\, safety & training Equipment\, and facilities within the Logan Elm School District.
URL:https://pickaway.com/event/bingo-logan-elm-athletics-boosters/2026-06-24/
LOCATION:AMVETS Post 2256\, 818 Tarlton Rd\, Circleville\, OH\, 43113
CATEGORIES:Community,Hobbies,Miscellaneous
ATTACH;FMTTYPE=image/png:https://pickaway.com/wp-content/uploads/2024/03/Untitled-design-2024-03-07T095159.688.png
END:VEVENT
BEGIN:VEVENT
DTSTART;TZID=America/New_York:20260625T100000
DTEND;TZID=America/New_York:20260625T110000
DTSTAMP:20260421T160819
CREATED:20260202T205402Z
LAST-MODIFIED:20260205T185445Z
UID:10003236-1782381600-1782385200@pickaway.com
SUMMARY:Get to Know Your Weeds : A How to Workshop
DESCRIPTION:  \nThistles\, crabgrass\, ground ivy Ugh!  Learn how to identify common “weeds” and discover which ones may actually be helping your garden. Learn to identify and name 10 weeds you have in your garden\, how they root\, grow and reproduce!  Also walk away with techniques to manage the not so good weeds in your garden. We will also cover apps\, compost\, mulch\, herbicides and natural deterrents to weeds. \nPerfect for gardeners and homeowners\, wanting to manage your landscape\n🌼 Includes a free weed guide to take home and id your weeds  \nTO register txt “Weeds” to 614-809-8538
URL:https://pickaway.com/event/get-to-know-your-weeds-a-how-to-workshop-2/2026-06-25/1/
LOCATION:Darby Creek Fields and Flowers\, 11500 Darby Creek Rd.\, Orient\, OH\, 43146\, United States
CATEGORIES:Education,Community,Miscellaneous
ATTACH;FMTTYPE=image/png:https://pickaway.com/wp-content/uploads/2026/02/weeding-image-2-1.png
ORGANIZER;CN="Darby Creek Fields and Flowers":MAILTO:owner@darbyflowerfields.com
END:VEVENT
BEGIN:VEVENT
DTSTART;TZID=America/New_York:20260625T130000
DTEND;TZID=America/New_York:20260625T140000
DTSTAMP:20260421T160819
CREATED:20260302T192928Z
LAST-MODIFIED:20260302T192928Z
UID:10003465-1782392400-1782396000@pickaway.com
SUMMARY:Tai Chi at the Senior Center
DESCRIPTION:This program uses Sun Style Tai Chi forms to: improve physical and mental balance\, increase flexibility\, decrease arthritis pain\, and help prevent falls. Tai Chi for Beginners can be done seated or standing and we will practice both during class.
URL:https://pickaway.com/event/tai-chi-at-the-senior-center/2026-06-25/
LOCATION:Pickaway Senior Center\, 2105 Chickasaw Dr\, Circleville\, OH\, 43113\, United States
CATEGORIES:Community,Miscellaneous
ATTACH;FMTTYPE=image/png:https://pickaway.com/wp-content/uploads/2026/03/Senior-Center-Tai-Chi.png
ORGANIZER;CN="Pickaway Senior Center":MAILTO:noreply@facebookmail.com
END:VEVENT
BEGIN:VEVENT
DTSTART;TZID=America/New_York:20260625T180000
DTEND;TZID=America/New_York:20260625T190000
DTSTAMP:20260421T160819
CREATED:20260202T205402Z
LAST-MODIFIED:20260205T185445Z
UID:10003237-1782410400-1782414000@pickaway.com
SUMMARY:Get to Know Your Weeds : A How to Workshop
DESCRIPTION:  \nThistles\, crabgrass\, ground ivy Ugh!  Learn how to identify common “weeds” and discover which ones may actually be helping your garden. Learn to identify and name 10 weeds you have in your garden\, how they root\, grow and reproduce!  Also walk away with techniques to manage the not so good weeds in your garden. We will also cover apps\, compost\, mulch\, herbicides and natural deterrents to weeds. \nPerfect for gardeners and homeowners\, wanting to manage your landscape\n🌼 Includes a free weed guide to take home and id your weeds  \nTO register txt “Weeds” to 614-809-8538
URL:https://pickaway.com/event/get-to-know-your-weeds-a-how-to-workshop-2/2026-06-25/2/
LOCATION:Darby Creek Fields and Flowers\, 11500 Darby Creek Rd.\, Orient\, OH\, 43146\, United States
CATEGORIES:Education,Community,Miscellaneous
ATTACH;FMTTYPE=image/png:https://pickaway.com/wp-content/uploads/2026/02/weeding-image-2-1.png
ORGANIZER;CN="Darby Creek Fields and Flowers":MAILTO:owner@darbyflowerfields.com
END:VEVENT
BEGIN:VEVENT
DTSTART;TZID=America/New_York:20260627T110000
DTEND;TZID=America/New_York:20260627T150000
DTSTAMP:20260421T160819
CREATED:20260414T184940Z
LAST-MODIFIED:20260414T184953Z
UID:10003715-1782558000-1782572400@pickaway.com
SUMMARY:Clarke-May Museum America 250 Open House
DESCRIPTION:Step back in time and explore local history during the Clarke-May Museum Open House\, hosted by the Pickaway County Historical Society. \nVisitors are invited to tour 14 rooms filled with fascinating artifacts and stories from Pickaway County’s past. This special weekend will also feature exhibits honoring America 250\, offering a meaningful look at the nation’s history through a local lens. \nEnjoy light refreshments while discovering one of Circleville’s historic treasures. Whether you’re a history enthusiast or simply looking for a unique local experience\, this open house offers something for everyone.
URL:https://pickaway.com/event/126675/2026-06-27/
LOCATION:Clarke-May Museum\, 162 W. Union St.\, Circleville\, 43113\, United States
CATEGORIES:America 250,Community,Miscellaneous
ATTACH;FMTTYPE=image/jpeg:https://pickaway.com/wp-content/uploads/2026/04/671920884_122179948772874769_6363939539343309418_n.jpg
END:VEVENT
BEGIN:VEVENT
DTSTART;TZID=America/New_York:20260628T130000
DTEND;TZID=America/New_York:20260628T150000
DTSTAMP:20260421T160819
CREATED:20260414T184940Z
LAST-MODIFIED:20260414T184953Z
UID:10003716-1782651600-1782658800@pickaway.com
SUMMARY:Clarke-May Museum America 250 Open House
DESCRIPTION:Step back in time and explore local history during the Clarke-May Museum Open House\, hosted by the Pickaway County Historical Society. \nVisitors are invited to tour 14 rooms filled with fascinating artifacts and stories from Pickaway County’s past. This special weekend will also feature exhibits honoring America 250\, offering a meaningful look at the nation’s history through a local lens. \nEnjoy light refreshments while discovering one of Circleville’s historic treasures. Whether you’re a history enthusiast or simply looking for a unique local experience\, this open house offers something for everyone.
URL:https://pickaway.com/event/126675/2026-06-28/
LOCATION:Clarke-May Museum\, 162 W. Union St.\, Circleville\, 43113\, United States
CATEGORIES:America 250,Community,Miscellaneous
ATTACH;FMTTYPE=image/jpeg:https://pickaway.com/wp-content/uploads/2026/04/671920884_122179948772874769_6363939539343309418_n.jpg
END:VEVENT
END:VCALENDAR