BEGIN:VCALENDAR
VERSION:2.0
PRODID:-//Pickaway County Visitors Bureau - ECPv6.15.20//NONSGML v1.0//EN
CALSCALE:GREGORIAN
METHOD:PUBLISH
X-WR-CALNAME:Pickaway County Visitors Bureau
X-ORIGINAL-URL:https://pickaway.com
X-WR-CALDESC:Events for Pickaway County Visitors Bureau
REFRESH-INTERVAL;VALUE=DURATION:PT1H
X-Robots-Tag:noindex
X-PUBLISHED-TTL:PT1H
BEGIN:VTIMEZONE
TZID:America/New_York
BEGIN:DAYLIGHT
TZOFFSETFROM:-0500
TZOFFSETTO:-0400
TZNAME:EDT
DTSTART:20240310T070000
END:DAYLIGHT
BEGIN:STANDARD
TZOFFSETFROM:-0400
TZOFFSETTO:-0500
TZNAME:EST
DTSTART:20241103T060000
END:STANDARD
BEGIN:DAYLIGHT
TZOFFSETFROM:-0500
TZOFFSETTO:-0400
TZNAME:EDT
DTSTART:20250309T070000
END:DAYLIGHT
BEGIN:STANDARD
TZOFFSETFROM:-0400
TZOFFSETTO:-0500
TZNAME:EST
DTSTART:20251102T060000
END:STANDARD
BEGIN:DAYLIGHT
TZOFFSETFROM:-0500
TZOFFSETTO:-0400
TZNAME:EDT
DTSTART:20260308T070000
END:DAYLIGHT
BEGIN:STANDARD
TZOFFSETFROM:-0400
TZOFFSETTO:-0500
TZNAME:EST
DTSTART:20261101T060000
END:STANDARD
END:VTIMEZONE
BEGIN:VEVENT
DTSTART;TZID=America/New_York:20250713T183000
DTEND;TZID=America/New_York:20250713T200000
DTSTAMP:20260419T143345
CREATED:20250708T161530Z
LAST-MODIFIED:20250708T161530Z
UID:10002679-1752431400-1752436800@pickaway.com
SUMMARY:Pickaway Community Band concert at Ashville Community Park
DESCRIPTION:Enjoy a relaxing Sunday evening with a free outdoor concert by the Pickaway Community Band at the Ashville Community Park stage. The performance will feature marches\, familiar pop and rock medleys\, and more. Bring a blanket or lawn chair—bench seating is limited.
URL:https://pickaway.com/event/pickaway-community-band-concert-at-ashville-community-park/
LOCATION:Ashville Community Park\, 165 Walnut St\, Ashville\, OH\, 43103\, United States
CATEGORIES:Family,Outdoor,Entertainment and Arts,Community
ATTACH;FMTTYPE=image/jpeg:https://pickaway.com/wp-content/uploads/2022/01/depositphotos_78906950-stock-illustration-music-notes-background.jpg
ORGANIZER;CN="Pickaway Community Band":MAILTO:pickawaycommunityband@gmail.com
END:VEVENT
BEGIN:VEVENT
DTSTART;TZID=America/New_York:20250714T190000
DTEND;TZID=America/New_York:20250714T203000
DTSTAMP:20260419T143345
CREATED:20250127T134218Z
LAST-MODIFIED:20250127T134218Z
UID:10002034-1752519600-1752525000@pickaway.com
SUMMARY:Monday Night Trivia at Station House 81
DESCRIPTION:Station House 81 hosts an evening of fun and friendly competition with six engaging trivia rounds. Participants have the chance to test their knowledge and aim for a growing jackpot. \nLocated in Commercial Point at 11 Front St\, Station House 81 is a popular local restaurant renowned for its smoked barbecue specialties\, hearty sandwiches\, and delicious appetizers. Guests can enjoy great food and drinks while they play\, all in a welcoming\, community-focused atmosphere.
URL:https://pickaway.com/event/monday-night-trivia-at-station-house-81/2025-07-14/
LOCATION:Station House 81\, 11 Front Street\, Commercial Point\, 43116
CATEGORIES:Entertainment and Arts,Hobbies,Miscellaneous
ATTACH;FMTTYPE=image/jpeg:https://pickaway.com/wp-content/uploads/2024/09/Trivia-Night.jpg
ORGANIZER;CN="Two Dudes%2C One Mic":MAILTO:Colton.2D1M @gmail.com
END:VEVENT
BEGIN:VEVENT
DTSTART;TZID=America/New_York:20250719T180000
DTEND;TZID=America/New_York:20250719T230000
DTSTAMP:20260419T143345
CREATED:20250306T165841Z
LAST-MODIFIED:20250306T165842Z
UID:10002321-1752948000-1752966000@pickaway.com
SUMMARY:Boogie on the Blacktop - Radio City
DESCRIPTION:Radio City is bringing the hits to Boogie on the Blacktop!  With an electrifying mix of rock\, pop\, and danceable favorites\, this band will have the whole crowd singing along. Don’t miss out on a summer night filled with great music\, tasty food trucks\, and a fun\, family-friendly atmosphere. \n Presented by Circleville Eagles with promotional support from Pickaway County Visitors Bureau\, Coughlin Automotive\, The Savings Bank\, and other community sponsors.
URL:https://pickaway.com/event/boogie-on-the-blacktop-radio-city/
LOCATION:Circleville Eagles\, 135 E Main Street\, Circleville\, OH\, 43113\, United States
CATEGORIES:Entertainment and Arts,Community,Children and Family Fun,Miscellaneous
ATTACH;FMTTYPE=image/png:https://pickaway.com/wp-content/uploads/2025/03/Rock-Music.png
END:VEVENT
END:VCALENDAR