BEGIN:VCALENDAR
VERSION:2.0
PRODID:-//Pickaway County Visitors Bureau - ECPv6.15.20//NONSGML v1.0//EN
CALSCALE:GREGORIAN
METHOD:PUBLISH
X-ORIGINAL-URL:https://pickaway.com
X-WR-CALDESC:Events for Pickaway County Visitors Bureau
REFRESH-INTERVAL;VALUE=DURATION:PT1H
X-Robots-Tag:noindex
X-PUBLISHED-TTL:PT1H
BEGIN:VTIMEZONE
TZID:America/New_York
BEGIN:DAYLIGHT
TZOFFSETFROM:-0500
TZOFFSETTO:-0400
TZNAME:EDT
DTSTART:20240310T070000
END:DAYLIGHT
BEGIN:STANDARD
TZOFFSETFROM:-0400
TZOFFSETTO:-0500
TZNAME:EST
DTSTART:20241103T060000
END:STANDARD
BEGIN:DAYLIGHT
TZOFFSETFROM:-0500
TZOFFSETTO:-0400
TZNAME:EDT
DTSTART:20250309T070000
END:DAYLIGHT
BEGIN:STANDARD
TZOFFSETFROM:-0400
TZOFFSETTO:-0500
TZNAME:EST
DTSTART:20251102T060000
END:STANDARD
BEGIN:DAYLIGHT
TZOFFSETFROM:-0500
TZOFFSETTO:-0400
TZNAME:EDT
DTSTART:20260308T070000
END:DAYLIGHT
BEGIN:STANDARD
TZOFFSETFROM:-0400
TZOFFSETTO:-0500
TZNAME:EST
DTSTART:20261101T060000
END:STANDARD
END:VTIMEZONE
BEGIN:VEVENT
DTSTART;TZID=America/New_York:20250623T190000
DTEND;TZID=America/New_York:20250623T203000
DTSTAMP:20260419T163329
CREATED:20250127T134218Z
LAST-MODIFIED:20250127T134218Z
UID:10002031-1750705200-1750710600@pickaway.com
SUMMARY:Monday Night Trivia at Station House 81
DESCRIPTION:Station House 81 hosts an evening of fun and friendly competition with six engaging trivia rounds. Participants have the chance to test their knowledge and aim for a growing jackpot. \nLocated in Commercial Point at 11 Front St\, Station House 81 is a popular local restaurant renowned for its smoked barbecue specialties\, hearty sandwiches\, and delicious appetizers. Guests can enjoy great food and drinks while they play\, all in a welcoming\, community-focused atmosphere.
URL:https://pickaway.com/event/monday-night-trivia-at-station-house-81/2025-06-23/
LOCATION:Station House 81\, 11 Front Street\, Commercial Point\, 43116
CATEGORIES:Entertainment and Arts,Hobbies,Miscellaneous
ATTACH;FMTTYPE=image/jpeg:https://pickaway.com/wp-content/uploads/2024/09/Trivia-Night.jpg
ORGANIZER;CN="Two Dudes%2C One Mic":MAILTO:Colton.2D1M @gmail.com
END:VEVENT
BEGIN:VEVENT
DTSTART;TZID=America/New_York:20250626T180000
DTEND;TZID=America/New_York:20250626T200000
DTSTAMP:20260419T163329
CREATED:20250414T155303Z
LAST-MODIFIED:20250414T173313Z
UID:10002441-1750960800-1750968000@pickaway.com
SUMMARY:Beginners Photography Workshop
DESCRIPTION:Rhoads Garden Center will host a beginner-friendly photography workshop on Wednesday\, June 26\, from 6:00 to 8:00 PM. This hands-on session is designed for those looking to improve their photography skills—whether using a smartphone or camera. For $45\, participants will receive expert instruction\, guided practice time\, and helpful take-home materials. \nThe workshop will be led by Ava Neff\, a Circleville native and accomplished professional photographer. With over four years of experience\, Ava’s work has been featured in multiple publications and recognized internationally\, including an honorable mention in the prestigious International Photography Awards. Despite her impressive accolades\, Ava is passionate about helping beginners feel confident and creative behind the lens. \nThis welcoming workshop is perfect for anyone ready to take the first step into photography in a supportive and encouraging environment.
URL:https://pickaway.com/event/beginners-photography-workshop/
LOCATION:Rhoads Garden Center Inc\, 1051 St. Rt. 56 East\, Circleville\, OH\, 43113\, United States
CATEGORIES:Entertainment and Arts,Hobbies,Miscellaneous
ATTACH;FMTTYPE=image/png:https://pickaway.com/wp-content/uploads/2025/04/Untitled-design-11.png
END:VEVENT
BEGIN:VEVENT
DTSTART;TZID=America/New_York:20250627T190000
DTEND;TZID=America/New_York:20250627T210000
DTSTAMP:20260419T163329
CREATED:20250617T200826Z
LAST-MODIFIED:20250617T200826Z
UID:10002645-1751050800-1751058000@pickaway.com
SUMMARY:Manchester Muse Open Mic Night
DESCRIPTION:Enjoy live music at Manchester Hill Winery from 7:00 PM–9:00 PM with handcrafted wines and ciders.
URL:https://pickaway.com/event/manchester-muse-open-mic-night-2/
LOCATION:Manchester Hill Winery\, 13160 Tarlton Road\, Circleville\, OH\, 43113\, United States
CATEGORIES:Entertainment and Arts
ATTACH;FMTTYPE=image/png:https://pickaway.com/wp-content/uploads/2025/06/Copy-of-Discover-Pickaway.png
END:VEVENT
BEGIN:VEVENT
DTSTART;TZID=America/New_York:20250628T180000
DTEND;TZID=America/New_York:20250628T230000
DTSTAMP:20260419T163329
CREATED:20250306T165656Z
LAST-MODIFIED:20250306T165710Z
UID:10002320-1751133600-1751151600@pickaway.com
SUMMARY:Boogie on the Blacktop - The Groove Brothers
DESCRIPTION:Get ready for a night of incredible music as the Groove Brothers take the stage! With their energetic mix of classic rock\, blues\, and funk\, they’ll have the whole crowd grooving all night long. Bring your lawn chair\, enjoy delicious food from local food trucks\, and soak in the summer vibes with great live entertainment in Circleville. \nPresented by Circleville Eagles with promotional support from Pickaway County Visitors Bureau\, Coughlin Automotive\, The Savings Bank\, and other community sponsors.
URL:https://pickaway.com/event/boogie-on-the-blacktop-the-groove-brothers/
LOCATION:Circleville Eagles\, 135 E Main Street\, Circleville\, OH\, 43113\, United States
CATEGORIES:Entertainment and Arts,Community,Hobbies,Children and Family Fun,Miscellaneous
ATTACH;FMTTYPE=image/png:https://pickaway.com/wp-content/uploads/2025/03/Rock-Music.png
END:VEVENT
BEGIN:VEVENT
DTSTART;TZID=America/New_York:20250628T190000
DTEND;TZID=America/New_York:20250628T210000
DTSTAMP:20260419T163329
CREATED:20250617T200907Z
LAST-MODIFIED:20250617T200907Z
UID:10002646-1751137200-1751144400@pickaway.com
SUMMARY:Manchester Hill Presents Acoustic Horizon
DESCRIPTION:Enjoy live music at Manchester Hill Winery from 7:00 PM–9:00 PM with handcrafted wines and ciders.
URL:https://pickaway.com/event/manchester-hill-presents-acoustic-horizon-3/
LOCATION:Manchester Hill Winery\, 13160 Tarlton Road\, Circleville\, OH\, 43113\, United States
CATEGORIES:Entertainment and Arts
ATTACH;FMTTYPE=image/png:https://pickaway.com/wp-content/uploads/2025/06/Copy-of-Discover-Pickaway.png
END:VEVENT
END:VCALENDAR