BEGIN:VCALENDAR
VERSION:2.0
PRODID:-//Pickaway County Visitors Bureau - ECPv6.15.20//NONSGML v1.0//EN
CALSCALE:GREGORIAN
METHOD:PUBLISH
X-ORIGINAL-URL:https://pickaway.com
X-WR-CALDESC:Events for Pickaway County Visitors Bureau
REFRESH-INTERVAL;VALUE=DURATION:PT1H
X-Robots-Tag:noindex
X-PUBLISHED-TTL:PT1H
BEGIN:VTIMEZONE
TZID:America/New_York
BEGIN:DAYLIGHT
TZOFFSETFROM:-0500
TZOFFSETTO:-0400
TZNAME:EDT
DTSTART:20240310T070000
END:DAYLIGHT
BEGIN:STANDARD
TZOFFSETFROM:-0400
TZOFFSETTO:-0500
TZNAME:EST
DTSTART:20241103T060000
END:STANDARD
BEGIN:DAYLIGHT
TZOFFSETFROM:-0500
TZOFFSETTO:-0400
TZNAME:EDT
DTSTART:20250309T070000
END:DAYLIGHT
BEGIN:STANDARD
TZOFFSETFROM:-0400
TZOFFSETTO:-0500
TZNAME:EST
DTSTART:20251102T060000
END:STANDARD
BEGIN:DAYLIGHT
TZOFFSETFROM:-0500
TZOFFSETTO:-0400
TZNAME:EDT
DTSTART:20260308T070000
END:DAYLIGHT
BEGIN:STANDARD
TZOFFSETFROM:-0400
TZOFFSETTO:-0500
TZNAME:EST
DTSTART:20261101T060000
END:STANDARD
END:VTIMEZONE
BEGIN:VEVENT
DTSTART;TZID=America/New_York:20250609T190000
DTEND;TZID=America/New_York:20250609T203000
DTSTAMP:20260419T163215
CREATED:20250127T134218Z
LAST-MODIFIED:20250127T134218Z
UID:10002029-1749495600-1749501000@pickaway.com
SUMMARY:Monday Night Trivia at Station House 81
DESCRIPTION:Station House 81 hosts an evening of fun and friendly competition with six engaging trivia rounds. Participants have the chance to test their knowledge and aim for a growing jackpot. \nLocated in Commercial Point at 11 Front St\, Station House 81 is a popular local restaurant renowned for its smoked barbecue specialties\, hearty sandwiches\, and delicious appetizers. Guests can enjoy great food and drinks while they play\, all in a welcoming\, community-focused atmosphere.
URL:https://pickaway.com/event/monday-night-trivia-at-station-house-81/2025-06-09/
LOCATION:Station House 81\, 11 Front Street\, Commercial Point\, 43116
CATEGORIES:Entertainment and Arts,Hobbies,Miscellaneous
ATTACH;FMTTYPE=image/jpeg:https://pickaway.com/wp-content/uploads/2024/09/Trivia-Night.jpg
ORGANIZER;CN="Two Dudes%2C One Mic":MAILTO:Colton.2D1M @gmail.com
END:VEVENT
BEGIN:VEVENT
DTSTART;VALUE=DATE:20250614
DTEND;VALUE=DATE:20250622
DTSTAMP:20260419T163215
CREATED:20250115T162306Z
LAST-MODIFIED:20250115T162556Z
UID:10001994-1749859200-1750550399@pickaway.com
SUMMARY:Pickaway County Fair
DESCRIPTION:Join us for an unforgettable celebration of community\, tradition\, and fun at the Pickaway County Fair! From the thrills of the Midway to the irresistible aromas of fair food\, there’s something for everyone to enjoy. \nExciting Attractions Await!\nFeel the rush of adrenaline on twisting and turning rides\, and indulge in classic fair flavors like gooey cheese on a stick\, piping-hot pizza\, bourbon chicken\, and homemade ice cream from Rader’s – just a few of the crowd favorites! \nEngaging Activities for All Ages!\nImmerse yourself in a variety of experiences\, including interactive educational displays\, youth agricultural competitions\, and lively horse shows. Get your heart racing at Motocross and tractor pull competitions or the demolition derby. Keep an eye out for roving performers bringing entertainment to every corner of the fairgrounds. \nWhether you’re here to explore\, compete\, or simply savor the fun\, the Pickaway County Fair is the perfect place to make memories with family and friends. Don’t miss it!
URL:https://pickaway.com/event/pickaway-county-fair-3/
LOCATION:Pickaway County Agriculture & Event Center\, 415 Lancaster Pike\, Circleville\, OH\, 43113
CATEGORIES:Entertainment and Arts,Festivals and Special Events,Community,Children and Family Fun
ATTACH;FMTTYPE=image/jpeg:https://pickaway.com/wp-content/uploads/2023/12/IMG_8812-scaled-e1703182084373.jpg
END:VEVENT
END:VCALENDAR