BEGIN:VCALENDAR
VERSION:2.0
PRODID:-//Pickaway County Visitors Bureau - ECPv6.15.20//NONSGML v1.0//EN
CALSCALE:GREGORIAN
METHOD:PUBLISH
X-WR-CALNAME:Pickaway County Visitors Bureau
X-ORIGINAL-URL:https://pickaway.com
X-WR-CALDESC:Events for Pickaway County Visitors Bureau
REFRESH-INTERVAL;VALUE=DURATION:PT1H
X-Robots-Tag:noindex
X-PUBLISHED-TTL:PT1H
BEGIN:VTIMEZONE
TZID:America/New_York
BEGIN:DAYLIGHT
TZOFFSETFROM:-0500
TZOFFSETTO:-0400
TZNAME:EDT
DTSTART:20240310T070000
END:DAYLIGHT
BEGIN:STANDARD
TZOFFSETFROM:-0400
TZOFFSETTO:-0500
TZNAME:EST
DTSTART:20241103T060000
END:STANDARD
BEGIN:DAYLIGHT
TZOFFSETFROM:-0500
TZOFFSETTO:-0400
TZNAME:EDT
DTSTART:20250309T070000
END:DAYLIGHT
BEGIN:STANDARD
TZOFFSETFROM:-0400
TZOFFSETTO:-0500
TZNAME:EST
DTSTART:20251102T060000
END:STANDARD
BEGIN:DAYLIGHT
TZOFFSETFROM:-0500
TZOFFSETTO:-0400
TZNAME:EDT
DTSTART:20260308T070000
END:DAYLIGHT
BEGIN:STANDARD
TZOFFSETFROM:-0400
TZOFFSETTO:-0500
TZNAME:EST
DTSTART:20261101T060000
END:STANDARD
END:VTIMEZONE
BEGIN:VEVENT
DTSTART;TZID=America/New_York:20250601T140000
DTEND;TZID=America/New_York:20250601T140000
DTSTAMP:20260419T143346
CREATED:20250228T164124Z
LAST-MODIFIED:20250228T164124Z
UID:10002206-1748786400-1748786400@pickaway.com
SUMMARY:Circleville Cadet Band Concert
DESCRIPTION:German-American musician Oscar Ameringer came to Circleville to form a boy’s band in 1900. Before the proliferation of music education in the schools\, cadet bands provided musical training for budding young musicians. Mr. and Mrs. Benjamin Friedman\, proprietors of Friedman’s Bazaar\, the leading local women’s clothing store\, enrolled their two eldest sons Edgar and Theodore in the cadet band. Ten-year-old Ted started on the E-flat clarinet because his fingers were too short for a regular B-flat clarinet. Prof. Ameringer recalled years later\, “Theodore couldn’t stay away from music.” \nCircleville will once again come alive with patriotic marches\, stirring overtures of Franz von Suppé\, immortal songs of Stephen Foster\, and other classics as The Ted Lewis Museum presents a concert in the beautiful Pickaway Amphitheater. Featuring selections from newly discovered 1900-01 Circleville Cadet Band programs that young Ted performed\, this special concert will be performed by 20 of Central Ohio’s finest uniformed musicians under the direction of Joseph N. Rubin. With special guests the Times Past Vintage Dancers illustrating the latest dances of 1900\, don’t miss this FREE trip back to the golden age of the concert band.
URL:https://pickaway.com/event/circleville-cadet-band-concert/
LOCATION:Pickaway Agriculture and Event Center\, 415 Lancaster Pike\, Circleville\, OH\, 43113\, United States
CATEGORIES:Entertainment and Arts,Community,Children and Family Fun,Miscellaneous
ATTACH;FMTTYPE=image/png:https://pickaway.com/wp-content/uploads/2025/02/Untitled-design-16.png
END:VEVENT
BEGIN:VEVENT
DTSTART;TZID=America/New_York:20250602T190000
DTEND;TZID=America/New_York:20250602T203000
DTSTAMP:20260419T143346
CREATED:20250127T134218Z
LAST-MODIFIED:20250127T134218Z
UID:10002028-1748890800-1748896200@pickaway.com
SUMMARY:Monday Night Trivia at Station House 81
DESCRIPTION:Station House 81 hosts an evening of fun and friendly competition with six engaging trivia rounds. Participants have the chance to test their knowledge and aim for a growing jackpot. \nLocated in Commercial Point at 11 Front St\, Station House 81 is a popular local restaurant renowned for its smoked barbecue specialties\, hearty sandwiches\, and delicious appetizers. Guests can enjoy great food and drinks while they play\, all in a welcoming\, community-focused atmosphere.
URL:https://pickaway.com/event/monday-night-trivia-at-station-house-81/2025-06-02/
LOCATION:Station House 81\, 11 Front Street\, Commercial Point\, 43116
CATEGORIES:Entertainment and Arts,Hobbies,Miscellaneous
ATTACH;FMTTYPE=image/jpeg:https://pickaway.com/wp-content/uploads/2024/09/Trivia-Night.jpg
ORGANIZER;CN="Two Dudes%2C One Mic":MAILTO:Colton.2D1M @gmail.com
END:VEVENT
BEGIN:VEVENT
DTSTART;TZID=America/New_York:20250606T170000
DTEND;TZID=America/New_York:20250606T200000
DTSTAMP:20260419T143346
CREATED:20250604T175247Z
LAST-MODIFIED:20250604T175248Z
UID:10002112-1749229200-1749240000@pickaway.com
SUMMARY:Uptown Circleville First Fridays
DESCRIPTION:Uptown Circleville invites the community to kick off summer at First Friday on June 6. From food and shopping to classic cars and community fun\, there’s something for everyone to enjoy during this monthly celebration in historic Downtown Circleville. \n✨ Featured Activities:• Pieing with a Purpose – Local public figures will be pied to raise funds for Pickaway County Special Olympics.• Cruise-In Passport Challenge – Guests can pick up a passport at Uniquely Yours (122 N Court St) between 10 AM–7 PM or at the DJ booth from 5–7 PM\, then visit participating businesses for a chance to win an Uptown Experience Gift Basket.• Historical DORA Walk – A one-hour guided tour with the Pickaway County Historical Society departs from Tootles Pumpkin Inn (117 E Main St) at 6:15 PM. Suggested donation: $5 or more. \n Additional Fun Includes:• Food by Megabites Food Truck• Entertainment from Roundtown Radio• Car show presented by RoundTown Cruisers and sponsored by DeLong Insurance \nSpecial thanks to First Friday sponsors: DeLong Insurance\, Perfection One Collision Center\, and Homeland Credit Union.
URL:https://pickaway.com/event/uptown-circleville-first-fridays-5-2/
LOCATION:122 N Court St\, 122 North Court Street\, Circleville\, OH\, 43113\, United States
CATEGORIES:Entertainment and Arts,Community,Hobbies
ATTACH;FMTTYPE=image/png:https://pickaway.com/wp-content/uploads/2023/04/My-project-1-92.png
END:VEVENT
END:VCALENDAR