BEGIN:VCALENDAR
VERSION:2.0
PRODID:-//Pickaway County Visitors Bureau - ECPv6.15.20//NONSGML v1.0//EN
CALSCALE:GREGORIAN
METHOD:PUBLISH
X-ORIGINAL-URL:https://pickaway.com
X-WR-CALDESC:Events for Pickaway County Visitors Bureau
REFRESH-INTERVAL;VALUE=DURATION:PT1H
X-Robots-Tag:noindex
X-PUBLISHED-TTL:PT1H
BEGIN:VTIMEZONE
TZID:America/New_York
BEGIN:DAYLIGHT
TZOFFSETFROM:-0500
TZOFFSETTO:-0400
TZNAME:EDT
DTSTART:20240310T070000
END:DAYLIGHT
BEGIN:STANDARD
TZOFFSETFROM:-0400
TZOFFSETTO:-0500
TZNAME:EST
DTSTART:20241103T060000
END:STANDARD
BEGIN:DAYLIGHT
TZOFFSETFROM:-0500
TZOFFSETTO:-0400
TZNAME:EDT
DTSTART:20250309T070000
END:DAYLIGHT
BEGIN:STANDARD
TZOFFSETFROM:-0400
TZOFFSETTO:-0500
TZNAME:EST
DTSTART:20251102T060000
END:STANDARD
BEGIN:DAYLIGHT
TZOFFSETFROM:-0500
TZOFFSETTO:-0400
TZNAME:EDT
DTSTART:20260308T070000
END:DAYLIGHT
BEGIN:STANDARD
TZOFFSETFROM:-0400
TZOFFSETTO:-0500
TZNAME:EST
DTSTART:20261101T060000
END:STANDARD
END:VTIMEZONE
BEGIN:VEVENT
DTSTART;TZID=America/New_York:20250526T190000
DTEND;TZID=America/New_York:20250526T203000
DTSTAMP:20260419T163427
CREATED:20250127T134218Z
LAST-MODIFIED:20250127T134218Z
UID:10002027-1748286000-1748291400@pickaway.com
SUMMARY:Monday Night Trivia at Station House 81
DESCRIPTION:Station House 81 hosts an evening of fun and friendly competition with six engaging trivia rounds. Participants have the chance to test their knowledge and aim for a growing jackpot. \nLocated in Commercial Point at 11 Front St\, Station House 81 is a popular local restaurant renowned for its smoked barbecue specialties\, hearty sandwiches\, and delicious appetizers. Guests can enjoy great food and drinks while they play\, all in a welcoming\, community-focused atmosphere.
URL:https://pickaway.com/event/monday-night-trivia-at-station-house-81/2025-05-26/
LOCATION:Station House 81\, 11 Front Street\, Commercial Point\, 43116
CATEGORIES:Entertainment and Arts,Hobbies,Miscellaneous
ATTACH;FMTTYPE=image/jpeg:https://pickaway.com/wp-content/uploads/2024/09/Trivia-Night.jpg
ORGANIZER;CN="Two Dudes%2C One Mic":MAILTO:Colton.2D1M @gmail.com
END:VEVENT
BEGIN:VEVENT
DTSTART;TZID=America/New_York:20250531T173000
DTEND;TZID=America/New_York:20250531T203000
DTSTAMP:20260419T163427
CREATED:20241217T154017Z
LAST-MODIFIED:20241217T154017Z
UID:10001918-1748712600-1748723400@pickaway.com
SUMMARY:FAME (Fashion\, Art\, Music & Entertainment)
DESCRIPTION:The most exciting fashion show you’ll ever experience!  Join us on the red carpet as we pair up models living with disabilities with models living without disabilities as they show off the latest fashions from our local retailers.  This night of fun includes a food truck for you to purchase your dinner at\, a free Wittich’s Candy Buffet\, facepainting for the kiddos (and adults)\, a signature drink at the cash bar\, an inclusive art gallery of local artists and a live band providing music you love to dance to!\nThere is no entry fee or tickets to buy – just come out and have a great time!
URL:https://pickaway.com/event/fame-fashion-art-music-entertainment/
LOCATION:Rhoadhouse 56 at Rhoads Garden Center\, 1051 OH-56 E\, Circleville\, OH\, 45601\, United States
CATEGORIES:Entertainment and Arts,Community
ATTACH;FMTTYPE=image/jpeg:https://pickaway.com/wp-content/uploads/2024/12/DC6A0214-768x512-1.jpg
ORGANIZER;CN="Pickaway County Developmental Disabilities":MAILTO:noreply@facebookmail.com
END:VEVENT
BEGIN:VEVENT
DTSTART;TZID=America/New_York:20250531T180000
DTEND;TZID=America/New_York:20250531T230000
DTSTAMP:20260419T163427
CREATED:20250306T165336Z
LAST-MODIFIED:20250306T165349Z
UID:10002319-1748714400-1748732400@pickaway.com
SUMMARY:Boogie on the Blacktop with Rockhouse
DESCRIPTION:Kick off the Boogie on the Blacktop summer concert series with Rockhouse! Known for their high-energy performances and crowd-pleasing rock anthems\, Rockhouse will have you dancing all night long. Bring your lawn chair\, grab some delicious food from the on-site food trucks\, and enjoy an unforgettable evening of live music! \nPresented by Circleville Eagles with promotional support from Pickaway County Visitors Bureau\, Coughlin Automotive\, The Savings Bank\, and other community sponsors.
URL:https://pickaway.com/event/boogie-on-the-blacktop-with-rockhouse/
LOCATION:Circleville Eagles\, 135 E Main Street\, Circleville\, OH\, 43113\, United States
CATEGORIES:Entertainment and Arts,Community,Children and Family Fun,Miscellaneous
ATTACH;FMTTYPE=image/png:https://pickaway.com/wp-content/uploads/2025/03/Rock-Music.png
END:VEVENT
END:VCALENDAR