BEGIN:VCALENDAR
VERSION:2.0
PRODID:-//Pickaway County Visitors Bureau - ECPv6.15.20//NONSGML v1.0//EN
CALSCALE:GREGORIAN
METHOD:PUBLISH
X-WR-CALNAME:Pickaway County Visitors Bureau
X-ORIGINAL-URL:https://pickaway.com
X-WR-CALDESC:Events for Pickaway County Visitors Bureau
REFRESH-INTERVAL;VALUE=DURATION:PT1H
X-Robots-Tag:noindex
X-PUBLISHED-TTL:PT1H
BEGIN:VTIMEZONE
TZID:America/New_York
BEGIN:DAYLIGHT
TZOFFSETFROM:-0500
TZOFFSETTO:-0400
TZNAME:EDT
DTSTART:20250309T070000
END:DAYLIGHT
BEGIN:STANDARD
TZOFFSETFROM:-0400
TZOFFSETTO:-0500
TZNAME:EST
DTSTART:20251102T060000
END:STANDARD
BEGIN:DAYLIGHT
TZOFFSETFROM:-0500
TZOFFSETTO:-0400
TZNAME:EDT
DTSTART:20260308T070000
END:DAYLIGHT
BEGIN:STANDARD
TZOFFSETFROM:-0400
TZOFFSETTO:-0500
TZNAME:EST
DTSTART:20261101T060000
END:STANDARD
BEGIN:DAYLIGHT
TZOFFSETFROM:-0500
TZOFFSETTO:-0400
TZNAME:EDT
DTSTART:20270314T070000
END:DAYLIGHT
BEGIN:STANDARD
TZOFFSETFROM:-0400
TZOFFSETTO:-0500
TZNAME:EST
DTSTART:20271107T060000
END:STANDARD
END:VTIMEZONE
BEGIN:VTIMEZONE
TZID:UTC
BEGIN:STANDARD
TZOFFSETFROM:+0000
TZOFFSETTO:+0000
TZNAME:UTC
DTSTART:20250101T000000
END:STANDARD
END:VTIMEZONE
BEGIN:VEVENT
DTSTART;TZID=America/New_York:20260419T150000
DTEND;TZID=America/New_York:20260419T170000
DTSTAMP:20260419T132315
CREATED:20260217T183347Z
LAST-MODIFIED:20260217T183347Z
UID:10003294-1776610800-1776618000@pickaway.com
SUMMARY:GODSPELL
DESCRIPTION:Godspell is a musical based on the Gospel of Matthew that joyfully presents the teachings of Jesus through parables\, music\, and artistic storytelling. This production invites audiences to experience the Gospel in a refreshing and compelling light\, emphasizing discipleship\, joyful obedience\, and faith lived out in community. \nPlease note: This production reflects the spirit and storytelling style of the original stage production of Godspell and is distinct in tone and presentation from the 1973 film adaptation. \nShow will feature haze\, moving lights and some loud sound effects.
URL:https://pickaway.com/event/godspell/2026-04-19/
LOCATION:Ohio Christian University\, 1476 Lancaster Pike\, Circleville\, OH\, 43113\, United States
CATEGORIES:Entertainment and Arts
ATTACH;FMTTYPE=image/webp:https://pickaway.com/wp-content/uploads/2026/02/event_header-1-scaled-e1771353135701.webp
END:VEVENT
BEGIN:VEVENT
DTSTART;VALUE=DATE:20260424
DTEND;VALUE=DATE:20260425
DTSTAMP:20260419T132315
CREATED:20260309T142405Z
LAST-MODIFIED:20260309T142405Z
UID:10003564-1776988800-1777075199@pickaway.com
SUMMARY:Best of Pickaway County High Schools Art Show
DESCRIPTION:ArtsaRound Gallery invites the community to experience the creativity of local student artists during the annual Best of Pickaway County High Schools Art Show throughout the month of April. The exhibition features artwork from students representing Teays Valley\, New Hope\, Westfall\, Circleville\, and Logan Elm High Schools\, with pieces judged in multiple categories and a Best of Show award presented. \nVisitors can also participate by voting for their favorite school during the show. Each vote helps determine which school takes home the traveling trophy\, while funds raised help support the exhibition and student awards. \nStop by the gallery during open hours in April to celebrate the talent of Pickaway County’s next generation of artists.
URL:https://pickaway.com/event/best-of-pickaway-county-high-schools-art-show/2026-04-24/
LOCATION:ArtsaRound Gallery\, 135 W Main St\, Circleville\, 43113
CATEGORIES:Entertainment and Arts,Community,Hobbies,Children and Family Fun
ATTACH;FMTTYPE=image/png:https://pickaway.com/wp-content/uploads/2024/04/Untitled-design-2024-04-01T153704.567.png
END:VEVENT
BEGIN:VEVENT
DTSTART;VALUE=DATE:20260425
DTEND;VALUE=DATE:20260426
DTSTAMP:20260419T132315
CREATED:20260309T142405Z
LAST-MODIFIED:20260309T142405Z
UID:10003565-1777075200-1777161599@pickaway.com
SUMMARY:Best of Pickaway County High Schools Art Show
DESCRIPTION:ArtsaRound Gallery invites the community to experience the creativity of local student artists during the annual Best of Pickaway County High Schools Art Show throughout the month of April. The exhibition features artwork from students representing Teays Valley\, New Hope\, Westfall\, Circleville\, and Logan Elm High Schools\, with pieces judged in multiple categories and a Best of Show award presented. \nVisitors can also participate by voting for their favorite school during the show. Each vote helps determine which school takes home the traveling trophy\, while funds raised help support the exhibition and student awards. \nStop by the gallery during open hours in April to celebrate the talent of Pickaway County’s next generation of artists.
URL:https://pickaway.com/event/best-of-pickaway-county-high-schools-art-show/2026-04-25/
LOCATION:ArtsaRound Gallery\, 135 W Main St\, Circleville\, 43113
CATEGORIES:Entertainment and Arts,Community,Hobbies,Children and Family Fun
ATTACH;FMTTYPE=image/png:https://pickaway.com/wp-content/uploads/2024/04/Untitled-design-2024-04-01T153704.567.png
END:VEVENT
BEGIN:VEVENT
DTSTART;TZID=UTC:20260425T100000
DTEND;TZID=UTC:20260425T180000
DTSTAMP:20260419T132315
CREATED:20260211T152037Z
LAST-MODIFIED:20260330T194616Z
UID:10003275-1777111200-1777140000@pickaway.com
SUMMARY:Ashville Viking Festival
DESCRIPTION:Embark on a thrilling journey back in time at the Ashville Ohio Viking Festival\, where history comes alive with a weekend filled with excitement\, feasting\, and family-friendly fun! Immerse yourself in the rich Viking culture through an array of engaging activities and experiences that cater to all ages. \nEntertainment for All Ages: Witness breathtaking performances by skilled reenactors who bring the Viking era to life through captivating displays of combat\, traditional dances\, and mesmerizing storytelling. The festival promises a day of non-stop entertainment that will transport you to a world of Norse legends and sagas. \nFeast Like a Viking: Satisfy your appetite with a delectable array of Viking-inspired feasts! Indulge in hearty meals reminiscent of the Norse traditions\, offering a taste of authentic flavors that will leave you craving for more. Feast like a Viking and experience the joy of communal dining with friends and family. \n️ Saxon Market Shopping: Explore the bustling Saxon Market\, where vendors showcase a diverse range of themed merchandise\, handmade crafts\, and unique treasures. From Viking apparel to handmade crafts\, you’ll find the perfect souvenir to commemorate your Viking adventure. \n‍‍‍ Family-Friendly Activities: The Ashville Viking Festival is a family affair! Engage in a variety of family-friendly activities\, including hands-on crafts\, games\, and interactive demonstrations. Let the little ones discover the wonders of Viking history in a fun and educational environment. \nImmerse Yourself in History: Delve into the fascinating world of Viking history with informative exhibits and interactive displays. Learn about the daily life\, customs\, and traditions of these legendary seafarers\, and gain a deeper understanding of their impact on history. \nDon’t miss out on this unforgettable experience at the Ashville Viking Festival – a perfect blend of history\, entertainment\, and family fun! Join us for a day of merriment\, laughter\, and a celebration of the Viking spirit. Skål! \n 
URL:https://pickaway.com/event/ashville-viking-festival-3/2026-04-25/
LOCATION:Ashville Community Park\, 165 Walnut St\, Ashville\, OH\, 43103\, United States
CATEGORIES:Entertainment and Arts,Festivals and Special Events,Community
ATTACH;FMTTYPE=image/jpeg:https://pickaway.com/wp-content/uploads/2024/01/Viking_Fest_2023-21-scaled.jpg
ORGANIZER;CN="Ashville Viking Festival":MAILTO:noreply@facebookmail.com
END:VEVENT
BEGIN:VEVENT
DTSTART;TZID=UTC:20260426T100000
DTEND;TZID=UTC:20260426T170000
DTSTAMP:20260419T132315
CREATED:20260211T152037Z
LAST-MODIFIED:20260330T194616Z
UID:10003276-1777197600-1777222800@pickaway.com
SUMMARY:Ashville Viking Festival
DESCRIPTION:Embark on a thrilling journey back in time at the Ashville Ohio Viking Festival\, where history comes alive with a weekend filled with excitement\, feasting\, and family-friendly fun! Immerse yourself in the rich Viking culture through an array of engaging activities and experiences that cater to all ages. \nEntertainment for All Ages: Witness breathtaking performances by skilled reenactors who bring the Viking era to life through captivating displays of combat\, traditional dances\, and mesmerizing storytelling. The festival promises a day of non-stop entertainment that will transport you to a world of Norse legends and sagas. \nFeast Like a Viking: Satisfy your appetite with a delectable array of Viking-inspired feasts! Indulge in hearty meals reminiscent of the Norse traditions\, offering a taste of authentic flavors that will leave you craving for more. Feast like a Viking and experience the joy of communal dining with friends and family. \n️ Saxon Market Shopping: Explore the bustling Saxon Market\, where vendors showcase a diverse range of themed merchandise\, handmade crafts\, and unique treasures. From Viking apparel to handmade crafts\, you’ll find the perfect souvenir to commemorate your Viking adventure. \n‍‍‍ Family-Friendly Activities: The Ashville Viking Festival is a family affair! Engage in a variety of family-friendly activities\, including hands-on crafts\, games\, and interactive demonstrations. Let the little ones discover the wonders of Viking history in a fun and educational environment. \nImmerse Yourself in History: Delve into the fascinating world of Viking history with informative exhibits and interactive displays. Learn about the daily life\, customs\, and traditions of these legendary seafarers\, and gain a deeper understanding of their impact on history. \nDon’t miss out on this unforgettable experience at the Ashville Viking Festival – a perfect blend of history\, entertainment\, and family fun! Join us for a day of merriment\, laughter\, and a celebration of the Viking spirit. Skål! \n 
URL:https://pickaway.com/event/ashville-viking-festival-3/2026-04-26/
LOCATION:Ashville Community Park\, 165 Walnut St\, Ashville\, OH\, 43103\, United States
CATEGORIES:Entertainment and Arts,Festivals and Special Events,Community
ATTACH;FMTTYPE=image/jpeg:https://pickaway.com/wp-content/uploads/2024/01/Viking_Fest_2023-21-scaled.jpg
ORGANIZER;CN="Ashville Viking Festival":MAILTO:noreply@facebookmail.com
END:VEVENT
BEGIN:VEVENT
DTSTART;TZID=America/New_York:20260503T140000
DTEND;TZID=America/New_York:20260503T170000
DTSTAMP:20260419T132315
CREATED:20251029T155308Z
LAST-MODIFIED:20251124T165953Z
UID:10002945-1777816800-1777827600@pickaway.com
SUMMARY:The Ted Lewis Museum Victory Dance
DESCRIPTION:Celebrate America’s 250th birthday with a spirited 1940s Victory Dance presented by the Ted Lewis Museum. Step back into the fabulous forties as Joseph Rubin and His Orchestra recreate the iconic sound of Benny Goodman and His Orchestra. \nThe afternoon features special guest drummer Russ Wilson and the glamorous vocals of Heidi Swinford. Enjoy timeless big band favorites like “In the Mood\,” “Sing\, Sing\, Sing\,” “And the Angels Sing\,” “String of Pearls\,” and many more. \nBenny Goodman began in show business at age 12 imitating Ted Lewis in amateur contests and later recorded with the Ted Lewis Band in the late 1920s—even performing Ted’s theme song during his legendary 1938 Carnegie Hall Jazz Concert. There’s no better band to honor during this musical salute to America’s past. \nGuests are encouraged to dress in their vintage best and enjoy an afternoon of dancing\, nostalgia\, and patriotic celebration. \n 
URL:https://pickaway.com/event/wwii-victory-dance/
LOCATION:Logan Elm High School\, 9511 Tarlton Rd\, Circleville\, OH\, 43113\, United States
CATEGORIES:America 250,Entertainment and Arts,Children and Family Fun
ATTACH;FMTTYPE=image/jpeg:https://pickaway.com/wp-content/uploads/2022/04/american-flag-etiquette-1558469527.jpg
END:VEVENT
BEGIN:VEVENT
DTSTART;TZID=America/New_York:20260509T190000
DTEND;TZID=America/New_York:20260509T190000
DTSTAMP:20260419T132315
CREATED:20260415T160911Z
LAST-MODIFIED:20260415T160911Z
UID:10003718-1778353200-1778353200@pickaway.com
SUMMARY:That Big Spring Show: Celebrating America 250 and… Mom!
DESCRIPTION:Enjoy an evening of barbershop harmony at the Circleville Men’s Barbershop Chorus annual spring show. “That Big Spring Show” celebrates America 250 with a special nod to Mother’s Day\, featuring a lively mix of classic barbershop music and patriotic favorites. \nThe evening includes a featured performance by special guest quartet The Core\, representing the Buckeye Columbus Chapter of the Barbershop Harmony Society. Known for their strong harmonies and competitive success\, The Core brings high-energy entertainment to the stage. \nTickets available online or at the door\, as well as at DeLong Insurance Agency in Circleville. Kids 12 and under admitted free.
URL:https://pickaway.com/event/that-big-spring-show-celebrating-america-250-and-mom/
LOCATION:Ohio Christian University Ministry & Performing Arts Center\, 1476 Lancaster Pike\, Circleville\, OH\, 43113\, United States
CATEGORIES:America 250,Entertainment and Arts,Festivals and Special Events,Community
ATTACH;FMTTYPE=image/png:https://pickaway.com/wp-content/uploads/2026/04/Untitled-design-27.png
END:VEVENT
BEGIN:VEVENT
DTSTART;TZID=America/New_York:20260530T190000
DTEND;TZID=America/New_York:20260530T230000
DTSTAMP:20260419T132315
CREATED:20251230T160806Z
LAST-MODIFIED:20251230T160806Z
UID:10003152-1780167600-1780182000@pickaway.com
SUMMARY:Boogie on the Blacktop
DESCRIPTION:Boogie on the Blacktop is a seasonal outdoor concert series in downtown Circleville\, Ohio\, bringing live music\, community\, and summer nights together. Presented by the Circleville Eagles #685\, the series features a rotating lineup of bands and a relaxed\, welcoming atmosphere for all ages. \nConcerts take place on select Fridays from May through September. Gates open at 6:00 PM\, with live music from 7:00 PM to 11:00 PM. Guests are encouraged to bring a lawn chair and enjoy an evening of live entertainment in the heart of Pickaway County. \n2026 Boogie on the Blacktop Lineup\n\n\nMay 30\, 2026 – Rockhouse \n\n\nJune 27\, 2026 – Trailer Park Boys \n\n\nJuly 18\, 2026 – Dan Orr Project \n\n\nAugust 29\, 2026 – Radio City \n\n\nSeptember 26\, 2026 – Gypsy Kyngs \n\n\nAdmission is $5 per person\, children under 11 are free\, and all events are open to the public. Guests 17 and under must be accompanied by an adult. No outside food or drink is permitted.
URL:https://pickaway.com/event/boogie-on-the-blacktop/2026-05-30/
LOCATION:Circleville Eagles\, 135 E Main Street\, Circleville\, OH\, 43113\, United States
CATEGORIES:Entertainment and Arts,Community
ATTACH;FMTTYPE=image/png:https://pickaway.com/wp-content/uploads/2025/03/Rock-Music.png
END:VEVENT
BEGIN:VEVENT
DTSTART;TZID=America/New_York:20260613T170000
DTEND;TZID=America/New_York:20260613T200000
DTSTAMP:20260419T132315
CREATED:20260311T145253Z
LAST-MODIFIED:20260311T145253Z
UID:10003578-1781370000-1781380800@pickaway.com
SUMMARY:Summer Coffee Flights
DESCRIPTION: JoyHouse Summer Coffee Flights! \nJoin us this summer at JoyHouse Coffee for a relaxed evening of great coffee\, community\, and connection. Our Summer Coffee Flights are the perfect way to slow down\, enjoy the season\, and try something new. \n\nJune 13\, July 25\, August 22\, September 19. 5pm-8pm\n\nEach event will feature themed iced coffee flight drinks crafted just for the night—fun seasonal flavors served in a tasting flight so you can experience a variety of unique creations. \nBring your friends\, bring your family\, and come enjoy: \n\nLive music from local artists\nFood truck with great eats\nSpecialty themed coffee flights\nOutdoor seating to enjoy the summer evening\nFamily-friendly atmosphere\n\nWhether you’re a coffee enthusiast or just looking for a great place to gather\, this is a great chance to enjoy the JoyHouse community.
URL:https://pickaway.com/event/summer-coffee-flights/2026-06-13/
LOCATION:JoyHouse Coffee\, 202 North Pickaway Street\, Circleville\, OH\, 43113\, United States
CATEGORIES:Outdoor,Family Friendly,Entertainment and Arts,Community,Miscellaneous
ATTACH;FMTTYPE=image/jpeg:https://pickaway.com/wp-content/uploads/2026/03/Summer.jpg
END:VEVENT
BEGIN:VEVENT
DTSTART;TZID=America/New_York:20260627T190000
DTEND;TZID=America/New_York:20260627T230000
DTSTAMP:20260419T132315
CREATED:20251230T160806Z
LAST-MODIFIED:20251230T160806Z
UID:10003153-1782586800-1782601200@pickaway.com
SUMMARY:Boogie on the Blacktop
DESCRIPTION:Boogie on the Blacktop is a seasonal outdoor concert series in downtown Circleville\, Ohio\, bringing live music\, community\, and summer nights together. Presented by the Circleville Eagles #685\, the series features a rotating lineup of bands and a relaxed\, welcoming atmosphere for all ages. \nConcerts take place on select Fridays from May through September. Gates open at 6:00 PM\, with live music from 7:00 PM to 11:00 PM. Guests are encouraged to bring a lawn chair and enjoy an evening of live entertainment in the heart of Pickaway County. \n2026 Boogie on the Blacktop Lineup\n\n\nMay 30\, 2026 – Rockhouse \n\n\nJune 27\, 2026 – Trailer Park Boys \n\n\nJuly 18\, 2026 – Dan Orr Project \n\n\nAugust 29\, 2026 – Radio City \n\n\nSeptember 26\, 2026 – Gypsy Kyngs \n\n\nAdmission is $5 per person\, children under 11 are free\, and all events are open to the public. Guests 17 and under must be accompanied by an adult. No outside food or drink is permitted.
URL:https://pickaway.com/event/boogie-on-the-blacktop/2026-06-27/
LOCATION:Circleville Eagles\, 135 E Main Street\, Circleville\, OH\, 43113\, United States
CATEGORIES:Entertainment and Arts,Community
ATTACH;FMTTYPE=image/png:https://pickaway.com/wp-content/uploads/2025/03/Rock-Music.png
END:VEVENT
BEGIN:VEVENT
DTSTART;TZID=America/New_York:20260718T190000
DTEND;TZID=America/New_York:20260718T230000
DTSTAMP:20260419T132315
CREATED:20251230T160806Z
LAST-MODIFIED:20251230T160806Z
UID:10003154-1784401200-1784415600@pickaway.com
SUMMARY:Boogie on the Blacktop
DESCRIPTION:Boogie on the Blacktop is a seasonal outdoor concert series in downtown Circleville\, Ohio\, bringing live music\, community\, and summer nights together. Presented by the Circleville Eagles #685\, the series features a rotating lineup of bands and a relaxed\, welcoming atmosphere for all ages. \nConcerts take place on select Fridays from May through September. Gates open at 6:00 PM\, with live music from 7:00 PM to 11:00 PM. Guests are encouraged to bring a lawn chair and enjoy an evening of live entertainment in the heart of Pickaway County. \n2026 Boogie on the Blacktop Lineup\n\n\nMay 30\, 2026 – Rockhouse \n\n\nJune 27\, 2026 – Trailer Park Boys \n\n\nJuly 18\, 2026 – Dan Orr Project \n\n\nAugust 29\, 2026 – Radio City \n\n\nSeptember 26\, 2026 – Gypsy Kyngs \n\n\nAdmission is $5 per person\, children under 11 are free\, and all events are open to the public. Guests 17 and under must be accompanied by an adult. No outside food or drink is permitted.
URL:https://pickaway.com/event/boogie-on-the-blacktop/2026-07-18/
LOCATION:Circleville Eagles\, 135 E Main Street\, Circleville\, OH\, 43113\, United States
CATEGORIES:Entertainment and Arts,Community
ATTACH;FMTTYPE=image/png:https://pickaway.com/wp-content/uploads/2025/03/Rock-Music.png
END:VEVENT
BEGIN:VEVENT
DTSTART;VALUE=DATE:20260725
DTEND;VALUE=DATE:20260726
DTSTAMP:20260419T132315
CREATED:20251007T165640Z
LAST-MODIFIED:20251007T165640Z
UID:10002898-1784937600-1785023999@pickaway.com
SUMMARY:7 Mile Bluegrass Festival
DESCRIPTION:Save the date for the return of the 7 Mile Bluegrass Festival! \n 
URL:https://pickaway.com/event/7-mile-bluegrass-festival-3/
LOCATION:Pickaway Agriculture and Event Center\, 415 Lancaster Pike\, Circleville\, OH\, 43113\, United States
CATEGORIES:Entertainment and Arts,Festivals and Special Events,Community
ATTACH;FMTTYPE=image/png:https://pickaway.com/wp-content/uploads/2024/02/Untitled-design-2024-02-14T102026.770.png
END:VEVENT
BEGIN:VEVENT
DTSTART;TZID=America/New_York:20260725T170000
DTEND;TZID=America/New_York:20260725T200000
DTSTAMP:20260419T132315
CREATED:20260311T145253Z
LAST-MODIFIED:20260311T145253Z
UID:10003579-1784998800-1785009600@pickaway.com
SUMMARY:Summer Coffee Flights
DESCRIPTION: JoyHouse Summer Coffee Flights! \nJoin us this summer at JoyHouse Coffee for a relaxed evening of great coffee\, community\, and connection. Our Summer Coffee Flights are the perfect way to slow down\, enjoy the season\, and try something new. \n\nJune 13\, July 25\, August 22\, September 19. 5pm-8pm\n\nEach event will feature themed iced coffee flight drinks crafted just for the night—fun seasonal flavors served in a tasting flight so you can experience a variety of unique creations. \nBring your friends\, bring your family\, and come enjoy: \n\nLive music from local artists\nFood truck with great eats\nSpecialty themed coffee flights\nOutdoor seating to enjoy the summer evening\nFamily-friendly atmosphere\n\nWhether you’re a coffee enthusiast or just looking for a great place to gather\, this is a great chance to enjoy the JoyHouse community.
URL:https://pickaway.com/event/summer-coffee-flights/2026-07-25/
LOCATION:JoyHouse Coffee\, 202 North Pickaway Street\, Circleville\, OH\, 43113\, United States
CATEGORIES:Outdoor,Family Friendly,Entertainment and Arts,Community,Miscellaneous
ATTACH;FMTTYPE=image/jpeg:https://pickaway.com/wp-content/uploads/2026/03/Summer.jpg
END:VEVENT
BEGIN:VEVENT
DTSTART;VALUE=DATE:20260731
DTEND;VALUE=DATE:20260802
DTSTAMP:20260419T132315
CREATED:20260213T143202Z
LAST-MODIFIED:20260213T143202Z
UID:10003287-1785456000-1785628799@pickaway.com
SUMMARY:Stained Pumpkin Tattoo Convention and Market
DESCRIPTION:Circleville is making history with its first-ever tattoo convention\, hosted by Oblivion Ink and artist Ahneka Campbell. This exciting new event celebrates the talented tattoo artists of Circleville while welcoming visiting artists and creatives to share their craft with the community. \nGuests can experience live tattooing\, connect with artists\, explore a wide range of artistic styles\, and witness the creativity that continues to shape Circleville’s growing arts scene. Whether you’re a tattoo enthusiast\, an art supporter\, or simply curious\, this event offers an opportunity to experience a vibrant form of artistic expression up close. \nIn addition to tattoo artists\, the convention will feature shopping vendors and food trucks\, making it a full-day experience. Come hungry\, browse unique merchandise\, and support small businesses while celebrating the art and culture happening right here in Pickaway County.
URL:https://pickaway.com/event/stained-pumpkin-tattoo-convention-and-market/
LOCATION:Pickaway Agriculture and Event Center\, 415 Lancaster Pike\, Circleville\, OH\, 43113\, United States
CATEGORIES:Entertainment and Arts,Hobbies
ATTACH;FMTTYPE=image/jpeg:https://pickaway.com/wp-content/uploads/2026/02/633478213_122094353103272733_9086465805048519257_n-1-e1770993037617.jpg
END:VEVENT
BEGIN:VEVENT
DTSTART;TZID=America/New_York:20260808T130000
DTEND;TZID=America/New_York:20260808T230000
DTSTAMP:20260419T132315
CREATED:20260319T142835Z
LAST-MODIFIED:20260319T142835Z
UID:10003621-1786194000-1786230000@pickaway.com
SUMMARY:Commercial Point Car Show & Concert
DESCRIPTION:Enjoy a full day of classic cars and live music at the Commercial Point Car Show and Concert. A must-visit summer event in Pickaway County.
URL:https://pickaway.com/event/commercial-point-car-show-concert/
LOCATION:10 West Scioto St. Commercial Point\, 10 West Scioto Street\, Commercial Point\, 43116\, United States
CATEGORIES:Entertainment and Arts,Hobbies,Children and Family Fun
ATTACH;FMTTYPE=image/jpeg:https://pickaway.com/wp-content/uploads/2022/07/Car-Show.jpg
END:VEVENT
BEGIN:VEVENT
DTSTART;TZID=America/New_York:20260822T170000
DTEND;TZID=America/New_York:20260822T200000
DTSTAMP:20260419T132315
CREATED:20260311T145253Z
LAST-MODIFIED:20260311T145253Z
UID:10003580-1787418000-1787428800@pickaway.com
SUMMARY:Summer Coffee Flights
DESCRIPTION: JoyHouse Summer Coffee Flights! \nJoin us this summer at JoyHouse Coffee for a relaxed evening of great coffee\, community\, and connection. Our Summer Coffee Flights are the perfect way to slow down\, enjoy the season\, and try something new. \n\nJune 13\, July 25\, August 22\, September 19. 5pm-8pm\n\nEach event will feature themed iced coffee flight drinks crafted just for the night—fun seasonal flavors served in a tasting flight so you can experience a variety of unique creations. \nBring your friends\, bring your family\, and come enjoy: \n\nLive music from local artists\nFood truck with great eats\nSpecialty themed coffee flights\nOutdoor seating to enjoy the summer evening\nFamily-friendly atmosphere\n\nWhether you’re a coffee enthusiast or just looking for a great place to gather\, this is a great chance to enjoy the JoyHouse community.
URL:https://pickaway.com/event/summer-coffee-flights/2026-08-22/
LOCATION:JoyHouse Coffee\, 202 North Pickaway Street\, Circleville\, OH\, 43113\, United States
CATEGORIES:Outdoor,Family Friendly,Entertainment and Arts,Community,Miscellaneous
ATTACH;FMTTYPE=image/jpeg:https://pickaway.com/wp-content/uploads/2026/03/Summer.jpg
END:VEVENT
BEGIN:VEVENT
DTSTART;TZID=America/New_York:20260829T190000
DTEND;TZID=America/New_York:20260829T230000
DTSTAMP:20260419T132315
CREATED:20251230T160806Z
LAST-MODIFIED:20251230T160806Z
UID:10003155-1788030000-1788044400@pickaway.com
SUMMARY:Boogie on the Blacktop
DESCRIPTION:Boogie on the Blacktop is a seasonal outdoor concert series in downtown Circleville\, Ohio\, bringing live music\, community\, and summer nights together. Presented by the Circleville Eagles #685\, the series features a rotating lineup of bands and a relaxed\, welcoming atmosphere for all ages. \nConcerts take place on select Fridays from May through September. Gates open at 6:00 PM\, with live music from 7:00 PM to 11:00 PM. Guests are encouraged to bring a lawn chair and enjoy an evening of live entertainment in the heart of Pickaway County. \n2026 Boogie on the Blacktop Lineup\n\n\nMay 30\, 2026 – Rockhouse \n\n\nJune 27\, 2026 – Trailer Park Boys \n\n\nJuly 18\, 2026 – Dan Orr Project \n\n\nAugust 29\, 2026 – Radio City \n\n\nSeptember 26\, 2026 – Gypsy Kyngs \n\n\nAdmission is $5 per person\, children under 11 are free\, and all events are open to the public. Guests 17 and under must be accompanied by an adult. No outside food or drink is permitted.
URL:https://pickaway.com/event/boogie-on-the-blacktop/2026-08-29/
LOCATION:Circleville Eagles\, 135 E Main Street\, Circleville\, OH\, 43113\, United States
CATEGORIES:Entertainment and Arts,Community
ATTACH;FMTTYPE=image/png:https://pickaway.com/wp-content/uploads/2025/03/Rock-Music.png
END:VEVENT
BEGIN:VEVENT
DTSTART;TZID=America/New_York:20260919T170000
DTEND;TZID=America/New_York:20260919T200000
DTSTAMP:20260419T132315
CREATED:20260311T145253Z
LAST-MODIFIED:20260311T145253Z
UID:10003581-1789837200-1789848000@pickaway.com
SUMMARY:Summer Coffee Flights
DESCRIPTION: JoyHouse Summer Coffee Flights! \nJoin us this summer at JoyHouse Coffee for a relaxed evening of great coffee\, community\, and connection. Our Summer Coffee Flights are the perfect way to slow down\, enjoy the season\, and try something new. \n\nJune 13\, July 25\, August 22\, September 19. 5pm-8pm\n\nEach event will feature themed iced coffee flight drinks crafted just for the night—fun seasonal flavors served in a tasting flight so you can experience a variety of unique creations. \nBring your friends\, bring your family\, and come enjoy: \n\nLive music from local artists\nFood truck with great eats\nSpecialty themed coffee flights\nOutdoor seating to enjoy the summer evening\nFamily-friendly atmosphere\n\nWhether you’re a coffee enthusiast or just looking for a great place to gather\, this is a great chance to enjoy the JoyHouse community.
URL:https://pickaway.com/event/summer-coffee-flights/2026-09-19/
LOCATION:JoyHouse Coffee\, 202 North Pickaway Street\, Circleville\, OH\, 43113\, United States
CATEGORIES:Outdoor,Family Friendly,Entertainment and Arts,Community,Miscellaneous
ATTACH;FMTTYPE=image/jpeg:https://pickaway.com/wp-content/uploads/2026/03/Summer.jpg
END:VEVENT
END:VCALENDAR