BEGIN:VCALENDAR
VERSION:2.0
PRODID:-//Pickaway County Visitors Bureau - ECPv6.15.20//NONSGML v1.0//EN
CALSCALE:GREGORIAN
METHOD:PUBLISH
X-WR-CALNAME:Pickaway County Visitors Bureau
X-ORIGINAL-URL:https://pickaway.com
X-WR-CALDESC:Events for Pickaway County Visitors Bureau
REFRESH-INTERVAL;VALUE=DURATION:PT1H
X-Robots-Tag:noindex
X-PUBLISHED-TTL:PT1H
BEGIN:VTIMEZONE
TZID:America/New_York
BEGIN:DAYLIGHT
TZOFFSETFROM:-0500
TZOFFSETTO:-0400
TZNAME:EDT
DTSTART:20240310T070000
END:DAYLIGHT
BEGIN:STANDARD
TZOFFSETFROM:-0400
TZOFFSETTO:-0500
TZNAME:EST
DTSTART:20241103T060000
END:STANDARD
BEGIN:DAYLIGHT
TZOFFSETFROM:-0500
TZOFFSETTO:-0400
TZNAME:EDT
DTSTART:20250309T070000
END:DAYLIGHT
BEGIN:STANDARD
TZOFFSETFROM:-0400
TZOFFSETTO:-0500
TZNAME:EST
DTSTART:20251102T060000
END:STANDARD
BEGIN:DAYLIGHT
TZOFFSETFROM:-0500
TZOFFSETTO:-0400
TZNAME:EDT
DTSTART:20260308T070000
END:DAYLIGHT
BEGIN:STANDARD
TZOFFSETFROM:-0400
TZOFFSETTO:-0500
TZNAME:EST
DTSTART:20261101T060000
END:STANDARD
END:VTIMEZONE
BEGIN:VEVENT
DTSTART;TZID=America/New_York:20250720T190000
DTEND;TZID=America/New_York:20250720T190000
DTSTAMP:20260419T125659
CREATED:20250715T150808Z
LAST-MODIFIED:20250715T160539Z
UID:10002702-1753038000-1753038000@pickaway.com
SUMMARY:Fayette Community Band in Concert
DESCRIPTION:Join the Fayette Community Band for an evening of Americana music on the Community Square! Enjoy a wide range of tunes—from the Beach Boys to patriotic favorites. \nBring a blanket or lawn chair and relax with family and friends as we celebrate summer and great music. \nAdmission is free; a free will offering will be accepted. \nDon’t miss this special community concert—see you there!
URL:https://pickaway.com/event/fayette-community-band-in-concert/
LOCATION:Williamsport Community Square\, 123 N School St\, Williamsport\, OH\, 43164\, United States
CATEGORIES:Entertainment and Arts,Community,Miscellaneous
ATTACH;FMTTYPE=image/jpeg:https://pickaway.com/wp-content/uploads/2022/01/depositphotos_78906950-stock-illustration-music-notes-background.jpg
END:VEVENT
END:VCALENDAR