BEGIN:VCALENDAR
VERSION:2.0
PRODID:-//Pickaway County Visitors Bureau - ECPv6.15.20//NONSGML v1.0//EN
CALSCALE:GREGORIAN
METHOD:PUBLISH
X-ORIGINAL-URL:https://pickaway.com
X-WR-CALDESC:Events for Pickaway County Visitors Bureau
REFRESH-INTERVAL;VALUE=DURATION:PT1H
X-Robots-Tag:noindex
X-PUBLISHED-TTL:PT1H
BEGIN:VTIMEZONE
TZID:America/New_York
BEGIN:DAYLIGHT
TZOFFSETFROM:-0500
TZOFFSETTO:-0400
TZNAME:EDT
DTSTART:20240310T070000
END:DAYLIGHT
BEGIN:STANDARD
TZOFFSETFROM:-0400
TZOFFSETTO:-0500
TZNAME:EST
DTSTART:20241103T060000
END:STANDARD
BEGIN:DAYLIGHT
TZOFFSETFROM:-0500
TZOFFSETTO:-0400
TZNAME:EDT
DTSTART:20250309T070000
END:DAYLIGHT
BEGIN:STANDARD
TZOFFSETFROM:-0400
TZOFFSETTO:-0500
TZNAME:EST
DTSTART:20251102T060000
END:STANDARD
BEGIN:DAYLIGHT
TZOFFSETFROM:-0500
TZOFFSETTO:-0400
TZNAME:EDT
DTSTART:20260308T070000
END:DAYLIGHT
BEGIN:STANDARD
TZOFFSETFROM:-0400
TZOFFSETTO:-0500
TZNAME:EST
DTSTART:20261101T060000
END:STANDARD
END:VTIMEZONE
BEGIN:VEVENT
DTSTART;VALUE=DATE:20250630
DTEND;VALUE=DATE:20250705
DTSTAMP:20260419T105506
CREATED:20241217T190210Z
LAST-MODIFIED:20241217T190739Z
UID:10001921-1751241600-1751673599@pickaway.com
SUMMARY:Ashville 4th of July Celebration
DESCRIPTION:Family-Friendly\, Patriotic\, and Fun: Ashville’s 4th of July Celebration!\n\n\n\nJoin us from June 30 to July 4 for a five-day celebration of America’s independence in Ashville. The family-friendly event will feature live music\, delicious food\, and exciting activities for all ages. Get ready to see the sky light up with a stunning fireworks display on the Fourth of July. Don’t miss out on the fun this summer – come celebrate with us in Ashville!
URL:https://pickaway.com/event/ashville-4th-of-july-celebration-2-2/
LOCATION:Ashville Community Park\, 165 Walnut St\, Ashville\, OH\, 43103\, United States
CATEGORIES:Entertainment and Arts,Festivals and Special Events,Community,Children and Family Fun
ATTACH;FMTTYPE=image/png:https://pickaway.com/wp-content/uploads/2024/12/Untitled-design-8.png
END:VEVENT
BEGIN:VEVENT
DTSTART;TZID=America/New_York:20250704T170000
DTEND;TZID=America/New_York:20250704T200000
DTSTAMP:20260419T105506
CREATED:20250205T212532Z
LAST-MODIFIED:20250403T150521Z
UID:10002113-1751648400-1751659200@pickaway.com
SUMMARY:Uptown Circleville First Fridays
DESCRIPTION:Rev up your evening with the Roundtown Cruisers Cruise-In\, where classic cars and custom rides line the streets for an unforgettable night of automotive nostalgia! While you’re here\, shop our amazing local businesses—many staying open late just for you! \nEnjoy Circleville DORA all day as you stroll through Uptown\, sipping your favorite beverages from participating establishments. \nMake it a night of community\, cars\, and good vibes in the heart of Circleville! \nFirst Fridays are sponsored by DeLong Insurance\, Homeland Credit Union\, and Uptown Circleville.
URL:https://pickaway.com/event/uptown-circleville-first-fridays-5/2025-07-04/
LOCATION:122 N Court St\, 122 North Court Street\, Circleville\, OH\, 43113\, United States
CATEGORIES:Entertainment and Arts,Community,Hobbies
ATTACH;FMTTYPE=image/png:https://pickaway.com/wp-content/uploads/2023/04/My-project-1-92.png
END:VEVENT
BEGIN:VEVENT
DTSTART;TZID=America/New_York:20250705T190000
DTEND;TZID=America/New_York:20250705T210000
DTSTAMP:20260419T105506
CREATED:20250617T200945Z
LAST-MODIFIED:20250617T200945Z
UID:10002647-1751742000-1751749200@pickaway.com
SUMMARY:Manchester Hill Presents Paul Blankenship
DESCRIPTION:Enjoy live music at Manchester Hill Winery from 7:00 PM–9:00 PM with handcrafted wines and ciders. Plus\, enjoy pizza and barbecue on Friday and Saturday evenings throughout the summer!
URL:https://pickaway.com/event/manchester-hill-presents-paul-blankenship-2/
LOCATION:Manchester Hill Winery\, 13160 Tarlton Road\, Circleville\, OH\, 43113\, United States
CATEGORIES:Entertainment and Arts
ATTACH;FMTTYPE=image/png:https://pickaway.com/wp-content/uploads/2025/06/Copy-of-Discover-Pickaway.png
END:VEVENT
BEGIN:VEVENT
DTSTART;TZID=America/New_York:20250707T190000
DTEND;TZID=America/New_York:20250707T203000
DTSTAMP:20260419T105506
CREATED:20250127T134218Z
LAST-MODIFIED:20250127T134218Z
UID:10002033-1751914800-1751920200@pickaway.com
SUMMARY:Monday Night Trivia at Station House 81
DESCRIPTION:Station House 81 hosts an evening of fun and friendly competition with six engaging trivia rounds. Participants have the chance to test their knowledge and aim for a growing jackpot. \nLocated in Commercial Point at 11 Front St\, Station House 81 is a popular local restaurant renowned for its smoked barbecue specialties\, hearty sandwiches\, and delicious appetizers. Guests can enjoy great food and drinks while they play\, all in a welcoming\, community-focused atmosphere.
URL:https://pickaway.com/event/monday-night-trivia-at-station-house-81/2025-07-07/
LOCATION:Station House 81\, 11 Front Street\, Commercial Point\, 43116
CATEGORIES:Entertainment and Arts,Hobbies,Miscellaneous
ATTACH;FMTTYPE=image/jpeg:https://pickaway.com/wp-content/uploads/2024/09/Trivia-Night.jpg
ORGANIZER;CN="Two Dudes%2C One Mic":MAILTO:Colton.2D1M @gmail.com
END:VEVENT
BEGIN:VEVENT
DTSTART;TZID=America/New_York:20250712T080000
DTEND;TZID=America/New_York:20250712T120000
DTSTAMP:20260419T105506
CREATED:20250303T144947Z
LAST-MODIFIED:20250303T145434Z
UID:10002245-1752307200-1752321600@pickaway.com
SUMMARY:Petals in Focus\, A Flower Photography Contest
DESCRIPTION:Darby Creek Fields and Flowers invites you to immerse yourself in the beauty of agritourism with Petals in Focus\, a flower photography contest! Spend a picturesque day on the farm capturing the intricate details of nature\, from delicate petals to the buzzing pollinators that bring them to life. \nAll photography styles welcome! Whether you’re a professional\, a hobbyist\, or just starting out\, bring your camera—DSLRs\, point-and-shoots\, and even cell phones are all welcome. \nCategories for all skill levels and ages! From kids to adults\, every participant will have a chance to showcase their talent. \nWinners will be announced on social media the next day! \nPlan your visit today! For full contest details\, visit their website under “Plan Your Visit.” \nCapture the beauty. Celebrate nature. Share your vision.
URL:https://pickaway.com/event/petals-in-focus-a-flower-photography-contest/
LOCATION:Darby Creek Fields and Flowers\, 11500 Darby Creek Rd.\, Orient\, OH\, 43146\, United States
CATEGORIES:Entertainment and Arts,Hobbies,Miscellaneous
ATTACH;FMTTYPE=image/jpeg:https://pickaway.com/wp-content/uploads/2025/03/IMGP7924.jpg
END:VEVENT
BEGIN:VEVENT
DTSTART;TZID=America/New_York:20250712T190000
DTEND;TZID=America/New_York:20250712T210000
DTSTAMP:20260419T105507
CREATED:20250617T201048Z
LAST-MODIFIED:20250617T201048Z
UID:10002648-1752346800-1752354000@pickaway.com
SUMMARY:Manchester Hill Presents Hollyview
DESCRIPTION:Enjoy live music at Manchester Hill Winery from 7:00 PM–9:00 PM with handcrafted wines and ciders. Plus\, enjoy pizza and barbecue on Friday and Saturday evenings throughout the summer!
URL:https://pickaway.com/event/manchester-hill-presents-hollyview-3/
LOCATION:Manchester Hill Winery\, 13160 Tarlton Road\, Circleville\, OH\, 43113\, United States
CATEGORIES:Entertainment and Arts
ATTACH;FMTTYPE=image/png:https://pickaway.com/wp-content/uploads/2025/06/Copy-of-Discover-Pickaway.png
END:VEVENT
BEGIN:VEVENT
DTSTART;TZID=America/New_York:20250713T183000
DTEND;TZID=America/New_York:20250713T200000
DTSTAMP:20260419T105507
CREATED:20250708T161530Z
LAST-MODIFIED:20250708T161530Z
UID:10002679-1752431400-1752436800@pickaway.com
SUMMARY:Pickaway Community Band concert at Ashville Community Park
DESCRIPTION:Enjoy a relaxing Sunday evening with a free outdoor concert by the Pickaway Community Band at the Ashville Community Park stage. The performance will feature marches\, familiar pop and rock medleys\, and more. Bring a blanket or lawn chair—bench seating is limited.
URL:https://pickaway.com/event/pickaway-community-band-concert-at-ashville-community-park/
LOCATION:Ashville Community Park\, 165 Walnut St\, Ashville\, OH\, 43103\, United States
CATEGORIES:Outdoor,Family,Entertainment and Arts,Community
ATTACH;FMTTYPE=image/jpeg:https://pickaway.com/wp-content/uploads/2022/01/depositphotos_78906950-stock-illustration-music-notes-background.jpg
ORGANIZER;CN="Pickaway Community Band":MAILTO:pickawaycommunityband@gmail.com
END:VEVENT
BEGIN:VEVENT
DTSTART;TZID=America/New_York:20250714T190000
DTEND;TZID=America/New_York:20250714T203000
DTSTAMP:20260419T105507
CREATED:20250127T134218Z
LAST-MODIFIED:20250127T134218Z
UID:10002034-1752519600-1752525000@pickaway.com
SUMMARY:Monday Night Trivia at Station House 81
DESCRIPTION:Station House 81 hosts an evening of fun and friendly competition with six engaging trivia rounds. Participants have the chance to test their knowledge and aim for a growing jackpot. \nLocated in Commercial Point at 11 Front St\, Station House 81 is a popular local restaurant renowned for its smoked barbecue specialties\, hearty sandwiches\, and delicious appetizers. Guests can enjoy great food and drinks while they play\, all in a welcoming\, community-focused atmosphere.
URL:https://pickaway.com/event/monday-night-trivia-at-station-house-81/2025-07-14/
LOCATION:Station House 81\, 11 Front Street\, Commercial Point\, 43116
CATEGORIES:Entertainment and Arts,Hobbies,Miscellaneous
ATTACH;FMTTYPE=image/jpeg:https://pickaway.com/wp-content/uploads/2024/09/Trivia-Night.jpg
ORGANIZER;CN="Two Dudes%2C One Mic":MAILTO:Colton.2D1M @gmail.com
END:VEVENT
BEGIN:VEVENT
DTSTART;TZID=America/New_York:20250719T180000
DTEND;TZID=America/New_York:20250719T230000
DTSTAMP:20260419T105507
CREATED:20250306T165841Z
LAST-MODIFIED:20250306T165842Z
UID:10002321-1752948000-1752966000@pickaway.com
SUMMARY:Boogie on the Blacktop - Radio City
DESCRIPTION:Radio City is bringing the hits to Boogie on the Blacktop!  With an electrifying mix of rock\, pop\, and danceable favorites\, this band will have the whole crowd singing along. Don’t miss out on a summer night filled with great music\, tasty food trucks\, and a fun\, family-friendly atmosphere. \n Presented by Circleville Eagles with promotional support from Pickaway County Visitors Bureau\, Coughlin Automotive\, The Savings Bank\, and other community sponsors.
URL:https://pickaway.com/event/boogie-on-the-blacktop-radio-city/
LOCATION:Circleville Eagles\, 135 E Main Street\, Circleville\, OH\, 43113\, United States
CATEGORIES:Entertainment and Arts,Community,Children and Family Fun,Miscellaneous
ATTACH;FMTTYPE=image/png:https://pickaway.com/wp-content/uploads/2025/03/Rock-Music.png
END:VEVENT
BEGIN:VEVENT
DTSTART;TZID=America/New_York:20250720T190000
DTEND;TZID=America/New_York:20250720T190000
DTSTAMP:20260419T105507
CREATED:20250715T150808Z
LAST-MODIFIED:20250715T160539Z
UID:10002702-1753038000-1753038000@pickaway.com
SUMMARY:Fayette Community Band in Concert
DESCRIPTION:Join the Fayette Community Band for an evening of Americana music on the Community Square! Enjoy a wide range of tunes—from the Beach Boys to patriotic favorites. \nBring a blanket or lawn chair and relax with family and friends as we celebrate summer and great music. \nAdmission is free; a free will offering will be accepted. \nDon’t miss this special community concert—see you there!
URL:https://pickaway.com/event/fayette-community-band-in-concert/
LOCATION:Williamsport Community Square\, 123 N School St\, Williamsport\, OH\, 43164\, United States
CATEGORIES:Entertainment and Arts,Community,Miscellaneous
ATTACH;FMTTYPE=image/jpeg:https://pickaway.com/wp-content/uploads/2022/01/depositphotos_78906950-stock-illustration-music-notes-background.jpg
END:VEVENT
BEGIN:VEVENT
DTSTART;TZID=America/New_York:20250721T190000
DTEND;TZID=America/New_York:20250721T203000
DTSTAMP:20260419T105507
CREATED:20250127T134218Z
LAST-MODIFIED:20250127T134218Z
UID:10002035-1753124400-1753129800@pickaway.com
SUMMARY:Monday Night Trivia at Station House 81
DESCRIPTION:Station House 81 hosts an evening of fun and friendly competition with six engaging trivia rounds. Participants have the chance to test their knowledge and aim for a growing jackpot. \nLocated in Commercial Point at 11 Front St\, Station House 81 is a popular local restaurant renowned for its smoked barbecue specialties\, hearty sandwiches\, and delicious appetizers. Guests can enjoy great food and drinks while they play\, all in a welcoming\, community-focused atmosphere.
URL:https://pickaway.com/event/monday-night-trivia-at-station-house-81/2025-07-21/
LOCATION:Station House 81\, 11 Front Street\, Commercial Point\, 43116
CATEGORIES:Entertainment and Arts,Hobbies,Miscellaneous
ATTACH;FMTTYPE=image/jpeg:https://pickaway.com/wp-content/uploads/2024/09/Trivia-Night.jpg
ORGANIZER;CN="Two Dudes%2C One Mic":MAILTO:Colton.2D1M @gmail.com
END:VEVENT
BEGIN:VEVENT
DTSTART;VALUE=DATE:20250724
DTEND;VALUE=DATE:20250727
DTSTAMP:20260419T105507
CREATED:20241031T165526Z
LAST-MODIFIED:20250725T171302Z
UID:10001716-1753315200-1753574399@pickaway.com
SUMMARY:7 Mile Bluegrass Festival
DESCRIPTION:The 2025 7 Mile Bluegrass Festival promises a weekend of live bluegrass music\, featuring talented musicians and bands\, food vendors\, and plenty of family-friendly activities. Bring your lawn chairs\, enjoy the festival atmosphere\, and camp out to make the most of this annual celebration of bluegrass. Perfect for music lovers and those looking to experience authentic\, live performances in a relaxed outdoor setting. For tickets\, lineup details\, and event updates\, visit the festival’s official site. \nSchedule (subject to change) \nWednesday\nJam Session – 7:00 PM \nThursday\nWonpeace – 4:00 PMLincoln Highway – 5:00 PMVernon McIntyre’s Appalachian Grass – 6:00 PMPresley Puig – 7:00 PMBackline – 8:00 PMThe Hillbilly Biscuits – 9:30 PM \nFriday\nKeith Prater & Lacy Creek – 11:00 AMThe Gravel Yard – 12:00 PMLorraine Jordan & Carolina Road – 1:00 PMAuthentic Unlimited – 2:00 PMBreak / Giveaways – 3:00 PMKenny Stinson & Perfect Tym’n – 4:00 PMKeith Prater & Lacy Creek – 5:00 PMThe Gravel Yard – 6:00 PMKenny Stinson & Perfect Tym’n – 7:00 PMLorraine Jordan & Carolina Road – 8:00 PM7 Mile Bluegrass – 9:00 PMAuthentic Unlimited – 10:00 PM \nSaturday\nLydia Hamby – 11:30 AMNick Chandler and Delivered – 12:30 PMKauffman Road – 1:30 PMLittle Roy and Lizzy – 2:30 PMLarry Efaw & The Bluegrass Mountaineers – 4:00 PMLydia Hamby – 5:30 PMNick Chandler and Delivered – 6:30 PMKauffman Road – 7:30 PM7 Mile Bluegrass – 8:30 PMLonesome River Band – 9:30 PM
URL:https://pickaway.com/event/7-mile-bluegrass-festival-2/
LOCATION:Pickaway County Agriculture & Event Center\, 415 Lancaster Pike\, Circleville\, OH\, 43113
CATEGORIES:Entertainment and Arts,Community,Children and Family Fun,Miscellaneous
ATTACH;FMTTYPE=image/png:https://pickaway.com/wp-content/uploads/2024/02/Untitled-design-2024-02-14T102026.770.png
END:VEVENT
BEGIN:VEVENT
DTSTART;TZID=America/New_York:20250725T190000
DTEND;TZID=America/New_York:20250725T210000
DTSTAMP:20260419T105507
CREATED:20250617T201136Z
LAST-MODIFIED:20250617T201136Z
UID:10002649-1753470000-1753477200@pickaway.com
SUMMARY:Manchester Muse Open Mic Night
DESCRIPTION:Enjoy live music at Manchester Hill Winery from 7:00 PM–9:00 PM with handcrafted wines and ciders. Plus\, enjoy pizza and barbecue on Friday and Saturday evenings throughout the summer!
URL:https://pickaway.com/event/manchester-muse-open-mic-night-3/
LOCATION:Manchester Hill Winery\, 13160 Tarlton Road\, Circleville\, OH\, 43113\, United States
CATEGORIES:Entertainment and Arts
ATTACH;FMTTYPE=image/png:https://pickaway.com/wp-content/uploads/2025/06/Copy-of-Discover-Pickaway.png
END:VEVENT
BEGIN:VEVENT
DTSTART;TZID=America/New_York:20250726T190000
DTEND;TZID=America/New_York:20250726T210000
DTSTAMP:20260419T105507
CREATED:20250617T201146Z
LAST-MODIFIED:20250617T201146Z
UID:10002650-1753556400-1753563600@pickaway.com
SUMMARY:Manchester Hill Presents Simple Harvest
DESCRIPTION:Enjoy live music at Manchester Hill Winery from 7:00 PM–9:00 PM with handcrafted wines and ciders. Plus\, enjoy pizza and barbecue on Friday and Saturday evenings throughout the summer!
URL:https://pickaway.com/event/manchester-hill-presents-simple-harvest-2/
LOCATION:Manchester Hill Winery\, 13160 Tarlton Road\, Circleville\, OH\, 43113\, United States
CATEGORIES:Entertainment and Arts
ATTACH;FMTTYPE=image/png:https://pickaway.com/wp-content/uploads/2025/06/Copy-of-Discover-Pickaway.png
END:VEVENT
BEGIN:VEVENT
DTSTART;TZID=America/New_York:20250728T190000
DTEND;TZID=America/New_York:20250728T203000
DTSTAMP:20260419T105507
CREATED:20250127T134218Z
LAST-MODIFIED:20250127T134218Z
UID:10002036-1753729200-1753734600@pickaway.com
SUMMARY:Monday Night Trivia at Station House 81
DESCRIPTION:Station House 81 hosts an evening of fun and friendly competition with six engaging trivia rounds. Participants have the chance to test their knowledge and aim for a growing jackpot. \nLocated in Commercial Point at 11 Front St\, Station House 81 is a popular local restaurant renowned for its smoked barbecue specialties\, hearty sandwiches\, and delicious appetizers. Guests can enjoy great food and drinks while they play\, all in a welcoming\, community-focused atmosphere.
URL:https://pickaway.com/event/monday-night-trivia-at-station-house-81/2025-07-28/
LOCATION:Station House 81\, 11 Front Street\, Commercial Point\, 43116
CATEGORIES:Entertainment and Arts,Hobbies,Miscellaneous
ATTACH;FMTTYPE=image/jpeg:https://pickaway.com/wp-content/uploads/2024/09/Trivia-Night.jpg
ORGANIZER;CN="Two Dudes%2C One Mic":MAILTO:Colton.2D1M @gmail.com
END:VEVENT
END:VCALENDAR