BEGIN:VCALENDAR
VERSION:2.0
PRODID:-//Pickaway County Visitors Bureau - ECPv6.15.20//NONSGML v1.0//EN
CALSCALE:GREGORIAN
METHOD:PUBLISH
X-WR-CALNAME:Pickaway County Visitors Bureau
X-ORIGINAL-URL:https://pickaway.com
X-WR-CALDESC:Events for Pickaway County Visitors Bureau
REFRESH-INTERVAL;VALUE=DURATION:PT1H
X-Robots-Tag:noindex
X-PUBLISHED-TTL:PT1H
BEGIN:VTIMEZONE
TZID:America/New_York
BEGIN:DAYLIGHT
TZOFFSETFROM:-0500
TZOFFSETTO:-0400
TZNAME:EDT
DTSTART:20250309T070000
END:DAYLIGHT
BEGIN:STANDARD
TZOFFSETFROM:-0400
TZOFFSETTO:-0500
TZNAME:EST
DTSTART:20251102T060000
END:STANDARD
BEGIN:DAYLIGHT
TZOFFSETFROM:-0500
TZOFFSETTO:-0400
TZNAME:EDT
DTSTART:20260308T070000
END:DAYLIGHT
BEGIN:STANDARD
TZOFFSETFROM:-0400
TZOFFSETTO:-0500
TZNAME:EST
DTSTART:20261101T060000
END:STANDARD
BEGIN:DAYLIGHT
TZOFFSETFROM:-0500
TZOFFSETTO:-0400
TZNAME:EDT
DTSTART:20270314T070000
END:DAYLIGHT
BEGIN:STANDARD
TZOFFSETFROM:-0400
TZOFFSETTO:-0500
TZNAME:EST
DTSTART:20271107T060000
END:STANDARD
END:VTIMEZONE
BEGIN:VEVENT
DTSTART;VALUE=DATE:20260718
DTEND;VALUE=DATE:20260719
DTSTAMP:20260421T224936
CREATED:20260410T141137Z
LAST-MODIFIED:20260410T141137Z
UID:10003714-1784332800-1784419199@pickaway.com
SUMMARY:Uptown Circleville Sidewalk Sale
DESCRIPTION:Spend the day exploring Circleville during the Uptown Circleville Sidewalk Sale\, where local businesses bring their best deals right out to the street. \nStroll through Uptown and discover seasonal items\, special savings\, and one-of-a-kind finds from your favorite shops. Whether you’re looking for something new or just enjoying a day out\, this is a great opportunity to support small businesses and experience the charm of downtown Circleville. \nIf weather doesn’t cooperate\, sales will move inside participating stores. \nWhile you’re in town\, catch the excitement of the Uptown Circleville 3-on-3 Basketball Tournament happening the same day.
URL:https://pickaway.com/event/uptown-circleville-sidewalk-sale/
LOCATION:103 West Main Street Circleville\, 103 West Main Street\, Circleville\, OH\, 43113\, United States
CATEGORIES:Community,Miscellaneous
ATTACH;FMTTYPE=image/jpeg:https://pickaway.com/wp-content/uploads/2023/04/Sales.jpg
END:VEVENT
BEGIN:VEVENT
DTSTART;TZID=America/New_York:20260718T090000
DTEND;TZID=America/New_York:20260718T120000
DTSTAMP:20260421T224936
CREATED:20260107T151949Z
LAST-MODIFIED:20260107T151949Z
UID:10003189-1784365200-1784376000@pickaway.com
SUMMARY:Ashville Community Market 2026
DESCRIPTION:The Ashville Community Market returns for the 2026 season\, bringing together local vendors\, fresh produce\, handmade goods\, live music\, and family-friendly fun in the heart of Ashville\, Ohio. \nHeld one Friday each month from April through September\, the Ashville Community Market is a welcoming outdoor market where visitors can shop local\, support small businesses\, and enjoy a relaxed community atmosphere. Each market features a rotating lineup of local musicians\, along with vendors offering produce\, arts and crafts\, baked goods\, specialty items\, and more. \nFamilies are encouraged to attend\, with activities designed to keep all ages engaged. Food trucks and special attractions add to the experience\, making each market date a little different while keeping the same small-town charm Ashville is known for. \n2026 Market Dates & Live Music Lineup\n\n\nApril 18 – Jeff Weaver \n\n\nMay 23 – Kyan Conn \n\n\nJune 20 – Jacob Brown \n\n\nJuly 18 – Campfire & Whiskey \n\n\nAugust 22 – Open / To Be Announced \n\n\nSeptember 19 – Roundtown Radio \n\n\nTime: 9:00 a.m. – NoonLocation: Ashville Park\, Ashville\, Ohio \nWhether you’re a local or visiting Pickaway County\, the Ashville Community Market is a great way to experience local flavor\, live music\, and community connection all in one place. \nVendor applications are open for the 2026 season. For details\, updates\, and vendor information\, visit ashvillecommunitymarket.org.
URL:https://pickaway.com/event/ashville-community-market-2026/2026-07-18/
LOCATION:Ashville Community Park\, 165 Walnut St\, Ashville\, OH\, 43103\, United States
CATEGORIES:Community,Hobbies
ATTACH;FMTTYPE=image/png:https://pickaway.com/wp-content/uploads/2023/04/My-project-1-82.png
END:VEVENT
BEGIN:VEVENT
DTSTART;TZID=America/New_York:20260718T190000
DTEND;TZID=America/New_York:20260718T230000
DTSTAMP:20260421T224937
CREATED:20251230T160806Z
LAST-MODIFIED:20251230T160806Z
UID:10003154-1784401200-1784415600@pickaway.com
SUMMARY:Boogie on the Blacktop
DESCRIPTION:Boogie on the Blacktop is a seasonal outdoor concert series in downtown Circleville\, Ohio\, bringing live music\, community\, and summer nights together. Presented by the Circleville Eagles #685\, the series features a rotating lineup of bands and a relaxed\, welcoming atmosphere for all ages. \nConcerts take place on select Fridays from May through September. Gates open at 6:00 PM\, with live music from 7:00 PM to 11:00 PM. Guests are encouraged to bring a lawn chair and enjoy an evening of live entertainment in the heart of Pickaway County. \n2026 Boogie on the Blacktop Lineup\n\n\nMay 30\, 2026 – Rockhouse \n\n\nJune 27\, 2026 – Trailer Park Boys \n\n\nJuly 18\, 2026 – Dan Orr Project \n\n\nAugust 29\, 2026 – Radio City \n\n\nSeptember 26\, 2026 – Gypsy Kyngs \n\n\nAdmission is $5 per person\, children under 11 are free\, and all events are open to the public. Guests 17 and under must be accompanied by an adult. No outside food or drink is permitted.
URL:https://pickaway.com/event/boogie-on-the-blacktop/2026-07-18/
LOCATION:Circleville Eagles\, 135 E Main Street\, Circleville\, OH\, 43113\, United States
CATEGORIES:Entertainment and Arts,Community
ATTACH;FMTTYPE=image/png:https://pickaway.com/wp-content/uploads/2025/03/Rock-Music.png
END:VEVENT
END:VCALENDAR