BEGIN:VCALENDAR
VERSION:2.0
PRODID:-//Pickaway County Visitors Bureau - ECPv6.15.20//NONSGML v1.0//EN
CALSCALE:GREGORIAN
METHOD:PUBLISH
X-WR-CALNAME:Pickaway County Visitors Bureau
X-ORIGINAL-URL:https://pickaway.com
X-WR-CALDESC:Events for Pickaway County Visitors Bureau
REFRESH-INTERVAL;VALUE=DURATION:PT1H
X-Robots-Tag:noindex
X-PUBLISHED-TTL:PT1H
BEGIN:VTIMEZONE
TZID:America/New_York
BEGIN:DAYLIGHT
TZOFFSETFROM:-0500
TZOFFSETTO:-0400
TZNAME:EDT
DTSTART:20250309T070000
END:DAYLIGHT
BEGIN:STANDARD
TZOFFSETFROM:-0400
TZOFFSETTO:-0500
TZNAME:EST
DTSTART:20251102T060000
END:STANDARD
BEGIN:DAYLIGHT
TZOFFSETFROM:-0500
TZOFFSETTO:-0400
TZNAME:EDT
DTSTART:20260308T070000
END:DAYLIGHT
BEGIN:STANDARD
TZOFFSETFROM:-0400
TZOFFSETTO:-0500
TZNAME:EST
DTSTART:20261101T060000
END:STANDARD
BEGIN:DAYLIGHT
TZOFFSETFROM:-0500
TZOFFSETTO:-0400
TZNAME:EDT
DTSTART:20270314T070000
END:DAYLIGHT
BEGIN:STANDARD
TZOFFSETFROM:-0400
TZOFFSETTO:-0500
TZNAME:EST
DTSTART:20271107T060000
END:STANDARD
END:VTIMEZONE
BEGIN:VEVENT
DTSTART;TZID=America/New_York:20260327T193000
DTEND;TZID=America/New_York:20260327T210000
DTSTAMP:20260422T104438
CREATED:20260312T172757Z
LAST-MODIFIED:20260312T173057Z
UID:10003586-1774639800-1774645200@pickaway.com
SUMMARY:Roundtown Players Theatre Variety Show
DESCRIPTION:The Roundtown Players Theatre presents their 2nd Annual Variety Show\, a lively evening of entertainment hosted by Christopher Bowen and featuring the cast of Circleville Night Live. \nEnjoy a fun mix of performances while supporting the performing arts in the community. This special fundraiser helps support the Al Perdion Memorial Scholarship Fund\, which benefits students pursuing opportunities in the performing arts. \nPerformances will take place over three dates at Roundtown Players Theatre in downtown Circleville.
URL:https://pickaway.com/event/roundtown-players-theatre-variety-show/2026-03-27/
LOCATION:Memorial Hall\, 165 E Main St\, Circleville\, OH\, 43113
CATEGORIES:Entertainment and Arts,Community,Children and Family Fun
ATTACH;FMTTYPE=image/jpeg:https://pickaway.com/wp-content/uploads/2021/05/pngtree-transparent-pink-and-blue-stage-colored-spotlights-png-image_2770062-e1744825528376.jpg
END:VEVENT
END:VCALENDAR