BEGIN:VCALENDAR
VERSION:2.0
PRODID:-//Pickaway County Visitors Bureau - ECPv6.15.20//NONSGML v1.0//EN
CALSCALE:GREGORIAN
METHOD:PUBLISH
X-ORIGINAL-URL:https://pickaway.com
X-WR-CALDESC:Events for Pickaway County Visitors Bureau
REFRESH-INTERVAL;VALUE=DURATION:PT1H
X-Robots-Tag:noindex
X-PUBLISHED-TTL:PT1H
BEGIN:VTIMEZONE
TZID:America/New_York
BEGIN:DAYLIGHT
TZOFFSETFROM:-0500
TZOFFSETTO:-0400
TZNAME:EDT
DTSTART:20240310T070000
END:DAYLIGHT
BEGIN:STANDARD
TZOFFSETFROM:-0400
TZOFFSETTO:-0500
TZNAME:EST
DTSTART:20241103T060000
END:STANDARD
BEGIN:DAYLIGHT
TZOFFSETFROM:-0500
TZOFFSETTO:-0400
TZNAME:EDT
DTSTART:20250309T070000
END:DAYLIGHT
BEGIN:STANDARD
TZOFFSETFROM:-0400
TZOFFSETTO:-0500
TZNAME:EST
DTSTART:20251102T060000
END:STANDARD
BEGIN:DAYLIGHT
TZOFFSETFROM:-0500
TZOFFSETTO:-0400
TZNAME:EDT
DTSTART:20260308T070000
END:DAYLIGHT
BEGIN:STANDARD
TZOFFSETFROM:-0400
TZOFFSETTO:-0500
TZNAME:EST
DTSTART:20261101T060000
END:STANDARD
END:VTIMEZONE
BEGIN:VEVENT
DTSTART;TZID=America/New_York:20251212T143000
DTEND;TZID=America/New_York:20251212T170000
DTSTAMP:20260420T183616
CREATED:20251103T150336Z
LAST-MODIFIED:20251103T151202Z
UID:10002965-1765549800-1765558800@pickaway.com
SUMMARY:A Holiday Trio of One-Acts
DESCRIPTION:Celebrate the season with Roundtown Players as they present three festive one-act plays that bring laughter\, heart\, and holiday spirit to the stage:• Christmas Carol Inc by Brian Marsh• The Living Nativity by Karen Jones• ’Twas the Night Before the Night Before Christmas by Pat Cook \nShowtimes:• December 5\, 6\, 12\, 13 at 7:30 PM• December 7\, 14 at 2:30 PM \nTickets:Presale begins November 6 at 10 AM with a special code.General ticket sales open November 13 at 10 AM.Get tickets at our.show/rtpholidaytrio or purchase limited tickets at the door. \n Duration: Approximately 2 hours and 30 minutes♿ Please note: the theater’s chair lift is currently out of service—follow Roundtown Players on Facebook for accessibility updates.
URL:https://pickaway.com/event/a-holiday-trio-of-one-acts/2025-12-12/
LOCATION:Memorial Hall\, 165 E Main St\, Circleville\, OH\, 43113
CATEGORIES:Entertainment and Arts,Festivals and Special Events,Children and Family Fun
ATTACH;FMTTYPE=image/png:https://pickaway.com/wp-content/uploads/2023/11/Untitled-design-71.png
END:VEVENT
BEGIN:VEVENT
DTSTART;TZID=America/New_York:20251212T173000
DTEND;TZID=America/New_York:20251212T193000
DTSTAMP:20260420T183616
CREATED:20251110T151957Z
LAST-MODIFIED:20251110T151957Z
UID:10002997-1765560600-1765567800@pickaway.com
SUMMARY:Christmas Village Decorating
DESCRIPTION:Get into the holiday spirit at Rhoads Garden Center’s Christmas Village Decorating Night! Enjoy an evening of creativity and cheer as you paint and decorate your own 9″ wooden Christmas village house. \nWith guidance from Kaylynn Gallant\, you’ll bring your village to life with tinsel garland\, gumdrops\, faux snow\, and festive accents — the perfect addition to your holiday décor. \nAll supplies are included in the $50 fee\, and the Rhoadhouse 56 bar will be open with beer\, wine\, and cocktails available for purchase. \nGrab a friend\, sip something seasonal\, and make it a joyful evening surrounded by the sights and sounds of the holidays. \n Register at: rhoadsgardencenter.com
URL:https://pickaway.com/event/christmas-village-decorating/
LOCATION:Rhoads Garden Center Inc\, 1051 St. Rt. 56 East\, Circleville\, OH\, 43113\, United States
CATEGORIES:Festivals and Special Events,Hobbies
ATTACH;FMTTYPE=image/png:https://pickaway.com/wp-content/uploads/2023/11/Untitled-design-67.png
END:VEVENT
END:VCALENDAR