BEGIN:VCALENDAR
VERSION:2.0
PRODID:-//Pickaway County Visitors Bureau - ECPv6.15.20//NONSGML v1.0//EN
CALSCALE:GREGORIAN
METHOD:PUBLISH
X-ORIGINAL-URL:https://pickaway.com
X-WR-CALDESC:Events for Pickaway County Visitors Bureau
REFRESH-INTERVAL;VALUE=DURATION:PT1H
X-Robots-Tag:noindex
X-PUBLISHED-TTL:PT1H
BEGIN:VTIMEZONE
TZID:America/New_York
BEGIN:DAYLIGHT
TZOFFSETFROM:-0500
TZOFFSETTO:-0400
TZNAME:EDT
DTSTART:20240310T070000
END:DAYLIGHT
BEGIN:STANDARD
TZOFFSETFROM:-0400
TZOFFSETTO:-0500
TZNAME:EST
DTSTART:20241103T060000
END:STANDARD
BEGIN:DAYLIGHT
TZOFFSETFROM:-0500
TZOFFSETTO:-0400
TZNAME:EDT
DTSTART:20250309T070000
END:DAYLIGHT
BEGIN:STANDARD
TZOFFSETFROM:-0400
TZOFFSETTO:-0500
TZNAME:EST
DTSTART:20251102T060000
END:STANDARD
BEGIN:DAYLIGHT
TZOFFSETFROM:-0500
TZOFFSETTO:-0400
TZNAME:EDT
DTSTART:20260308T070000
END:DAYLIGHT
BEGIN:STANDARD
TZOFFSETFROM:-0400
TZOFFSETTO:-0500
TZNAME:EST
DTSTART:20261101T060000
END:STANDARD
END:VTIMEZONE
BEGIN:VEVENT
DTSTART;TZID=America/New_York:20251029T110000
DTEND;TZID=America/New_York:20251029T120000
DTSTAMP:20260422T071118
CREATED:20250819T033023Z
LAST-MODIFIED:20251022T221507Z
UID:10002795-1761735600-1761739200@pickaway.com
SUMMARY:Tai Chi in the Parks: Chen Style
DESCRIPTION:Join OSU Extension & Park District for free Tai Chi—gentle Chen Style for all levels. Register now\, spots limited to 30!\n\n\nTai Chi in the Parks: Chen Style \nJoin OSU Extension and The Park District for a relaxing and restorative Tai Chi experience in the parks! This free introductory class features Chen Style Tai Chi—a faster-paced form that incorporates more movement\, yet remains accessible to all experience levels. \n \nWhether practiced seated or standing\, Tai Chi can help reduce arthritis pain\, improve balance and flexibility\, prevent falls\, and support overall physical and mental wellness. \n \nSpots are limited to 30 participants – registration is required for this FREE event! \n \nSecure your spot today on Eventbrite or register by emailing mellis@pickawaycountyohio.gov. \n \nThe class will be held indoors at the District Headquarters in our accessible event room\, with a paved parking lot\, access ramp\, and restrooms available. An adult must accompany all children under 12.
URL:https://pickaway.com/event/tai-chi-in-the-parks-chen-style/
LOCATION:16405 US-23\, 16405 U.S. 23\, South Bloomfield\, OH\, 43103\, United States
CATEGORIES:Community
ATTACH;FMTTYPE=image/jpeg:https://pickaway.com/wp-content/uploads/2025/08/f1ee6f18e4ae9c7c87cd11b8339daa60.jpg
END:VEVENT
BEGIN:VEVENT
DTSTART;TZID=America/New_York:20251029T170000
DTEND;TZID=America/New_York:20251029T213000
DTSTAMP:20260422T071118
CREATED:20240307T145234Z
LAST-MODIFIED:20240307T145234Z
UID:10001135-1761757200-1761773400@pickaway.com
SUMMARY:Bingo: Logan Elm Athletics Boosters
DESCRIPTION:Bingo on Wednesday Nights at Circleville AMVETS doors open at 5:00pm.\nBingo starts at 7:00pm.\n818 Tarlton Road\nCircleville\, Ohio 43113\nAll proceeds support funding for Athletic Uniforms\, safety & training Equipment\, and facilities within the Logan Elm School District.
URL:https://pickaway.com/event/bingo-logan-elm-athletics-boosters/2025-10-29/
LOCATION:AMVETS Post 2256\, 818 Tarlton Rd\, Circleville\, OH\, 43113
CATEGORIES:Community,Hobbies,Miscellaneous
ATTACH;FMTTYPE=image/png:https://pickaway.com/wp-content/uploads/2024/03/Untitled-design-2024-03-07T095159.688.png
END:VEVENT
BEGIN:VEVENT
DTSTART;TZID=America/New_York:20251029T173000
DTEND;TZID=America/New_York:20251029T190000
DTSTAMP:20260422T071118
CREATED:20251022T200209Z
LAST-MODIFIED:20251022T200209Z
UID:10002932-1761759000-1761764400@pickaway.com
SUMMARY:Haunted Hallways
DESCRIPTION:Step into the spooky side of Circleville at Haunted Hallways\, presented by Circleville High School’s Key Club!  \nEnjoy frightful fun\, festive decorations\, and Halloween surprises around every corner. Perfect for families and students looking to get in the spooky spirit!
URL:https://pickaway.com/event/haunted-hallways/
LOCATION:Circleville High School\, 380 Clark Dr\, Circleville\, OH\, 43113\, United States
CATEGORIES:Community,Children and Family Fun
ATTACH;FMTTYPE=image/jpeg:https://pickaway.com/wp-content/uploads/2022/09/istockphoto-1039329616-612x612-1.jpg
END:VEVENT
BEGIN:VEVENT
DTSTART;TZID=America/New_York:20251029T183000
DTEND;TZID=America/New_York:20251029T193000
DTSTAMP:20260422T071118
CREATED:20250730T170910Z
LAST-MODIFIED:20250730T175957Z
UID:10002726-1761762600-1761766200@pickaway.com
SUMMARY:Haunted History: Ghost Lore & Legends of Pickaway County
DESCRIPTION:Join us for an evening of eerie tales and local history as we explore the paranormal side of Pickaway County! We will explore how real events and local folklore intertwine to create the legends that still haunt us today.
URL:https://pickaway.com/event/haunted-history-ghost-lore-legends-of-pickaway-county/
LOCATION:Pickaway County Library\, 1160 North Court Street\, Circleville\, OH\, 43113\, United States
CATEGORIES:Community,Hobbies,Miscellaneous
ATTACH;FMTTYPE=image/png:https://pickaway.com/wp-content/uploads/2025/07/Untitled-design-1.png
ORGANIZER;CN="Pickaway County Library":MAILTO:info@pickawaylib.org
END:VEVENT
END:VCALENDAR