BEGIN:VCALENDAR
VERSION:2.0
PRODID:-//Pickaway County Visitors Bureau - ECPv6.15.20//NONSGML v1.0//EN
CALSCALE:GREGORIAN
METHOD:PUBLISH
X-WR-CALNAME:Pickaway County Visitors Bureau
X-ORIGINAL-URL:https://pickaway.com
X-WR-CALDESC:Events for Pickaway County Visitors Bureau
REFRESH-INTERVAL;VALUE=DURATION:PT1H
X-Robots-Tag:noindex
X-PUBLISHED-TTL:PT1H
BEGIN:VTIMEZONE
TZID:America/New_York
BEGIN:DAYLIGHT
TZOFFSETFROM:-0500
TZOFFSETTO:-0400
TZNAME:EDT
DTSTART:20240310T070000
END:DAYLIGHT
BEGIN:STANDARD
TZOFFSETFROM:-0400
TZOFFSETTO:-0500
TZNAME:EST
DTSTART:20241103T060000
END:STANDARD
BEGIN:DAYLIGHT
TZOFFSETFROM:-0500
TZOFFSETTO:-0400
TZNAME:EDT
DTSTART:20250309T070000
END:DAYLIGHT
BEGIN:STANDARD
TZOFFSETFROM:-0400
TZOFFSETTO:-0500
TZNAME:EST
DTSTART:20251102T060000
END:STANDARD
BEGIN:DAYLIGHT
TZOFFSETFROM:-0500
TZOFFSETTO:-0400
TZNAME:EDT
DTSTART:20260308T070000
END:DAYLIGHT
BEGIN:STANDARD
TZOFFSETFROM:-0400
TZOFFSETTO:-0500
TZNAME:EST
DTSTART:20261101T060000
END:STANDARD
END:VTIMEZONE
BEGIN:VEVENT
DTSTART;VALUE=DATE:20250717
DTEND;VALUE=DATE:20250720
DTSTAMP:20260419T220228
CREATED:20250708T194033Z
LAST-MODIFIED:20250708T194033Z
UID:10002687-1752710400-1752969599@pickaway.com
SUMMARY:Sidewalk Sale-a-Bration – Uptown Circleville
DESCRIPTION:Shop local and celebrate summer during Sidewalk Sale-a-Bration in Uptown Circleville! Stroll the sidewalks and discover special deals\, seasonal merchandise\, and sidewalk treasures from participating small businesses. \nIt’s the perfect chance to support local shops\, grab great bargains\, and enjoy a fun day in our historic downtown. Some businesses will feature extended hours\, pop-up vendors\, and sweet summer surprises! \nWhether you’re looking for gifts\, fashion\, home goods\, or just a reason to explore—this event is for you.  Individual shopping hours my vary per store. 
URL:https://pickaway.com/event/sidewalk-sale-a-bration-uptown-circleville/
LOCATION:103 West Main Street Circleville\, 103 West Main Street\, Circleville\, OH\, 43113\, United States
ATTACH;FMTTYPE=image/png:https://pickaway.com/wp-content/uploads/2025/07/Untitled-design-2024-05-14T132048.877.png
END:VEVENT
BEGIN:VEVENT
DTSTART;TZID=America/New_York:20250717T110000
DTEND;TZID=America/New_York:20250717T140000
DTSTAMP:20260419T220228
CREATED:20250623T175400Z
LAST-MODIFIED:20250623T175400Z
UID:10002669-1752750000-1752760800@pickaway.com
SUMMARY:PICCA Annual Block Party
DESCRIPTION:Join Pickaway County Community Action (PICCA) for a free\, family-friendly Block Party filled with fun\, entertainment\, and community connection! This annual event features games\, local resources\, and a back-to-school supply giveaway to help families prepare for the upcoming school year. Celebrate the spirit of community with neighbors\, friends\, and local organizations dedicated to making Pickaway County a great place to live and grow.
URL:https://pickaway.com/event/picca-annual-block-party/
LOCATION:PICCA\, 469 E Ohio St\, Circleville\, OH\, 43113\, United States
CATEGORIES:Community,Hobbies,Children and Family Fun,Miscellaneous
ATTACH;FMTTYPE=image/jpeg:https://pickaway.com/wp-content/uploads/2021/11/istockphoto-517811469-612x612-1.jpg
END:VEVENT
END:VCALENDAR