BEGIN:VCALENDAR
VERSION:2.0
PRODID:-//Pickaway County Visitors Bureau - ECPv6.15.20//NONSGML v1.0//EN
CALSCALE:GREGORIAN
METHOD:PUBLISH
X-WR-CALNAME:Pickaway County Visitors Bureau
X-ORIGINAL-URL:https://pickaway.com
X-WR-CALDESC:Events for Pickaway County Visitors Bureau
REFRESH-INTERVAL;VALUE=DURATION:PT1H
X-Robots-Tag:noindex
X-PUBLISHED-TTL:PT1H
BEGIN:VTIMEZONE
TZID:America/New_York
BEGIN:DAYLIGHT
TZOFFSETFROM:-0500
TZOFFSETTO:-0400
TZNAME:EDT
DTSTART:20240310T070000
END:DAYLIGHT
BEGIN:STANDARD
TZOFFSETFROM:-0400
TZOFFSETTO:-0500
TZNAME:EST
DTSTART:20241103T060000
END:STANDARD
BEGIN:DAYLIGHT
TZOFFSETFROM:-0500
TZOFFSETTO:-0400
TZNAME:EDT
DTSTART:20250309T070000
END:DAYLIGHT
BEGIN:STANDARD
TZOFFSETFROM:-0400
TZOFFSETTO:-0500
TZNAME:EST
DTSTART:20251102T060000
END:STANDARD
BEGIN:DAYLIGHT
TZOFFSETFROM:-0500
TZOFFSETTO:-0400
TZNAME:EDT
DTSTART:20260308T070000
END:DAYLIGHT
BEGIN:STANDARD
TZOFFSETFROM:-0400
TZOFFSETTO:-0500
TZNAME:EST
DTSTART:20261101T060000
END:STANDARD
END:VTIMEZONE
BEGIN:VEVENT
DTSTART;TZID=America/New_York:20250716T100000
DTEND;TZID=America/New_York:20250716T120000
DTSTAMP:20260419T220356
CREATED:20250317T145909Z
LAST-MODIFIED:20250317T145909Z
UID:10002340-1752660000-1752667200@pickaway.com
SUMMARY:Ashville Fun in the Sun
DESCRIPTION:Families are invited to Ashville Community Park for a summer of excitement at Fun in the Sun 2025! This free\, family-friendly event series offers engaging activities\, special guests\, and hands-on experiences designed to entertain and delight children of all ages. \nThis six-week summer series is the perfect way for families to explore Ashville’s welcoming community while enjoying engaging outdoor fun. Whether visiting for the day or looking for a weekly adventure\, Fun in the Sun promises a vibrant\, playful atmosphere for all. New surprises each week!
URL:https://pickaway.com/event/ashville-fun-in-the-sun/2025-07-16/
LOCATION:Ashville Community Park\, 165 Walnut St\, Ashville\, OH\, 43103\, United States
CATEGORIES:Community,Children and Family Fun,Miscellaneous
ATTACH;FMTTYPE=image/png:https://pickaway.com/wp-content/uploads/2023/06/My-project-1-2023-06-28T093631.291.png
END:VEVENT
BEGIN:VEVENT
DTSTART;TZID=America/New_York:20250716T110000
DTEND;TZID=America/New_York:20250716T140000
DTSTAMP:20260419T220356
CREATED:20250516T173930Z
LAST-MODIFIED:20250609T145932Z
UID:10002512-1752663600-1752674400@pickaway.com
SUMMARY:PARS in the Park
DESCRIPTION:Mondays & Wednesdays\, June 9 – July 23\, 2025 \nCancelled 6/9 due to flooding  \nCalling all students entering 1st–6th grade! Join us for PARS in the Park\, a fun and free summer program filled with: \n\n\nArts & Crafts \n\n\nGames \n\n\n️ Lunch \n\n\nEducational Activities \n\n\nThis program runs twice a week—Mondays and Wednesdays—from June 9 through July 23 at Ted Lewis Park. Kids can come learn\, play\, and explore in a safe\, supervised setting. \nRegistration is required.   \nCome join the fun—it’s FREE!
URL:https://pickaway.com/event/pars-in-the-park/2025-07-16/
LOCATION:Ted Lewis Park\, 443 N Court St\, Circleville\, OH 43113\, USA
CATEGORIES:Community,Children and Family Fun
ATTACH;FMTTYPE=image/jpeg:https://pickaway.com/wp-content/uploads/2022/04/Kids-and-Cups-DIY.jpg
END:VEVENT
BEGIN:VEVENT
DTSTART;TZID=America/New_York:20250716T170000
DTEND;TZID=America/New_York:20250716T170000
DTSTAMP:20260419T220356
CREATED:20250609T190323Z
LAST-MODIFIED:20250609T190348Z
UID:10002610-1752685200-1752685200@pickaway.com
SUMMARY:Classic Car Show at The Wyngate
DESCRIPTION:Join The Wyngate at Circleville for a summer evening full of vintage flair at their Classic Car Show\, featuring The Round Town Cruisers! \n\nCheck out stunning classic and vintage cars\nEnjoy live music\, delicious food\, and a raffle\nFamily-friendly fun in the back parking lot\n\nWhether you’re a car enthusiast or just love a good community gathering\, this event promises a night to remember. Don’t miss it! \nMore Info: Contact Dawn Elliott at 740-963-6091
URL:https://pickaway.com/event/classic-car-show-at-the-wyngate/
LOCATION:Wyngate Senior Living Community\, 745 Northridge Road\, Circleville\, OH\, United States
CATEGORIES:Community,Hobbies,Miscellaneous
ATTACH;FMTTYPE=image/jpeg:https://pickaway.com/wp-content/uploads/2022/06/Car-Show.jpg
END:VEVENT
BEGIN:VEVENT
DTSTART;TZID=America/New_York:20250716T170000
DTEND;TZID=America/New_York:20250716T213000
DTSTAMP:20260419T220356
CREATED:20240307T145234Z
LAST-MODIFIED:20240307T145234Z
UID:10001120-1752685200-1752701400@pickaway.com
SUMMARY:Bingo: Logan Elm Athletics Boosters
DESCRIPTION:Bingo on Wednesday Nights at Circleville AMVETS doors open at 5:00pm.\nBingo starts at 7:00pm.\n818 Tarlton Road\nCircleville\, Ohio 43113\nAll proceeds support funding for Athletic Uniforms\, safety & training Equipment\, and facilities within the Logan Elm School District.
URL:https://pickaway.com/event/bingo-logan-elm-athletics-boosters/2025-07-16/
LOCATION:AMVETS Post 2256\, 818 Tarlton Rd\, Circleville\, OH\, 43113
CATEGORIES:Community,Hobbies,Miscellaneous
ATTACH;FMTTYPE=image/png:https://pickaway.com/wp-content/uploads/2024/03/Untitled-design-2024-03-07T095159.688.png
END:VEVENT
END:VCALENDAR