BEGIN:VCALENDAR
VERSION:2.0
PRODID:-//Pickaway County Visitors Bureau - ECPv6.15.20//NONSGML v1.0//EN
CALSCALE:GREGORIAN
METHOD:PUBLISH
X-ORIGINAL-URL:https://pickaway.com
X-WR-CALDESC:Events for Pickaway County Visitors Bureau
REFRESH-INTERVAL;VALUE=DURATION:PT1H
X-Robots-Tag:noindex
X-PUBLISHED-TTL:PT1H
BEGIN:VTIMEZONE
TZID:America/New_York
BEGIN:DAYLIGHT
TZOFFSETFROM:-0500
TZOFFSETTO:-0400
TZNAME:EDT
DTSTART:20240310T070000
END:DAYLIGHT
BEGIN:STANDARD
TZOFFSETFROM:-0400
TZOFFSETTO:-0500
TZNAME:EST
DTSTART:20241103T060000
END:STANDARD
BEGIN:DAYLIGHT
TZOFFSETFROM:-0500
TZOFFSETTO:-0400
TZNAME:EDT
DTSTART:20250309T070000
END:DAYLIGHT
BEGIN:STANDARD
TZOFFSETFROM:-0400
TZOFFSETTO:-0500
TZNAME:EST
DTSTART:20251102T060000
END:STANDARD
BEGIN:DAYLIGHT
TZOFFSETFROM:-0500
TZOFFSETTO:-0400
TZNAME:EDT
DTSTART:20260308T070000
END:DAYLIGHT
BEGIN:STANDARD
TZOFFSETFROM:-0400
TZOFFSETTO:-0500
TZNAME:EST
DTSTART:20261101T060000
END:STANDARD
END:VTIMEZONE
BEGIN:VEVENT
DTSTART;TZID=America/New_York:20250714T110000
DTEND;TZID=America/New_York:20250714T140000
DTSTAMP:20260419T162828
CREATED:20250516T173930Z
LAST-MODIFIED:20250609T145932Z
UID:10002511-1752490800-1752501600@pickaway.com
SUMMARY:PARS in the Park
DESCRIPTION:Mondays & Wednesdays\, June 9 – July 23\, 2025 \nCancelled 6/9 due to flooding  \nCalling all students entering 1st–6th grade! Join us for PARS in the Park\, a fun and free summer program filled with: \n\n\nArts & Crafts \n\n\nGames \n\n\n️ Lunch \n\n\nEducational Activities \n\n\nThis program runs twice a week—Mondays and Wednesdays—from June 9 through July 23 at Ted Lewis Park. Kids can come learn\, play\, and explore in a safe\, supervised setting. \nRegistration is required.   \nCome join the fun—it’s FREE!
URL:https://pickaway.com/event/pars-in-the-park/2025-07-14/
LOCATION:Ted Lewis Park\, 443 N Court St\, Circleville\, OH 43113\, USA
CATEGORIES:Community,Children and Family Fun
ATTACH;FMTTYPE=image/jpeg:https://pickaway.com/wp-content/uploads/2022/04/Kids-and-Cups-DIY.jpg
END:VEVENT
BEGIN:VEVENT
DTSTART;TZID=America/New_York:20250714T160000
DTEND;TZID=America/New_York:20250714T220000
DTSTAMP:20260419T162828
CREATED:20250418T161749Z
LAST-MODIFIED:20250418T161814Z
UID:10002413-1752508800-1752530400@pickaway.com
SUMMARY:Monday Night Bingo
DESCRIPTION:Three Pits And A Lady conducts bingo at the Circleville Amvets Post 2256 each Monday.
URL:https://pickaway.com/event/monday-night-bingo-2/2025-07-14/
LOCATION:AMVETS Post 2256\, 818 Tarlton Rd\, Circleville\, OH\, 43113
CATEGORIES:Community
ATTACH;FMTTYPE=image/png:https://pickaway.com/wp-content/uploads/2024/03/Untitled-design-2024-03-07T095159.688.png
ORGANIZER;CN="Three Pits And A Lady":MAILTO:ThreePitsAndALady@gmail.com
END:VEVENT
BEGIN:VEVENT
DTSTART;TZID=America/New_York:20250714T183000
DTEND;TZID=America/New_York:20250714T200000
DTSTAMP:20260419T162828
CREATED:20250709T145207Z
LAST-MODIFIED:20250709T145207Z
UID:10002690-1752517800-1752523200@pickaway.com
SUMMARY:Creek Crawlers
DESCRIPTION:Hike along the creek near Hawkview Meadow to search for critters like macroinvertebrates\, fish\, and more. Fun and educational for kids and adults. Meet at the Nature Center. Enclosed shoes and drinking water recommended. Contact: McKenzie Kitchen\, mckenzie.kitchen@dnr.ohio.gov
URL:https://pickaway.com/event/creek-crawlers/
LOCATION:Deer Creek State Park\, 20635 State Park Road 20\, Mount Sterling\, OH\, 43143\, United States
CATEGORIES:Outdoor,Community,Hobbies,Children and Family Fun
ATTACH;FMTTYPE=image/jpeg:https://pickaway.com/wp-content/uploads/2025/01/432912791_783158970512900_1234782695353248679_n.jpg
END:VEVENT
BEGIN:VEVENT
DTSTART;TZID=America/New_York:20250714T190000
DTEND;TZID=America/New_York:20250714T203000
DTSTAMP:20260419T162828
CREATED:20250127T134218Z
LAST-MODIFIED:20250127T134218Z
UID:10002034-1752519600-1752525000@pickaway.com
SUMMARY:Monday Night Trivia at Station House 81
DESCRIPTION:Station House 81 hosts an evening of fun and friendly competition with six engaging trivia rounds. Participants have the chance to test their knowledge and aim for a growing jackpot. \nLocated in Commercial Point at 11 Front St\, Station House 81 is a popular local restaurant renowned for its smoked barbecue specialties\, hearty sandwiches\, and delicious appetizers. Guests can enjoy great food and drinks while they play\, all in a welcoming\, community-focused atmosphere.
URL:https://pickaway.com/event/monday-night-trivia-at-station-house-81/2025-07-14/
LOCATION:Station House 81\, 11 Front Street\, Commercial Point\, 43116
CATEGORIES:Entertainment and Arts,Hobbies,Miscellaneous
ATTACH;FMTTYPE=image/jpeg:https://pickaway.com/wp-content/uploads/2024/09/Trivia-Night.jpg
ORGANIZER;CN="Two Dudes%2C One Mic":MAILTO:Colton.2D1M @gmail.com
END:VEVENT
END:VCALENDAR