BEGIN:VCALENDAR
VERSION:2.0
PRODID:-//Pickaway County Visitors Bureau - ECPv6.15.20//NONSGML v1.0//EN
CALSCALE:GREGORIAN
METHOD:PUBLISH
X-WR-CALNAME:Pickaway County Visitors Bureau
X-ORIGINAL-URL:https://pickaway.com
X-WR-CALDESC:Events for Pickaway County Visitors Bureau
REFRESH-INTERVAL;VALUE=DURATION:PT1H
X-Robots-Tag:noindex
X-PUBLISHED-TTL:PT1H
BEGIN:VTIMEZONE
TZID:America/New_York
BEGIN:DAYLIGHT
TZOFFSETFROM:-0500
TZOFFSETTO:-0400
TZNAME:EDT
DTSTART:20240310T070000
END:DAYLIGHT
BEGIN:STANDARD
TZOFFSETFROM:-0400
TZOFFSETTO:-0500
TZNAME:EST
DTSTART:20241103T060000
END:STANDARD
BEGIN:DAYLIGHT
TZOFFSETFROM:-0500
TZOFFSETTO:-0400
TZNAME:EDT
DTSTART:20250309T070000
END:DAYLIGHT
BEGIN:STANDARD
TZOFFSETFROM:-0400
TZOFFSETTO:-0500
TZNAME:EST
DTSTART:20251102T060000
END:STANDARD
BEGIN:DAYLIGHT
TZOFFSETFROM:-0500
TZOFFSETTO:-0400
TZNAME:EDT
DTSTART:20260308T070000
END:DAYLIGHT
BEGIN:STANDARD
TZOFFSETFROM:-0400
TZOFFSETTO:-0500
TZNAME:EST
DTSTART:20261101T060000
END:STANDARD
END:VTIMEZONE
BEGIN:VEVENT
DTSTART;VALUE=DATE:20250630
DTEND;VALUE=DATE:20250705
DTSTAMP:20260419T145528
CREATED:20241217T190210Z
LAST-MODIFIED:20241217T190739Z
UID:10001921-1751241600-1751673599@pickaway.com
SUMMARY:Ashville 4th of July Celebration
DESCRIPTION:Family-Friendly\, Patriotic\, and Fun: Ashville’s 4th of July Celebration!\n\n\n\nJoin us from June 30 to July 4 for a five-day celebration of America’s independence in Ashville. The family-friendly event will feature live music\, delicious food\, and exciting activities for all ages. Get ready to see the sky light up with a stunning fireworks display on the Fourth of July. Don’t miss out on the fun this summer – come celebrate with us in Ashville!
URL:https://pickaway.com/event/ashville-4th-of-july-celebration-2-2/
LOCATION:Ashville Community Park\, 165 Walnut St\, Ashville\, OH\, 43103\, United States
CATEGORIES:Entertainment and Arts,Festivals and Special Events,Community,Children and Family Fun
ATTACH;FMTTYPE=image/png:https://pickaway.com/wp-content/uploads/2024/12/Untitled-design-8.png
END:VEVENT
BEGIN:VEVENT
DTSTART;TZID=America/New_York:20250704T110000
DTEND;TZID=America/New_York:20250704T123000
DTSTAMP:20260419T145528
CREATED:20250516T174926Z
LAST-MODIFIED:20250516T174926Z
UID:10002518-1751626800-1751632200@pickaway.com
SUMMARY:Circleville Fridays in the Park
DESCRIPTION:Fridays in the Park is a summertime favorite for families in Pickaway County! Held weekly at the scenic Ted Lewis Park\, this free program invites children (preschool through 5th grade) and their families to enjoy a variety of hands-on activities in a welcoming outdoor setting. \nEach week features interactive experiences with local organizations—from wildlife education and emergency services to crafts\, games\, and story time. It’s a great way to explore community resources and enjoy the season together! \n Weekly Guest Lineup: \n\n\nJune 13 – Pickaway Soil & Water + OSU Extension \n\n\nJune 20 – Circleville Fire & Police Departments \n\n\nJune 27 – Pickaway YMCA + ODNR Division of Parks & Watercraft \n\n\nJuly 11 – Circleville Utilities & Service Departments \n\n\nJuly 18 – Pickaway County Board of Developmental Disabilities \n\n\nJuly 25 – Pickaway County Library \n\n\nAugust 1 – Foundations Youth \n\n\n Come dressed to play—comfortable clothes encouraged.‍‍ Children must be accompanied by a parent or guardian. \nMake it part of your summer adventure in Pickaway County! \n Contact: Suzanne Channell at 740-477-8224 or schannell@circlevilleoh.gov
URL:https://pickaway.com/event/circleville-fridays-in-the-park/2025-07-04/
LOCATION:Ted Lewis Park\, 443 N Court St\, Circleville\, OH 43113\, USA
CATEGORIES:Community,Children and Family Fun
ATTACH;FMTTYPE=image/png:https://pickaway.com/wp-content/uploads/2025/05/Untitled-design-15-1.png
END:VEVENT
BEGIN:VEVENT
DTSTART;TZID=America/New_York:20250704T170000
DTEND;TZID=America/New_York:20250704T200000
DTSTAMP:20260419T145528
CREATED:20250205T212532Z
LAST-MODIFIED:20250403T150521Z
UID:10002113-1751648400-1751659200@pickaway.com
SUMMARY:Uptown Circleville First Fridays
DESCRIPTION:Rev up your evening with the Roundtown Cruisers Cruise-In\, where classic cars and custom rides line the streets for an unforgettable night of automotive nostalgia! While you’re here\, shop our amazing local businesses—many staying open late just for you! \nEnjoy Circleville DORA all day as you stroll through Uptown\, sipping your favorite beverages from participating establishments. \nMake it a night of community\, cars\, and good vibes in the heart of Circleville! \nFirst Fridays are sponsored by DeLong Insurance\, Homeland Credit Union\, and Uptown Circleville.
URL:https://pickaway.com/event/uptown-circleville-first-fridays-5/2025-07-04/
LOCATION:122 N Court St\, 122 North Court Street\, Circleville\, OH\, 43113\, United States
CATEGORIES:Entertainment and Arts,Community,Hobbies
ATTACH;FMTTYPE=image/png:https://pickaway.com/wp-content/uploads/2023/04/My-project-1-92.png
END:VEVENT
END:VCALENDAR