BEGIN:VCALENDAR
VERSION:2.0
PRODID:-//Pickaway County Visitors Bureau - ECPv6.15.20//NONSGML v1.0//EN
CALSCALE:GREGORIAN
METHOD:PUBLISH
X-WR-CALNAME:Pickaway County Visitors Bureau
X-ORIGINAL-URL:https://pickaway.com
X-WR-CALDESC:Events for Pickaway County Visitors Bureau
REFRESH-INTERVAL;VALUE=DURATION:PT1H
X-Robots-Tag:noindex
X-PUBLISHED-TTL:PT1H
BEGIN:VTIMEZONE
TZID:America/New_York
BEGIN:DAYLIGHT
TZOFFSETFROM:-0500
TZOFFSETTO:-0400
TZNAME:EDT
DTSTART:20240310T070000
END:DAYLIGHT
BEGIN:STANDARD
TZOFFSETFROM:-0400
TZOFFSETTO:-0500
TZNAME:EST
DTSTART:20241103T060000
END:STANDARD
BEGIN:DAYLIGHT
TZOFFSETFROM:-0500
TZOFFSETTO:-0400
TZNAME:EDT
DTSTART:20250309T070000
END:DAYLIGHT
BEGIN:STANDARD
TZOFFSETFROM:-0400
TZOFFSETTO:-0500
TZNAME:EST
DTSTART:20251102T060000
END:STANDARD
BEGIN:DAYLIGHT
TZOFFSETFROM:-0500
TZOFFSETTO:-0400
TZNAME:EDT
DTSTART:20260308T070000
END:DAYLIGHT
BEGIN:STANDARD
TZOFFSETFROM:-0400
TZOFFSETTO:-0500
TZNAME:EST
DTSTART:20261101T060000
END:STANDARD
END:VTIMEZONE
BEGIN:VEVENT
DTSTART;TZID=America/New_York:20251206T170000
DTEND;TZID=America/New_York:20251206T183000
DTSTAMP:20260421T022109
CREATED:20251201T141340Z
LAST-MODIFIED:20251201T141340Z
UID:117206-1765040400-1765045800@pickaway.com
SUMMARY:Williamsport Village Tree Lighting & Meet Santa Party
DESCRIPTION:Kick off the holiday season in Williamsport with an evening full of small-town Christmas fun. The Village will host its annual Tree Lighting & Meet Santa Party on Saturday\, December 6 at the Village Square and Gym. The celebration begins at 5:00 PM and features hot dogs\, cotton candy\, popcorn\, cookies\, hot cocoa\, and crafts for kids. Families can enjoy festive activities and meet Santa before gathering together for the official tree lighting at 6:00 PM.
URL:https://pickaway.com/event/williamsport-village-tree-lighting-meet-santa-party/
LOCATION:Williamsport Community Square\, 123 N School St\, Williamsport\, OH\, 43164\, United States
CATEGORIES:Festivals and Special Events,Community
ATTACH;FMTTYPE=image/png:https://pickaway.com/wp-content/uploads/2023/11/Untitled-design-59.png
END:VEVENT
END:VCALENDAR