BEGIN:VCALENDAR
VERSION:2.0
PRODID:-//Pickaway County Visitors Bureau - ECPv6.15.20//NONSGML v1.0//EN
CALSCALE:GREGORIAN
METHOD:PUBLISH
X-WR-CALNAME:Pickaway County Visitors Bureau
X-ORIGINAL-URL:https://pickaway.com
X-WR-CALDESC:Events for Pickaway County Visitors Bureau
REFRESH-INTERVAL;VALUE=DURATION:PT1H
X-Robots-Tag:noindex
X-PUBLISHED-TTL:PT1H
BEGIN:VTIMEZONE
TZID:America/New_York
BEGIN:DAYLIGHT
TZOFFSETFROM:-0500
TZOFFSETTO:-0400
TZNAME:EDT
DTSTART:20220313T070000
END:DAYLIGHT
BEGIN:STANDARD
TZOFFSETFROM:-0400
TZOFFSETTO:-0500
TZNAME:EST
DTSTART:20221106T060000
END:STANDARD
BEGIN:DAYLIGHT
TZOFFSETFROM:-0500
TZOFFSETTO:-0400
TZNAME:EDT
DTSTART:20230312T070000
END:DAYLIGHT
BEGIN:STANDARD
TZOFFSETFROM:-0400
TZOFFSETTO:-0500
TZNAME:EST
DTSTART:20231105T060000
END:STANDARD
BEGIN:DAYLIGHT
TZOFFSETFROM:-0500
TZOFFSETTO:-0400
TZNAME:EDT
DTSTART:20240310T070000
END:DAYLIGHT
BEGIN:STANDARD
TZOFFSETFROM:-0400
TZOFFSETTO:-0500
TZNAME:EST
DTSTART:20241103T060000
END:STANDARD
END:VTIMEZONE
BEGIN:VEVENT
DTSTART;TZID=America/New_York:20230606T130000
DTEND;TZID=America/New_York:20230606T140000
DTSTAMP:20260419T203616
CREATED:20230524T164037Z
LAST-MODIFIED:20230524T182557Z
UID:87905-1686056400-1686060000@pickaway.com
SUMMARY:Wholly Habitat with Alley Nature Park
DESCRIPTION:Part of the Pickaway County Library’s summer program series\, naturalists from Alley Park in Lancaster will present Wholly Habitat.  Children can learn about different habitats in Ohio\, see and touch a live animal from each habitat\, and participate in songs and lessons about the habitats. \nThis program will be repeated at 3PM on 6/6/23 at the Younkin Branch Library\, 51 Long Street\, Ashville. \nThank you to the Friends of the Library for sponsoring this program!
URL:https://pickaway.com/event/wholly-habitat-with-alley-nature-park/
LOCATION:Pickaway County Library\, 1160 North Court Street\, Circleville\, OH\, 43113\, United States
CATEGORIES:Children and Family Fun
ATTACH;FMTTYPE=image/jpeg:https://pickaway.com/wp-content/uploads/2023/05/June-6-skunk-2-small.jpg
END:VEVENT
END:VCALENDAR