BEGIN:VCALENDAR
VERSION:2.0
PRODID:-//Pickaway County Visitors Bureau - ECPv6.15.20//NONSGML v1.0//EN
CALSCALE:GREGORIAN
METHOD:PUBLISH
X-WR-CALNAME:Pickaway County Visitors Bureau
X-ORIGINAL-URL:https://pickaway.com
X-WR-CALDESC:Events for Pickaway County Visitors Bureau
REFRESH-INTERVAL;VALUE=DURATION:PT1H
X-Robots-Tag:noindex
X-PUBLISHED-TTL:PT1H
BEGIN:VTIMEZONE
TZID:America/New_York
BEGIN:DAYLIGHT
TZOFFSETFROM:-0500
TZOFFSETTO:-0400
TZNAME:EDT
DTSTART:20220313T070000
END:DAYLIGHT
BEGIN:STANDARD
TZOFFSETFROM:-0400
TZOFFSETTO:-0500
TZNAME:EST
DTSTART:20221106T060000
END:STANDARD
BEGIN:DAYLIGHT
TZOFFSETFROM:-0500
TZOFFSETTO:-0400
TZNAME:EDT
DTSTART:20230312T070000
END:DAYLIGHT
BEGIN:STANDARD
TZOFFSETFROM:-0400
TZOFFSETTO:-0500
TZNAME:EST
DTSTART:20231105T060000
END:STANDARD
BEGIN:DAYLIGHT
TZOFFSETFROM:-0500
TZOFFSETTO:-0400
TZNAME:EDT
DTSTART:20240310T070000
END:DAYLIGHT
BEGIN:STANDARD
TZOFFSETFROM:-0400
TZOFFSETTO:-0500
TZNAME:EST
DTSTART:20241103T060000
END:STANDARD
END:VTIMEZONE
BEGIN:VEVENT
DTSTART;TZID=America/New_York:20230625T130000
DTEND;TZID=America/New_York:20230625T160000
DTSTAMP:20260419T132305
CREATED:20230612T125010Z
LAST-MODIFIED:20230612T125010Z
UID:88051-1687698000-1687708800@pickaway.com
SUMMARY:Wedding Gowns Thru the Ages
DESCRIPTION:Step back in time to see over 30 wedding gowns that were worn by brides with Pickaway County connections. The gowns will range in date from the 1800s through the 2000s backdropped by one of the most historic homes in the area\, Mount Oval. \nIn the grand rooms of the home\, the dresses will be displayed for two weeks only\, Friday\, June 16th-1-4 pm Saturday\, June 17th-10-4 pm Friday\, June 23rd\, 1-4 pm Saturday\, June 24th\, 10-4 pm Sunday\, June 25th\, 1-4 pm Admission is $5.00 and payable at the door. No reservations are required.
URL:https://pickaway.com/event/wedding-gowns-thru-the-ages-5/
LOCATION:Mount Oval Historic House & Farm\, 3601 Emerson Rd\, Circleville\, OH\, 43113
CATEGORIES:Community,Miscellaneous
ATTACH;FMTTYPE=image/jpeg:https://pickaway.com/wp-content/uploads/2023/06/2-37.jpg
END:VEVENT
END:VCALENDAR