BEGIN:VCALENDAR
VERSION:2.0
PRODID:-//Pickaway County Visitors Bureau - ECPv6.15.20//NONSGML v1.0//EN
CALSCALE:GREGORIAN
METHOD:PUBLISH
X-WR-CALNAME:Pickaway County Visitors Bureau
X-ORIGINAL-URL:https://pickaway.com
X-WR-CALDESC:Events for Pickaway County Visitors Bureau
REFRESH-INTERVAL;VALUE=DURATION:PT1H
X-Robots-Tag:noindex
X-PUBLISHED-TTL:PT1H
BEGIN:VTIMEZONE
TZID:America/New_York
BEGIN:DAYLIGHT
TZOFFSETFROM:-0500
TZOFFSETTO:-0400
TZNAME:EDT
DTSTART:20240310T070000
END:DAYLIGHT
BEGIN:STANDARD
TZOFFSETFROM:-0400
TZOFFSETTO:-0500
TZNAME:EST
DTSTART:20241103T060000
END:STANDARD
BEGIN:DAYLIGHT
TZOFFSETFROM:-0500
TZOFFSETTO:-0400
TZNAME:EDT
DTSTART:20250309T070000
END:DAYLIGHT
BEGIN:STANDARD
TZOFFSETFROM:-0400
TZOFFSETTO:-0500
TZNAME:EST
DTSTART:20251102T060000
END:STANDARD
BEGIN:DAYLIGHT
TZOFFSETFROM:-0500
TZOFFSETTO:-0400
TZNAME:EDT
DTSTART:20260308T070000
END:DAYLIGHT
BEGIN:STANDARD
TZOFFSETFROM:-0400
TZOFFSETTO:-0500
TZNAME:EST
DTSTART:20261101T060000
END:STANDARD
END:VTIMEZONE
BEGIN:VEVENT
DTSTART;TZID=America/New_York:20251115T130000
DTEND;TZID=America/New_York:20251115T143000
DTSTAMP:20260422T045502
CREATED:20250819T033024Z
LAST-MODIFIED:20251022T221510Z
UID:109774-1763211600-1763217000@pickaway.com
SUMMARY:Tinctures & Glycerites: Crafting Herbal Extracts
DESCRIPTION:Learn how to make your own herbal remedies like tinctures and glycerites in this hands-on workshop for ages 8 and up!\n\n\nTinctures & Glycerites: Crafting Herbal Remedies for All Ages \nJoin us for a hands-on folk herbalism workshop designed to empower you to build your own modern home apothecary. In this session\, we’ll explore the art of making tinctures\, glycerites\, and infused vinegars—gentle yet powerful herbal preparations that can support wellness for people of all ages. \n \nWe’ll cover both alcohol-based tinctures and non-alcohol alternatives like glycerites and herbal vinegars—ideal for children\, the elderly\, or anyone seeking a different approach. Learn how these remedies live together under the canopy of tincturing traditions and how to use them with confidence & care. \n \nCost: $35 – Each participant will take home an 8oz herbal infusion. \nSecure your spot today on Eventbrite. \n \nFor questions\, please email mellis@pickawaycountyohio.gov. \n \nThe class will be held indoors at the District Headquarters in our accessible event room\, which features a paved parking lot\, access ramp\, and restrooms. An adult must accompany all children under 12.
URL:https://pickaway.com/event/tinctures-glycerites-crafting-herbal-extracts/
LOCATION:16405 US-23\, 16405 U.S. 23\, South Bloomfield\, OH\, 43103\, United States
CATEGORIES:Community
ATTACH;FMTTYPE=image/jpeg:https://pickaway.com/wp-content/uploads/2025/08/ae4f6a6ec44d0753ff4c619719b2cecf.jpg
END:VEVENT
END:VCALENDAR