BEGIN:VCALENDAR
VERSION:2.0
PRODID:-//Pickaway County Visitors Bureau - ECPv6.15.20//NONSGML v1.0//EN
CALSCALE:GREGORIAN
METHOD:PUBLISH
X-WR-CALNAME:Pickaway County Visitors Bureau
X-ORIGINAL-URL:https://pickaway.com
X-WR-CALDESC:Events for Pickaway County Visitors Bureau
REFRESH-INTERVAL;VALUE=DURATION:PT1H
X-Robots-Tag:noindex
X-PUBLISHED-TTL:PT1H
BEGIN:VTIMEZONE
TZID:America/New_York
BEGIN:DAYLIGHT
TZOFFSETFROM:-0500
TZOFFSETTO:-0400
TZNAME:EDT
DTSTART:20230312T070000
END:DAYLIGHT
BEGIN:STANDARD
TZOFFSETFROM:-0400
TZOFFSETTO:-0500
TZNAME:EST
DTSTART:20231105T060000
END:STANDARD
BEGIN:DAYLIGHT
TZOFFSETFROM:-0500
TZOFFSETTO:-0400
TZNAME:EDT
DTSTART:20240310T070000
END:DAYLIGHT
BEGIN:STANDARD
TZOFFSETFROM:-0400
TZOFFSETTO:-0500
TZNAME:EST
DTSTART:20241103T060000
END:STANDARD
BEGIN:DAYLIGHT
TZOFFSETFROM:-0500
TZOFFSETTO:-0400
TZNAME:EDT
DTSTART:20250309T070000
END:DAYLIGHT
BEGIN:STANDARD
TZOFFSETFROM:-0400
TZOFFSETTO:-0500
TZNAME:EST
DTSTART:20251102T060000
END:STANDARD
END:VTIMEZONE
BEGIN:VEVENT
DTSTART;TZID=America/New_York:20240330T110000
DTEND;TZID=America/New_York:20240330T123000
DTSTAMP:20260422T132854
CREATED:20240305T183251Z
LAST-MODIFIED:20240305T183251Z
UID:92212-1711796400-1711801800@pickaway.com
SUMMARY:Spring Ephemeral Flowers - Wildflower Hike and Exploration
DESCRIPTION:Family Friendly Park Program:\nJoin the Park District for a Spring Ephemerals hike. Registration is required. To register email mellis@pickawaycountyohio.gov\n\nProgram will be cancelled in the case of inclement weather. Please dress to be outside and for a hike. An adult must accompany all children under 12.\nWhen: Saturday\, March 30th\, 11:00am -12:30pm\nWhere: Park District Headquarters\, 16405 US-23\, South Bloomfield\, OH 43103\nFamily Friendly Park Program
URL:https://pickaway.com/event/spring-ephemeral-flowers-wildflower-hike-and-exploration/
LOCATION:Pickaway County Park District Headquarters\, 16405 US-23\, South Bloomfield\, 43103\, United States
CATEGORIES:Community,Hobbies,Children and Family Fun
ATTACH;FMTTYPE=image/png:https://pickaway.com/wp-content/uploads/2024/03/Untitled-design-2024-03-05T133215.595.png
END:VEVENT
END:VCALENDAR