BEGIN:VCALENDAR
VERSION:2.0
PRODID:-//Pickaway County Visitors Bureau - ECPv6.15.20//NONSGML v1.0//EN
CALSCALE:GREGORIAN
METHOD:PUBLISH
X-WR-CALNAME:Pickaway County Visitors Bureau
X-ORIGINAL-URL:https://pickaway.com
X-WR-CALDESC:Events for Pickaway County Visitors Bureau
REFRESH-INTERVAL;VALUE=DURATION:PT1H
X-Robots-Tag:noindex
X-PUBLISHED-TTL:PT1H
BEGIN:VTIMEZONE
TZID:America/New_York
BEGIN:DAYLIGHT
TZOFFSETFROM:-0500
TZOFFSETTO:-0400
TZNAME:EDT
DTSTART:20220313T070000
END:DAYLIGHT
BEGIN:STANDARD
TZOFFSETFROM:-0400
TZOFFSETTO:-0500
TZNAME:EST
DTSTART:20221106T060000
END:STANDARD
BEGIN:DAYLIGHT
TZOFFSETFROM:-0500
TZOFFSETTO:-0400
TZNAME:EDT
DTSTART:20230312T070000
END:DAYLIGHT
BEGIN:STANDARD
TZOFFSETFROM:-0400
TZOFFSETTO:-0500
TZNAME:EST
DTSTART:20231105T060000
END:STANDARD
BEGIN:DAYLIGHT
TZOFFSETFROM:-0500
TZOFFSETTO:-0400
TZNAME:EDT
DTSTART:20240310T070000
END:DAYLIGHT
BEGIN:STANDARD
TZOFFSETFROM:-0400
TZOFFSETTO:-0500
TZNAME:EST
DTSTART:20241103T060000
END:STANDARD
END:VTIMEZONE
BEGIN:VEVENT
DTSTART;TZID=America/New_York:20231202T120000
DTEND;TZID=America/New_York:20231202T160000
DTSTAMP:20260423T175859
CREATED:20231130T195121Z
LAST-MODIFIED:20231130T195121Z
UID:90101-1701518400-1701532800@pickaway.com
SUMMARY:Santa Photos at Ashville Chiropractic!
DESCRIPTION:Visit with Santa from noon to 4 pm!
URL:https://pickaway.com/event/santa-photos-at-ashville-chiropractic/
LOCATION:Ashville Chiropractic and Wellness Center\, 18 Long Street\, Ashville\, 43103\, United States
CATEGORIES:Festivals and Special Events,Children and Family Fun
ATTACH;FMTTYPE=image/png:https://pickaway.com/wp-content/uploads/2023/11/Untitled-design-78.png
END:VEVENT
END:VCALENDAR