BEGIN:VCALENDAR
VERSION:2.0
PRODID:-//Pickaway County Visitors Bureau - ECPv6.15.20//NONSGML v1.0//EN
CALSCALE:GREGORIAN
METHOD:PUBLISH
X-WR-CALNAME:Pickaway County Visitors Bureau
X-ORIGINAL-URL:https://pickaway.com
X-WR-CALDESC:Events for Pickaway County Visitors Bureau
REFRESH-INTERVAL;VALUE=DURATION:PT1H
X-Robots-Tag:noindex
X-PUBLISHED-TTL:PT1H
BEGIN:VTIMEZONE
TZID:America/New_York
BEGIN:DAYLIGHT
TZOFFSETFROM:-0500
TZOFFSETTO:-0400
TZNAME:EDT
DTSTART:20240310T070000
END:DAYLIGHT
BEGIN:STANDARD
TZOFFSETFROM:-0400
TZOFFSETTO:-0500
TZNAME:EST
DTSTART:20241103T060000
END:STANDARD
BEGIN:DAYLIGHT
TZOFFSETFROM:-0500
TZOFFSETTO:-0400
TZNAME:EDT
DTSTART:20250309T070000
END:DAYLIGHT
BEGIN:STANDARD
TZOFFSETFROM:-0400
TZOFFSETTO:-0500
TZNAME:EST
DTSTART:20251102T060000
END:STANDARD
BEGIN:DAYLIGHT
TZOFFSETFROM:-0500
TZOFFSETTO:-0400
TZNAME:EDT
DTSTART:20260308T070000
END:DAYLIGHT
BEGIN:STANDARD
TZOFFSETFROM:-0400
TZOFFSETTO:-0500
TZNAME:EST
DTSTART:20261101T060000
END:STANDARD
END:VTIMEZONE
BEGIN:VEVENT
DTSTART;TZID=America/New_York:20251203T180000
DTEND;TZID=America/New_York:20251203T180000
DTSTAMP:20260422T075442
CREATED:20251103T152517Z
LAST-MODIFIED:20251103T152517Z
UID:116184-1764784800-1764784800@pickaway.com
SUMMARY:Rustic Reindeer Evergreen Arrangement Workshop
DESCRIPTION:Add a touch of rustic charm to your holiday décor at Rhoads Garden Center’s Rustic Reindeer Workshop! Create a stunning evergreen arrangement in a unique metal reindeer container—perfect for your mantel\, entryway\, or holiday table. \nWorkshop Details:• $69.99 per person – includes all materials and expert instruction• Learn professional floral arranging techniques• Fresh evergreens\, berries\, and seasonal accents provided• Space is limited – early registration encouraged \nEnjoy a creative\, festive evening surrounded by the sights and scents of the holidays at one of Circleville’s favorite seasonal workshops.
URL:https://pickaway.com/event/rustic-reindeer-evergreen-arrangement-workshop/
LOCATION:Rhoads Garden Center\, 1051 St. Rt. 56 East\, Circleville\, OH\, 43113\, United States
ATTACH;FMTTYPE=image/jpeg:https://pickaway.com/wp-content/uploads/2022/09/istockphoto-487770994-612x612-1.jpg
END:VEVENT
END:VCALENDAR