BEGIN:VCALENDAR
VERSION:2.0
PRODID:-//Pickaway County Visitors Bureau - ECPv6.15.20//NONSGML v1.0//EN
CALSCALE:GREGORIAN
METHOD:PUBLISH
X-WR-CALNAME:Pickaway County Visitors Bureau
X-ORIGINAL-URL:https://pickaway.com
X-WR-CALDESC:Events for Pickaway County Visitors Bureau
REFRESH-INTERVAL;VALUE=DURATION:PT1H
X-Robots-Tag:noindex
X-PUBLISHED-TTL:PT1H
BEGIN:VTIMEZONE
TZID:America/New_York
BEGIN:DAYLIGHT
TZOFFSETFROM:-0500
TZOFFSETTO:-0400
TZNAME:EDT
DTSTART:20240310T070000
END:DAYLIGHT
BEGIN:STANDARD
TZOFFSETFROM:-0400
TZOFFSETTO:-0500
TZNAME:EST
DTSTART:20241103T060000
END:STANDARD
BEGIN:DAYLIGHT
TZOFFSETFROM:-0500
TZOFFSETTO:-0400
TZNAME:EDT
DTSTART:20250309T070000
END:DAYLIGHT
BEGIN:STANDARD
TZOFFSETFROM:-0400
TZOFFSETTO:-0500
TZNAME:EST
DTSTART:20251102T060000
END:STANDARD
BEGIN:DAYLIGHT
TZOFFSETFROM:-0500
TZOFFSETTO:-0400
TZNAME:EDT
DTSTART:20260308T070000
END:DAYLIGHT
BEGIN:STANDARD
TZOFFSETFROM:-0400
TZOFFSETTO:-0500
TZNAME:EST
DTSTART:20261101T060000
END:STANDARD
END:VTIMEZONE
BEGIN:VEVENT
DTSTART;TZID=America/New_York:20251206T083000
DTEND;TZID=America/New_York:20251206T150000
DTSTAMP:20260422T075303
CREATED:20250917T161745Z
LAST-MODIFIED:20250917T162643Z
UID:114202-1765009800-1765033200@pickaway.com
SUMMARY:Rhoads Winterfair
DESCRIPTION:Join us for our annual event of craft vendors\, jewelry makers\, hobbyists\, wine tastings\, desserts\, & more! A traditional shopping event for some holiday shopping\, morning coffee\, lunch and the event of the season.\n* $5 VIP entry includes a raffle ticket – 8:30-9:30am. (No need to print a paper ticket. We will just check you in by name)\n*FREE entry 9:30-3pm
URL:https://pickaway.com/event/rhoads-winterfair-2/
LOCATION:Rhoads Garden Center\, 1051 St. Rt. 56 East\, Circleville\, OH\, 43113\, United States
CATEGORIES:Family,Festivals and Special Events,Community,Children and Family Fun
ATTACH;FMTTYPE=image/jpeg:https://pickaway.com/wp-content/uploads/2025/09/Wreath-scaled-e1758126369901.jpg
END:VEVENT
END:VCALENDAR